BEGIN:VCALENDAR
VERSION:2.0
PRODID:-//Discover Detroit Art - ECPv6.0.1//NONSGML v1.0//EN
CALSCALE:GREGORIAN
METHOD:PUBLISH
X-WR-CALNAME:Discover Detroit Art
X-ORIGINAL-URL:https://detroitartdao.com
X-WR-CALDESC:Events for Discover Detroit Art
REFRESH-INTERVAL;VALUE=DURATION:PT1H
X-Robots-Tag:noindex
X-PUBLISHED-TTL:PT1H
BEGIN:VTIMEZONE
TZID:America/Detroit
BEGIN:DAYLIGHT
TZOFFSETFROM:-0500
TZOFFSETTO:-0400
TZNAME:EDT
DTSTART:20260308T070000
END:DAYLIGHT
BEGIN:STANDARD
TZOFFSETFROM:-0400
TZOFFSETTO:-0500
TZNAME:EST
DTSTART:20261101T060000
END:STANDARD
END:VTIMEZONE
BEGIN:VEVENT
DTSTART;TZID=America/Detroit:20260418T200000
DTEND;TZID=America/Detroit:20260419T020000
DTSTAMP:20260419T103456
CREATED:20260418T153136Z
LAST-MODIFIED:20260418T153138Z
UID:10017690-1776542400-1776564000@detroitartdao.com
SUMMARY:Live Jazz
DESCRIPTION:
URL:https://detroitartdao.com/event/live-jazz-11
LOCATION:MotorCity Wine\, 1949 Michigan Avenue\, Detroit\, MI\, 48216
CATEGORIES:TheDetroitILove
GEO:42.3311806;-83.0730097
X-APPLE-STRUCTURED-LOCATION;VALUE=URI;X-ADDRESS=MotorCity Wine 1949 Michigan Avenue Detroit MI 48216;X-APPLE-RADIUS=500;X-TITLE=1949 Michigan Avenue:geo:-83.0730097,42.3311806
END:VEVENT
BEGIN:VEVENT
DTSTART;TZID=America/Detroit:20260418T210000
DTEND;TZID=America/Detroit:20260419T020000
DTSTAMP:20260419T103456
CREATED:20260418T153139Z
LAST-MODIFIED:20260418T153140Z
UID:10017692-1776546000-1776564000@detroitartdao.com
SUMMARY:DJ Skeez
DESCRIPTION:
URL:https://detroitartdao.com/event/dj-skeez
LOCATION:Cannons\, 15421 Mack Avenue\, Detroit\, MI\, 48224
CATEGORIES:TheDetroitILove
GEO:42.3884823;-82.9423389
X-APPLE-STRUCTURED-LOCATION;VALUE=URI;X-ADDRESS=Cannons 15421 Mack Avenue Detroit MI 48224;X-APPLE-RADIUS=500;X-TITLE=15421 Mack Avenue:geo:-82.9423389,42.3884823
END:VEVENT
BEGIN:VEVENT
DTSTART;TZID=America/Detroit:20260418T210000
DTEND;TZID=America/Detroit:20260419T030000
DTSTAMP:20260419T103456
CREATED:20260418T153138Z
LAST-MODIFIED:20260418T153139Z
UID:10017691-1776546000-1776567600@detroitartdao.com
SUMMARY:Haute to Death
DESCRIPTION:
URL:https://detroitartdao.com/event/haute-to-death-24
LOCATION:Marble Bar\, 1501 Holden Street\, Detroit\, MI\, 48208
CATEGORIES:TheDetroitILove
GEO:42.3630305;-83.0851869
X-APPLE-STRUCTURED-LOCATION;VALUE=URI;X-ADDRESS=Marble Bar 1501 Holden Street Detroit MI 48208;X-APPLE-RADIUS=500;X-TITLE=1501 Holden Street:geo:-83.0851869,42.3630305
END:VEVENT
BEGIN:VEVENT
DTSTART;TZID=America/Detroit:20260418T220000
DTEND;TZID=America/Detroit:20260419T020000
DTSTAMP:20260419T103456
CREATED:20260412T011648Z
LAST-MODIFIED:20260419T011635Z
UID:10017607-1776549600-1776564000@detroitartdao.com
SUMMARY:A DJ GoodB.O.I. Exclusive
DESCRIPTION:Saturday\, April 18th\, Dj GoodB.O.I. is bringing The Exclusive vibes to The Norwood!\n\n\nSaturday\, April 18th\, Dj GoodB.O.I. is bringing The Exclusive vibes to The Norwood! \nThe producer that created “Work”\, “Freak Me”\, “We on the Lodge With It” & more\, is giving you a night to remember. \nFeaturing exclusive Rap\, Techno\, Dance\, Top 40\, Mash-Up tracks and more\, + a guest set from Derty Dancer. \nDancing is highly encouraged so bring your energy! Let’s take it back to the GOOD times. \nDoors open at 10pm. Free Entry tickets available while they last. Cost is higher at the door.
URL:https://detroitartdao.com/event/dj-goodb-o-i-exclusive
LOCATION:The Norwood\, 6531 Woodward Avenue\, Detroit\, MI\, 48202\, United States
ATTACH;FMTTYPE=image/jpeg:https://dpop.nyc3.digitaloceanspaces.com/wp-content/uploads/2026/04/18211639/fce00f3725a0b1dce5520b1ae2fe17fd-1.jpg
GEO:42.3694879;-83.073206
X-APPLE-STRUCTURED-LOCATION;VALUE=URI;X-ADDRESS=The Norwood 6531 Woodward Avenue Detroit MI 48202 United States;X-APPLE-RADIUS=500;X-TITLE=6531 Woodward Avenue:geo:-83.073206,42.3694879
END:VEVENT
BEGIN:VEVENT
DTSTART;TZID=America/Detroit:20260418T220000
DTEND;TZID=America/Detroit:20260419T020000
DTSTAMP:20260419T103456
CREATED:20260418T153139Z
LAST-MODIFIED:20260418T153141Z
UID:10017693-1776549600-1776564000@detroitartdao.com
SUMMARY:New Dawn
DESCRIPTION:
URL:https://detroitartdao.com/event/new-dawn
LOCATION:Big Pink\, 6440 Wight Street\, Detroit\, MI
CATEGORIES:TheDetroitILove
GEO:42.3423259;-83.0073267
X-APPLE-STRUCTURED-LOCATION;VALUE=URI;X-ADDRESS=Big Pink 6440 Wight Street Detroit MI;X-APPLE-RADIUS=500;X-TITLE=6440 Wight Street:geo:-83.0073267,42.3423259
END:VEVENT
BEGIN:VEVENT
DTSTART;TZID=America/Detroit:20260418T220000
DTEND;TZID=America/Detroit:20260419T020000
DTSTAMP:20260419T103456
CREATED:20260418T153141Z
LAST-MODIFIED:20260418T153143Z
UID:10017695-1776549600-1776564000@detroitartdao.com
SUMMARY:Ryan Spencer + Ladylike
DESCRIPTION:
URL:https://detroitartdao.com/event/ryan-spencer-ladylike
LOCATION:UFO Bar\, 2110 Trumbull Street\, Detroit\, MI\, 48216
CATEGORIES:TheDetroitILove
GEO:42.3321892;-83.0669471
X-APPLE-STRUCTURED-LOCATION;VALUE=URI;X-ADDRESS=UFO Bar 2110 Trumbull Street Detroit MI 48216;X-APPLE-RADIUS=500;X-TITLE=2110 Trumbull Street:geo:-83.0669471,42.3321892
END:VEVENT
BEGIN:VEVENT
DTSTART;TZID=America/Detroit:20260418T220000
DTEND;TZID=America/Detroit:20260419T030000
DTSTAMP:20260419T103456
CREATED:20260418T153142Z
LAST-MODIFIED:20260418T153144Z
UID:10017696-1776549600-1776567600@detroitartdao.com
SUMMARY:Terms & Conditions
DESCRIPTION:
URL:https://detroitartdao.com/event/terms-conditions
LOCATION:SPKR BOX\, 200 Grand River Avenue\, Detroit\, MI\, 48226\, United States
CATEGORIES:TheDetroitILove
GEO:42.3337987;-83.0499187
X-APPLE-STRUCTURED-LOCATION;VALUE=URI;X-ADDRESS=SPKR BOX 200 Grand River Avenue Detroit MI 48226 United States;X-APPLE-RADIUS=500;X-TITLE=200 Grand River Avenue:geo:-83.0499187,42.3337987
END:VEVENT
BEGIN:VEVENT
DTSTART;TZID=America/Detroit:20260418T220000
DTEND;TZID=America/Detroit:20260419T060000
DTSTAMP:20260419T103456
CREATED:20260418T153140Z
LAST-MODIFIED:20260418T153142Z
UID:10017694-1776549600-1776578400@detroitartdao.com
SUMMARY:Visions
DESCRIPTION:
URL:https://detroitartdao.com/event/visions
LOCATION:Lincoln Factory\, 1331 Holden Street\, Detroit\, MI\, 48202
CATEGORIES:TheDetroitILove
GEO:42.3626399;-83.0819244
X-APPLE-STRUCTURED-LOCATION;VALUE=URI;X-ADDRESS=Lincoln Factory 1331 Holden Street Detroit MI 48202;X-APPLE-RADIUS=500;X-TITLE=1331 Holden Street:geo:-83.0819244,42.3626399
END:VEVENT
BEGIN:VEVENT
DTSTART;TZID=America/Detroit:20260418T230000
DTEND;TZID=America/Detroit:20260419T050000
DTSTAMP:20260419T103456
CREATED:20260418T153143Z
LAST-MODIFIED:20260418T153146Z
UID:10017698-1776553200-1776574800@detroitartdao.com
SUMMARY:TOP2BTTM
DESCRIPTION:
URL:https://detroitartdao.com/event/top2bttm
LOCATION:The Eagle Detroit\, 928 West McNichols Road\, Detroit\, MI\, 48203
CATEGORIES:TheDetroitILove
GEO:42.4178367;-83.1153867
X-APPLE-STRUCTURED-LOCATION;VALUE=URI;X-ADDRESS=The Eagle Detroit 928 West McNichols Road Detroit MI 48203;X-APPLE-RADIUS=500;X-TITLE=928 West McNichols Road:geo:-83.1153867,42.4178367
END:VEVENT
BEGIN:VEVENT
DTSTART;TZID=America/Detroit:20260418T230000
DTEND;TZID=America/Detroit:20260419T070000
DTSTAMP:20260419T103456
CREATED:20260418T153143Z
LAST-MODIFIED:20260418T153145Z
UID:10017697-1776553200-1776582000@detroitartdao.com
SUMMARY:Orbit
DESCRIPTION:
URL:https://detroitartdao.com/event/orbit
LOCATION:Secret Location
CATEGORIES:TheDetroitILove
END:VEVENT
BEGIN:VEVENT
DTSTART;TZID=America/Detroit:20260418T235900
DTEND;TZID=America/Detroit:20260419T040000
DTSTAMP:20260419T103456
CREATED:20260418T153147Z
LAST-MODIFIED:20260418T153147Z
UID:10017699-1776556740-1776571200@detroitartdao.com
SUMMARY:Eddie + Norm
DESCRIPTION:
URL:https://detroitartdao.com/event/eddie-norm
LOCATION:Lincoln Factory\, 1331 Holden Street\, Detroit\, MI\, 48202
CATEGORIES:TheDetroitILove
GEO:42.3626399;-83.0819244
X-APPLE-STRUCTURED-LOCATION;VALUE=URI;X-ADDRESS=Lincoln Factory 1331 Holden Street Detroit MI 48202;X-APPLE-RADIUS=500;X-TITLE=1331 Holden Street:geo:-83.0819244,42.3626399
END:VEVENT
BEGIN:VEVENT
DTSTART;VALUE=DATE:20260419
DTEND;VALUE=DATE:20260420
DTSTAMP:20260419T103456
CREATED:20260411T173204Z
LAST-MODIFIED:20260418T180155Z
UID:10017559-1776556800-1776643199@detroitartdao.com
SUMMARY:Pickleball at Beacon Park
DESCRIPTION:Get ready to rally—pickleball is back at Beacon Park and bigger than ever. Now entering its second year\, this high-energy\, fast-growing sport continues to sweep cities across the country\, bringing together players of all ages and skill levels. Set against the vibrant backdrop of downtown Detroit\, Beacon Park offers the perfect venue to jump into the action and experience the excitement of the game. \nBest of all\, open play is completely free\, making it easy to grab a paddle and join in whenever the mood strikes. Whether you’re discovering pickleball for the first time or sharpening your competitive edge\, our welcoming courts are designed for fun\, connection\, and friendly competition in the heart of the city. \nThroughout the season\, Beacon Park and the Downtown Detroit Partnership in collaboration with Come Play Detroit and Parking Lot Pickleball will host open play sessions\, organized leagues\, and thrilling tournaments that keep the energy high and the community growing. Come play\, cheer\, and connect—pickleball at Beacon Park is your invitation to get active\, meet new people\, and be part of one of Detroit’s most dynamic outdoor experiences. \nPlease note\, those who want to enjoy open play will need to bring their own paddles and balls. \nOpen Play: When not in use for leagues\, the courts will be available for the public to enjoy from 6 a.m. – 10 p.m. \nLeagues and Tournaments: \nWeekday Leagues: Monday – Friday: 6 – 9:30 p.m. \nMonthly Tournaments:\nSaturday\, April 26: 10 a.m. – 2 p.m.\nSaturday\, May 16: 10 a.m. – 2 p.m.\nSaturday\, June 13: 10 a.m. – 2 p.m. \nLeagues have limited-slots\, so sign up NOW to secure your spot and join the fun: BeaconPark – Come Play Detroit. \nPickleball at Beacon Park is made possible by the DTE Beacon Park Foundation\, in partnership with Parking Lot Pickleball and Come Play Detroit\, and is proudly produced by the Downtown Detroit Partnership. \nEnjoy refreshments from Lumen Detroit\, conveniently located on-site\, offering beer\, water and food to keep you fueled throughout the event. \nFor more information about Beacon Park and Lumen restaurant please visit: \nwww.DTEBeaconPark.com or www.LumenDetroit.com
URL:https://detroitartdao.com/event/pickleball-at-beacon-park-62
LOCATION:Beacon Park\, 1901 Grand River Ave\, Detroit\, MI\, 48226\, United States
CATEGORIES:Beacon Park,Community Events,Park Events
ATTACH;FMTTYPE=image/jpeg:https://dpop.nyc3.digitaloceanspaces.com/wp-content/uploads/2025/04/21153159/nali_bp_pb-65-scaled-6BGM71.tmp_.jpg
GEO:42.3345108;-83.054971
X-APPLE-STRUCTURED-LOCATION;VALUE=URI;X-ADDRESS=Beacon Park 1901 Grand River Ave Detroit MI 48226 United States;X-APPLE-RADIUS=500;X-TITLE=1901 Grand River Ave:geo:-83.054971,42.3345108
END:VEVENT
END:VCALENDAR