BEGIN:VCALENDAR
VERSION:2.0
PRODID:-//Discover Detroit Art - ECPv6.0.1//NONSGML v1.0//EN
CALSCALE:GREGORIAN
METHOD:PUBLISH
X-WR-CALNAME:Discover Detroit Art
X-ORIGINAL-URL:https://detroitartdao.com
X-WR-CALDESC:Events for Discover Detroit Art
REFRESH-INTERVAL;VALUE=DURATION:PT1H
X-Robots-Tag:noindex
X-PUBLISHED-TTL:PT1H
BEGIN:VTIMEZONE
TZID:America/Detroit
BEGIN:DAYLIGHT
TZOFFSETFROM:-0500
TZOFFSETTO:-0400
TZNAME:EDT
DTSTART:20260308T070000
END:DAYLIGHT
BEGIN:STANDARD
TZOFFSETFROM:-0400
TZOFFSETTO:-0500
TZNAME:EST
DTSTART:20261101T060000
END:STANDARD
END:VTIMEZONE
BEGIN:VEVENT
DTSTART;TZID=America/Detroit:20260420T190000
DTEND;TZID=America/Detroit:20260421T020000
DTSTAMP:20260421T014026
CREATED:20260323T154647Z
LAST-MODIFIED:20260420T154637Z
UID:10017314-1776711600-1776736800@detroitartdao.com
SUMMARY:Monday Is The New Monday
DESCRIPTION:
URL:https://detroitartdao.com/event/monday-is-the-new-monday-30
LOCATION:MotorCity Wine\, 1949 Michigan Avenue\, Detroit\, MI\, 48216
CATEGORIES:TheDetroitILove
GEO:42.3311806;-83.0730097
X-APPLE-STRUCTURED-LOCATION;VALUE=URI;X-ADDRESS=MotorCity Wine 1949 Michigan Avenue Detroit MI 48216;X-APPLE-RADIUS=500;X-TITLE=1949 Michigan Avenue:geo:-83.0730097,42.3311806
END:VEVENT
BEGIN:VEVENT
DTSTART;TZID=America/Detroit:20260420T220000
DTEND;TZID=America/Detroit:20260421T020000
DTSTAMP:20260421T014026
CREATED:20260321T154719Z
LAST-MODIFIED:20260420T154638Z
UID:10017297-1776722400-1776736800@detroitartdao.com
SUMMARY:Slow Jams
DESCRIPTION:
URL:https://detroitartdao.com/event/slow-jams-24
LOCATION:Woodbridge Pub\, 5169 Trumbull Street\, Detroit\, MI\, 48208
CATEGORIES:TheDetroitILove
GEO:42.3540344;-83.0801597
X-APPLE-STRUCTURED-LOCATION;VALUE=URI;X-ADDRESS=Woodbridge Pub 5169 Trumbull Street Detroit MI 48208;X-APPLE-RADIUS=500;X-TITLE=5169 Trumbull Street:geo:-83.0801597,42.3540344
END:VEVENT
BEGIN:VEVENT
DTSTART;TZID=America/Detroit:20260421T110000
DTEND;TZID=America/Detroit:20260421T150000
DTSTAMP:20260421T014026
CREATED:20260331T111653Z
LAST-MODIFIED:20260420T181641Z
UID:10017434-1776769200-1776783600@detroitartdao.com
SUMMARY:Downtown Street Eats
DESCRIPTION:Michigan’s largest weekly food truck rally\, Downtown Street Eats\, is back for its 14th season in the heart of Downtown Detroit. \nHead to Cadillac Square weekdays from 11 a.m. to 3 p.m. to enjoy a rotating lineup of food trucks and carts serving returning favorites and new culinary finds that are perfect for a quick and delicious lunch break. \nWhether you work downtown or are visiting for the day\, it’s an easy way to explore a wide range of local flavors in one place. Come hungry and discover something new all season long. \nApril 21 Food Truck Lineup:\n–Los Dos Amigo’s Taco Truck \n–Hero or Villain \n–Little Bite Big Taste \n–Tru Pizza Co. \n-Unity Catering \n–Wing Snob
URL:https://detroitartdao.com/event/downtown-street-eats-268
LOCATION:Cadillac Square\, 662 Woodward Ave\, Detroit\, MI\, 48226\, United States
CATEGORIES:Cadillac Square,Food Truck,Park Events
GEO:42.331269;-83.0458993
X-APPLE-STRUCTURED-LOCATION;VALUE=URI;X-ADDRESS=Cadillac Square 662 Woodward Ave Detroit MI 48226 United States;X-APPLE-RADIUS=500;X-TITLE=662 Woodward Ave:geo:-83.0458993,42.331269
END:VEVENT
BEGIN:VEVENT
DTSTART;TZID=America/Detroit:20260421T170000
DTEND;TZID=America/Detroit:20260421T200000
DTSTAMP:20260421T014026
CREATED:20260323T134646Z
LAST-MODIFIED:20260420T164634Z
UID:10017309-1776790800-1776801600@detroitartdao.com
SUMMARY:Comerica Hatch Detroit Contest Top 10 Reveal
DESCRIPTION:The moment we’ve all been waiting for is here! After a rigorous selection process\, the Top 10 semifinalists of the 2026 Comerica Hatch Detroit Contest by TechTown will be announced. Join us to be the first to meet the contestants! \nPURCHASE TICKETS HERE \nDoors at 5 p.m. | 5:30 – 6 p.m. | Sneak Peek Meet & Greet Happy Hour \nThis talk show-style fireside chat is your chance to meet the Top 10 semifinalists and ask questions about their business: how and why they got started\, where and why they want to be in your neighborhood\, and what it would mean if they win. \nNote: Seating capacity is limited. The Meet\, Mix & Mingle Open House will immediately follow. \n6:15 – 8 p.m. | Meet\, Mix & Mingle Open House \nMix and mingle with the Top 10 semifinalists and learn about their businesses. Stop by the Open House anytime; come as you are and bring the whole family! \nDetails \nTickets are $20 and include complimentary drinks and small bites from Hatch Detroit alumni businesses. A donation with your ticket purchase will help provide dedicated support to Hatch alumni as they continue their entrepreneurial journey of opening a storefront. \nPURCHASE TICKETS HERE \n\nABOUT THE CONTEST \nThe Comerica Hatch Detroit Contest by TechTown is a retail competition that gives savvy entrepreneurs the chance to win a $100\,000 cash grant and a package of in-kind services to open up their brick-and-mortar storefront in Detroit\, Hamtramck\, or Highland Park. \nThe Comerica Hatch Detroit Contest by TechTown is supported by Comerica\, EY\, and Goldman Sachs 10\,000 Small Businesses. \nLearn more at hatchdetroit.com. \nSign up to receive Hatch Detroit emails and stay in the loop about the contest\, alumni and more!
URL:https://detroitartdao.com/event/comerica-hatch-detroit-contest-top-10-reveal-2
LOCATION:TechTown Detroit\, 440 Burroughs Street\, Detroit\, MI\, 48202\, United States
ATTACH;FMTTYPE=image/png:https://dpop.nyc3.digitaloceanspaces.com/wp-content/uploads/2026/01/23023327/HatchDetroit-BLUE-scaled-tPBGof.tmp_.png
ORGANIZER;CN="TechTown%20Detroit":MAILTO:marketing@techtowndetroit.org
GEO:42.3650544;-83.0730212
X-APPLE-STRUCTURED-LOCATION;VALUE=URI;X-ADDRESS=TechTown Detroit 440 Burroughs Street Detroit MI 48202 United States;X-APPLE-RADIUS=500;X-TITLE=440 Burroughs Street:geo:-83.0730212,42.3650544
END:VEVENT
BEGIN:VEVENT
DTSTART;TZID=America/Detroit:20260421T190000
DTEND;TZID=America/Detroit:20260421T220000
DTSTAMP:20260421T014026
CREATED:20260408T173234Z
LAST-MODIFIED:20260420T154639Z
UID:10017543-1776798000-1776808800@detroitartdao.com
SUMMARY:In Transit
DESCRIPTION:
URL:https://detroitartdao.com/event/in-transit-27
LOCATION:Northern Lights\, 660 W Baltimore Street\, Detroit\, MI\, 48202
CATEGORIES:TheDetroitILove
GEO:42.3668984;-83.0766966
X-APPLE-STRUCTURED-LOCATION;VALUE=URI;X-ADDRESS=Northern Lights 660 W Baltimore Street Detroit MI 48202;X-APPLE-RADIUS=500;X-TITLE=660 W Baltimore Street:geo:-83.0766966,42.3668984
END:VEVENT
END:VCALENDAR