BEGIN:VCALENDAR
VERSION:2.0
PRODID:-//Discover Detroit Art - ECPv6.0.1//NONSGML v1.0//EN
CALSCALE:GREGORIAN
METHOD:PUBLISH
X-ORIGINAL-URL:https://detroitartdao.com
X-WR-CALDESC:Events for Discover Detroit Art
REFRESH-INTERVAL;VALUE=DURATION:PT1H
X-Robots-Tag:noindex
X-PUBLISHED-TTL:PT1H
BEGIN:VTIMEZONE
TZID:America/Detroit
BEGIN:DAYLIGHT
TZOFFSETFROM:-0500
TZOFFSETTO:-0400
TZNAME:EDT
DTSTART:20250309T070000
END:DAYLIGHT
BEGIN:STANDARD
TZOFFSETFROM:-0400
TZOFFSETTO:-0500
TZNAME:EST
DTSTART:20251102T060000
END:STANDARD
END:VTIMEZONE
BEGIN:VEVENT
DTSTART;TZID=America/Detroit:20250926T190000
DTEND;TZID=America/Detroit:20250926T220000
DTSTAMP:20260422T182343
CREATED:20250827T060133Z
LAST-MODIFIED:20250909T064630Z
UID:10014920-1758913200-1758924000@detroitartdao.com
SUMMARY:The Easel People present "Recess" Opening Reception
DESCRIPTION:“Recess” is a multidisciplinary exhibition presented by Easel People: Christopher Rogers\, Elliott Rogers\, and Yusuf D. A. Lateef.\n\n\n“Recess” is a multidisciplinary exhibition presented by Easel People: Christopher Rogers\, Elliott Rogers\, and Yusuf D. A. Lateef\, that invites audiences to take a break from the routine. Recess invites you to treat creativity as an exhale\, a healing necessity for the human spirit. \n \nRecess\, in the context of life\, refers to a period of temporary withdrawal from usual work or activities. It’s an interruption from the ordinary and a chance to engage in activities that are not directly related to one’s obligations. Easel People is a Detroit–Toledo based artist collective blending visual art\, sustainable design\, and a deep commitment to community well-being. \n \nOpening Reception\, August 29th 7-10PM \nOn view through Friday\, September 5th \nClosing Reception\, 7-10PM \n \nABOUT THE ARTISTS \n \nChristopher Rogers is a Detroit-based artist whose work bridges art\, mental health\, and industrial design. Drawing from experience in behavioral health\, pattern making\, and over a decade in industrial sewing\, he creates with materials ranging from ash and wood to paint and mixed media\, fostering a more intentional way of seeing and experiencing the world. \n \nElliott Rogers is an Ohio-based artist working at the intersection of craftsmanship and urban aesthetics. With roots in auto painting\, construction\, and graffiti\, his mixed-media works combine industrial materials with refined surface treatments. His projects include The Quest for Fire Studios at the Toledo Museum of Art Community Gallery and costume design for Royal Caribbean. His installations explore the balance between structure and spontaneity\, creating immersive experiences for viewers. \n \nYusuf Dubois Abdul Lateef is a Toledo-based artist\, educator\, and co-founder of Radiant City Arts and the Toledo Black Artist Coalition. For over a decade\, he has developed arts programming for juvenile detention centers and public spaces\, using art as a tool for healing\, problem-solving\, and community building. Holding a Master’s in 2D Studies and Social Engagement from Bowling Green State University\, where now he is a professor in the School of Art continuing collaborative projects in the U.S. and abroad. See less
URL:https://detroitartdao.com/event/the-easel-people-present-recess-opening-reception
LOCATION:PLAYGROUND DETROIT Gallery\, 2845 Gratiot Avenue\, Detroit\, MI\, 48207\, United States
CATEGORIES:Art
ATTACH;FMTTYPE=image/jpeg:https://dpop.nyc3.digitaloceanspaces.com/wp-content/uploads/2025/08/27020140/5d2a20efa3a88ea98d2bd73f3daf90a6-1.jpg
GEO:42.355062;-83.0307461
X-APPLE-STRUCTURED-LOCATION;VALUE=URI;X-ADDRESS=PLAYGROUND DETROIT Gallery 2845 Gratiot Avenue Detroit MI 48207 United States;X-APPLE-RADIUS=500;X-TITLE=2845 Gratiot Avenue:geo:-83.0307461,42.355062
END:VEVENT
END:VCALENDAR