BEGIN:VCALENDAR
VERSION:2.0
PRODID:-//Discover Detroit Art - ECPv6.0.1//NONSGML v1.0//EN
CALSCALE:GREGORIAN
METHOD:PUBLISH
X-ORIGINAL-URL:https://detroitartdao.com
X-WR-CALDESC:Events for Discover Detroit Art
REFRESH-INTERVAL;VALUE=DURATION:PT1H
X-Robots-Tag:noindex
X-PUBLISHED-TTL:PT1H
BEGIN:VTIMEZONE
TZID:America/Detroit
BEGIN:DAYLIGHT
TZOFFSETFROM:-0500
TZOFFSETTO:-0400
TZNAME:EDT
DTSTART:20250309T070000
END:DAYLIGHT
BEGIN:STANDARD
TZOFFSETFROM:-0400
TZOFFSETTO:-0500
TZNAME:EST
DTSTART:20251102T060000
END:STANDARD
END:VTIMEZONE
BEGIN:VEVENT
DTSTART;TZID=America/Detroit:20251003T060000
DTEND;TZID=America/Detroit:20251003T220000
DTSTAMP:20260424T135822
CREATED:20250903T173159Z
LAST-MODIFIED:20251003T114644Z
UID:10015072-1759471200-1759528800@detroitartdao.com
SUMMARY:Shape Your World: Beacon Park Interactive Experience ft. Optik Installation
DESCRIPTION:Uncover your own perspective and dive deeper into how you shape the world and the environment we all share. With a venue theme of “Light\, Energy and Motion” and an approach rooted in functional design\, environmental responsibility\, public accessibility and community\, DTE Energy’s Beacon Park is proud to host the Optik installation during 2025 Detroit Month of Design. Curated by the Downtown Detroit Partnership\, the experience highlights the ongoing commitment to bring creativity and community to Downtown Detroit. \nFrom September 3 – October 5\, 2025\, from 6 a.m. – 10 p.m.\, Beacon Park will transform into a vibrant space filled with lights\, abstract sounds\, melodic music and curated cocktails and mocktails by Lumen Detroit\, all in an open-air setting\, designed to create a one-of-a-kind experience for Downtown Detroit visitors and design enthusiasts.  Optik is an interactive installation that invites individuals to play with their surroundings and discover new perspectives on everyday environments. The installation features ten gyroscope-like structures\, each standing six feet (1.8 meters) tall. At the center of each structure is a dichroic film that reflects sunlight during the day and refracts the inner ring’s lighting at dusk\, creating a constantly shifting display of color and light. As the audience rotates each unit\, they create their own endless cascade of colors. The experience is amplified as sound joins the movement\, turning each unit into a different musical instrument. \nThrough movement and reflection of light\, each of these colorful units encourages the public to engage with another unit and other people within the space\, sparking spontaneous conversations\, dance parties\, jam sessions\, light shows\, and to finally see each and every one’s true color.  Optik transports people away from their daily routine and into a state of play. It is no longer just a photogenic monument within a space; it becomes a communal hub for social connection.
URL:https://detroitartdao.com/event/shape-your-world-beacon-park-interactive-experience-ft-optik-installation-31
LOCATION:Beacon Park\, 1901 Grand River Ave\, Detroit\, MI\, 48226\, United States
CATEGORIES:Beacon Park,Community Events,Free Event,Park Events
ATTACH;FMTTYPE=image/png:https://dpop.nyc3.digitaloceanspaces.com/wp-content/uploads/2025/08/27122007/OPTIK-Image-O7WOqt.tmp_.png
GEO:42.3345108;-83.054971
X-APPLE-STRUCTURED-LOCATION;VALUE=URI;X-ADDRESS=Beacon Park 1901 Grand River Ave Detroit MI 48226 United States;X-APPLE-RADIUS=500;X-TITLE=1901 Grand River Ave:geo:-83.054971,42.3345108
END:VEVENT
END:VCALENDAR