BEGIN:VCALENDAR
VERSION:2.0
PRODID:-//Discover Detroit Art - ECPv6.0.1//NONSGML v1.0//EN
CALSCALE:GREGORIAN
METHOD:PUBLISH
X-ORIGINAL-URL:https://detroitartdao.com
X-WR-CALDESC:Events for Discover Detroit Art
REFRESH-INTERVAL;VALUE=DURATION:PT1H
X-Robots-Tag:noindex
X-PUBLISHED-TTL:PT1H
BEGIN:VTIMEZONE
TZID:America/Detroit
BEGIN:DAYLIGHT
TZOFFSETFROM:-0500
TZOFFSETTO:-0400
TZNAME:EDT
DTSTART:20250309T070000
END:DAYLIGHT
BEGIN:STANDARD
TZOFFSETFROM:-0400
TZOFFSETTO:-0500
TZNAME:EST
DTSTART:20251102T060000
END:STANDARD
END:VTIMEZONE
BEGIN:VEVENT
DTSTART;TZID=America/Detroit:20251011T130000
DTEND;TZID=America/Detroit:20251019T170000
DTSTAMP:20260424T125820
CREATED:20250928T111748Z
LAST-MODIFIED:20250930T113158Z
UID:10015402-1760187600-1760893200@detroitartdao.com
SUMMARY:Cider In The City at Beacon Park 2025
DESCRIPTION:Autumn’s calling and all the fall-time fun of a cider mill returns to Downtown Detroit for Beacon Park’s annual Cider in the City! This seasonal fall festival will feature city views\, parkside dining\, live music\, family activities\, an open-air tent and exciting food options\, including fresh hot cider\, pumpkins\, tasty caramel apples and more courtesy of Blake’s Farms. Additional dining options include Food trucks\, which will be onsite\, and Lumen Detroit\, the park’s flagship restaurant\, will feature fall cocktails\, craft beer and hard cider selections. \nVisitors can pre-order items for convenient pickup at Beacon Park. To guarantee availability\, we highly recommend that guests order online in advance.\n \nPre-orders are accepted until 12 p.m. prior to each event. Cash and credit are accepted. \n \nCider in the City is made possible by the DTE Beacon Park Foundation\, programmed by The Downtown Detroit Partnership and supported by Blake’s Farms. \n  \nEvent Features: \n\nDonuts\, cider and more for purchase courtesy of Blake’s Farms\nHorse-drawn hayrides\nMake-and-take crafts\nFace painting (Sundays only)\nPumpkin painting\nFood trucks\nLive DJs\nFootball on the big screen\nDTE Electric Vehicle Experience (on October 18 and 19 only)\nand more!\n\n  \nFull Cider in the City menu of offerings by Blake’s Farms: \n\nFresh donuts – plain or cinnamon (6-pack)\nApple cider 1/2 gallons\nApple cider by the cup\, hot or cold\nHoneycrisp apples\nCaramel apples\nLarge pumpkins (Perfect for carving!)\n Small pumpkins\n\n  \n\n\n\n\nFood Truck Lineup:  \n\n\nOctober 11: Big Bo’s + Little Caesar’s\nOctober 12: Los Dos Amigos + Busta Dawgs\nOctober 18: Sonny’s Hamburgers + Andiamo\nOctober 19: Los Dos Amigos + Andiamo\n\n  \n\n\nBeacon Park Event FAQs\n\n\n\n\n\n\n\n\n\n\n\n\n\nCan I bring a large group to an event at Beacon Park?\nAny size group is welcome to attend\, however Beacon Park will not have reserved areas available for large groups. All seating areas are available for park guests on a first come first serve basis. We request that you do not rearrange our furniture for larger groups. \nWhat can I not bring when visiting Beacon Park?\nAll signage must be approved by Beacon Park before your group arrives. The following items are prohibited in the park: cooking\, open flames\, sterno or chafing dish fuel\, alcohol\, large structures or signs\, staked signs\, drones\, professional photography\, food\, beverage or merchandise sales\, soliciting\, wagering\, climbing on park furniture\, moving furniture\, amplified sound\, disrupting park guests\, generators\, use of park power or water\, and blocking walkways. \nCan I bring my pet to Beacon Park?\nTrained and leashed pets and their responsible owners are welcome in Beacon Park. Pets must always be on a 6-foot leash and under an owner’s immediate control. Always clean up after your pet and carry a waste bag with you at all times. \nWhat if there is inclement weather?\nCider in the City is rain or shine. If there is severe weather\, we will post updates on our social media and cancel the event if necessary to ensure the safety of all visitors.
URL:https://detroitartdao.com/event/cider-in-the-city-at-beacon-park-2025
LOCATION:Beacon Park\, 1901 Grand River Ave\, Detroit\, MI\, 48226\, United States
CATEGORIES:Beacon Park,Community Events,Free Event,Park Events
ATTACH;FMTTYPE=image/jpeg:https://dpop.nyc3.digitaloceanspaces.com/wp-content/uploads/2025/09/28071756/DDP_CITC_20241013_Selections_WebSize-6-q4ZpBg.tmp_.jpg
GEO:42.3345108;-83.054971
X-APPLE-STRUCTURED-LOCATION;VALUE=URI;X-ADDRESS=Beacon Park 1901 Grand River Ave Detroit MI 48226 United States;X-APPLE-RADIUS=500;X-TITLE=1901 Grand River Ave:geo:-83.054971,42.3345108
END:VEVENT
END:VCALENDAR