BEGIN:VCALENDAR
VERSION:2.0
PRODID:-//Discover Detroit Art - ECPv6.0.1//NONSGML v1.0//EN
CALSCALE:GREGORIAN
METHOD:PUBLISH
X-ORIGINAL-URL:https://detroitartdao.com
X-WR-CALDESC:Events for Discover Detroit Art
REFRESH-INTERVAL;VALUE=DURATION:PT1H
X-Robots-Tag:noindex
X-PUBLISHED-TTL:PT1H
BEGIN:VTIMEZONE
TZID:America/Detroit
BEGIN:DAYLIGHT
TZOFFSETFROM:-0500
TZOFFSETTO:-0400
TZNAME:EDT
DTSTART:20250309T070000
END:DAYLIGHT
BEGIN:STANDARD
TZOFFSETFROM:-0400
TZOFFSETTO:-0500
TZNAME:EST
DTSTART:20251102T060000
END:STANDARD
END:VTIMEZONE
BEGIN:VEVENT
DTSTART;TZID=America/Detroit:20250805T180000
DTEND;TZID=America/Detroit:20250805T200000
DTSTAMP:20260422T003358
CREATED:20250710T131834Z
LAST-MODIFIED:20250805T180147Z
UID:10014146-1754416800-1754424000@detroitartdao.com
SUMMARY:(stream) Queen Beats Radio
DESCRIPTION:
URL:https://detroitartdao.com/event/stream-queen-beats-radio-31
LOCATION:Deep Space Radio
CATEGORIES:Broadcast,TheDetroitILove
END:VEVENT
BEGIN:VEVENT
DTSTART;TZID=America/Detroit:20250812T180000
DTEND;TZID=America/Detroit:20250812T200000
DTSTAMP:20260422T003358
CREATED:20250713T134708Z
LAST-MODIFIED:20250812T184643Z
UID:10014194-1755021600-1755028800@detroitartdao.com
SUMMARY:(stream) Queen Beats Radio
DESCRIPTION:
URL:https://detroitartdao.com/event/stream-queen-beats-radio-32
LOCATION:Deep Space Radio
CATEGORIES:Broadcast,TheDetroitILove
END:VEVENT
BEGIN:VEVENT
DTSTART;TZID=America/Detroit:20250819T180000
DTEND;TZID=America/Detroit:20250819T200000
DTSTAMP:20260422T003358
CREATED:20250720T144740Z
LAST-MODIFIED:20250819T201650Z
UID:10014322-1755626400-1755633600@detroitartdao.com
SUMMARY:(stream) Queen Beats Radio
DESCRIPTION:
URL:https://detroitartdao.com/event/stream-queen-beats-radio-33
LOCATION:Deep Space Radio
CATEGORIES:Broadcast,TheDetroitILove
END:VEVENT
BEGIN:VEVENT
DTSTART;TZID=America/Detroit:20250826T180000
DTEND;TZID=America/Detroit:20250826T200000
DTSTAMP:20260422T003358
CREATED:20250727T161712Z
LAST-MODIFIED:20250826T213139Z
UID:10014428-1756231200-1756238400@detroitartdao.com
SUMMARY:(stream) Queen Beats Radio
DESCRIPTION:
URL:https://detroitartdao.com/event/stream-queen-beats-radio-34
LOCATION:Deep Space Radio
CATEGORIES:Broadcast,TheDetroitILove
END:VEVENT
END:VCALENDAR