BEGIN:VCALENDAR
VERSION:2.0
PRODID:-//Discover Detroit Art - ECPv6.0.1//NONSGML v1.0//EN
CALSCALE:GREGORIAN
METHOD:PUBLISH
X-ORIGINAL-URL:https://detroitartdao.com
X-WR-CALDESC:Events for Discover Detroit Art
REFRESH-INTERVAL;VALUE=DURATION:PT1H
X-Robots-Tag:noindex
X-PUBLISHED-TTL:PT1H
BEGIN:VTIMEZONE
TZID:America/Detroit
BEGIN:DAYLIGHT
TZOFFSETFROM:-0500
TZOFFSETTO:-0400
TZNAME:EDT
DTSTART:20230312T070000
END:DAYLIGHT
BEGIN:STANDARD
TZOFFSETFROM:-0400
TZOFFSETTO:-0500
TZNAME:EST
DTSTART:20231105T060000
END:STANDARD
BEGIN:DAYLIGHT
TZOFFSETFROM:-0500
TZOFFSETTO:-0400
TZNAME:EDT
DTSTART:20240310T070000
END:DAYLIGHT
BEGIN:STANDARD
TZOFFSETFROM:-0400
TZOFFSETTO:-0500
TZNAME:EST
DTSTART:20241103T060000
END:STANDARD
END:VTIMEZONE
BEGIN:VEVENT
DTSTART;TZID=America/Detroit:20230829T120000
DTEND;TZID=America/Detroit:20230829T130000
DTSTAMP:20260420T101905
CREATED:20230730T164704Z
LAST-MODIFIED:20230829T173140Z
UID:10001549-1693310400-1693314000@detroitartdao.com
SUMMARY:(stream) Twisted
DESCRIPTION:
URL:https://detroitartdao.com/event/stream-twisted-8
LOCATION:Deep Space Radio
CATEGORIES:Broadcast,TheDetroitILove
END:VEVENT
BEGIN:VEVENT
DTSTART;TZID=America/Detroit:20240903T120000
DTEND;TZID=America/Detroit:20240903T130000
DTSTAMP:20260420T101905
CREATED:20240902T164642Z
LAST-MODIFIED:20240903T164646Z
UID:10010685-1725364800-1725368400@detroitartdao.com
SUMMARY:(stream) Twisted
DESCRIPTION:
URL:https://detroitartdao.com/event/stream-twisted-9
LOCATION:Deep Space Radio
CATEGORIES:Broadcast,TheDetroitILove
END:VEVENT
BEGIN:VEVENT
DTSTART;TZID=America/Detroit:20240903T180000
DTEND;TZID=America/Detroit:20240903T200000
DTSTAMP:20260420T101905
CREATED:20240902T164643Z
LAST-MODIFIED:20240903T164646Z
UID:10010687-1725386400-1725393600@detroitartdao.com
SUMMARY:(stream) Queen Beats Radio
DESCRIPTION:
URL:https://detroitartdao.com/event/stream-queen-beats-radio-2
LOCATION:Deep Space Radio
CATEGORIES:Broadcast,TheDetroitILove
END:VEVENT
BEGIN:VEVENT
DTSTART;TZID=America/Detroit:20240910T120000
DTEND;TZID=America/Detroit:20240910T130000
DTSTAMP:20260420T101905
CREATED:20240902T164651Z
LAST-MODIFIED:20240910T171656Z
UID:10010695-1725969600-1725973200@detroitartdao.com
SUMMARY:(stream) Twisted
DESCRIPTION:
URL:https://detroitartdao.com/event/stream-twisted-10
LOCATION:Deep Space Radio
CATEGORIES:Broadcast,TheDetroitILove
END:VEVENT
BEGIN:VEVENT
DTSTART;TZID=America/Detroit:20240910T180000
DTEND;TZID=America/Detroit:20240910T200000
DTSTAMP:20260420T101905
CREATED:20240902T164652Z
LAST-MODIFIED:20240910T171657Z
UID:10010696-1725991200-1725998400@detroitartdao.com
SUMMARY:(stream) Queen Beats Radio
DESCRIPTION:
URL:https://detroitartdao.com/event/stream-queen-beats-radio-3
LOCATION:Deep Space Radio
CATEGORIES:Broadcast,TheDetroitILove
END:VEVENT
BEGIN:VEVENT
DTSTART;TZID=America/Detroit:20240917T120000
DTEND;TZID=America/Detroit:20240917T130000
DTSTAMP:20260420T101905
CREATED:20240902T164654Z
LAST-MODIFIED:20240917T170136Z
UID:10010707-1726574400-1726578000@detroitartdao.com
SUMMARY:(stream) Twisted
DESCRIPTION:
URL:https://detroitartdao.com/event/stream-twisted-11
LOCATION:Deep Space Radio
CATEGORIES:Broadcast,TheDetroitILove
END:VEVENT
BEGIN:VEVENT
DTSTART;TZID=America/Detroit:20240917T180000
DTEND;TZID=America/Detroit:20240917T200000
DTSTAMP:20260420T101905
CREATED:20240902T164655Z
LAST-MODIFIED:20240917T170137Z
UID:10010708-1726596000-1726603200@detroitartdao.com
SUMMARY:(stream) Queen Beats Radio
DESCRIPTION:
URL:https://detroitartdao.com/event/stream-queen-beats-radio-4
LOCATION:Deep Space Radio
CATEGORIES:Broadcast,TheDetroitILove
END:VEVENT
BEGIN:VEVENT
DTSTART;TZID=America/Detroit:20240924T120000
DTEND;TZID=America/Detroit:20240924T130000
DTSTAMP:20260420T101905
CREATED:20240902T164658Z
LAST-MODIFIED:20240924T180153Z
UID:10010719-1727179200-1727182800@detroitartdao.com
SUMMARY:(stream) Twisted
DESCRIPTION:
URL:https://detroitartdao.com/event/stream-twisted-12
LOCATION:Deep Space Radio
CATEGORIES:Broadcast,TheDetroitILove
END:VEVENT
BEGIN:VEVENT
DTSTART;TZID=America/Detroit:20240924T180000
DTEND;TZID=America/Detroit:20240924T200000
DTSTAMP:20260420T101905
CREATED:20240902T164658Z
LAST-MODIFIED:20240924T180154Z
UID:10010721-1727200800-1727208000@detroitartdao.com
SUMMARY:(stream) Queen Beats Radio
DESCRIPTION:
URL:https://detroitartdao.com/event/stream-queen-beats-radio-5
LOCATION:Deep Space Radio
CATEGORIES:Broadcast,TheDetroitILove
END:VEVENT
BEGIN:VEVENT
DTSTART;TZID=America/Detroit:20241001T120000
DTEND;TZID=America/Detroit:20241001T130000
DTSTAMP:20260420T101905
CREATED:20240902T164710Z
LAST-MODIFIED:20241001T164637Z
UID:10010716-1727784000-1727787600@detroitartdao.com
SUMMARY:(stream) Twisted
DESCRIPTION:
URL:https://detroitartdao.com/event/stream-twisted-13
LOCATION:Deep Space Radio
CATEGORIES:Broadcast,TheDetroitILove
END:VEVENT
BEGIN:VEVENT
DTSTART;TZID=America/Detroit:20241001T180000
DTEND;TZID=America/Detroit:20241001T200000
DTSTAMP:20260420T101905
CREATED:20240902T164710Z
LAST-MODIFIED:20241001T164638Z
UID:10010718-1727805600-1727812800@detroitartdao.com
SUMMARY:(stream) Queen Beats Radio
DESCRIPTION:
URL:https://detroitartdao.com/event/stream-queen-beats-radio-6
LOCATION:Deep Space Radio
CATEGORIES:Broadcast,TheDetroitILove
END:VEVENT
BEGIN:VEVENT
DTSTART;TZID=America/Detroit:20241008T120000
DTEND;TZID=America/Detroit:20241008T130000
DTSTAMP:20260420T101905
CREATED:20240908T171713Z
LAST-MODIFIED:20241008T171636Z
UID:10010806-1728388800-1728392400@detroitartdao.com
SUMMARY:(stream) Twisted
DESCRIPTION:
URL:https://detroitartdao.com/event/stream-twisted-14
LOCATION:Deep Space Radio
CATEGORIES:Broadcast,TheDetroitILove
END:VEVENT
BEGIN:VEVENT
DTSTART;TZID=America/Detroit:20241008T180000
DTEND;TZID=America/Detroit:20241008T200000
DTSTAMP:20260420T101905
CREATED:20240908T171713Z
LAST-MODIFIED:20241008T171637Z
UID:10010807-1728410400-1728417600@detroitartdao.com
SUMMARY:(stream) Queen Beats Radio
DESCRIPTION:
URL:https://detroitartdao.com/event/stream-queen-beats-radio-7
LOCATION:Deep Space Radio
CATEGORIES:Broadcast,TheDetroitILove
END:VEVENT
BEGIN:VEVENT
DTSTART;TZID=America/Detroit:20241015T120000
DTEND;TZID=America/Detroit:20241015T130000
DTSTAMP:20260420T101905
CREATED:20240915T164702Z
LAST-MODIFIED:20241015T183140Z
UID:10010842-1728993600-1728997200@detroitartdao.com
SUMMARY:(stream) Twisted
DESCRIPTION:
URL:https://detroitartdao.com/event/stream-twisted-15
LOCATION:Deep Space Radio
CATEGORIES:Broadcast,TheDetroitILove
END:VEVENT
BEGIN:VEVENT
DTSTART;TZID=America/Detroit:20241015T180000
DTEND;TZID=America/Detroit:20241015T200000
DTSTAMP:20260420T101905
CREATED:20240915T164702Z
LAST-MODIFIED:20241015T183141Z
UID:10010843-1729015200-1729022400@detroitartdao.com
SUMMARY:(stream) Queen Beats Radio
DESCRIPTION:
URL:https://detroitartdao.com/event/stream-queen-beats-radio-8
LOCATION:Deep Space Radio
CATEGORIES:Broadcast,TheDetroitILove
END:VEVENT
BEGIN:VEVENT
DTSTART;TZID=America/Detroit:20241022T120000
DTEND;TZID=America/Detroit:20241022T130000
DTSTAMP:20260420T101905
CREATED:20240922T173149Z
LAST-MODIFIED:20241022T194641Z
UID:10010899-1729598400-1729602000@detroitartdao.com
SUMMARY:(stream) Twisted
DESCRIPTION:
URL:https://detroitartdao.com/event/stream-twisted-16
LOCATION:Deep Space Radio
CATEGORIES:Broadcast,TheDetroitILove
END:VEVENT
BEGIN:VEVENT
DTSTART;TZID=America/Detroit:20241022T180000
DTEND;TZID=America/Detroit:20241022T200000
DTSTAMP:20260420T101905
CREATED:20240922T173149Z
LAST-MODIFIED:20241022T194641Z
UID:10010900-1729620000-1729627200@detroitartdao.com
SUMMARY:(stream) Queen Beats Radio
DESCRIPTION:
URL:https://detroitartdao.com/event/stream-queen-beats-radio-9
LOCATION:Deep Space Radio
CATEGORIES:Broadcast,TheDetroitILove
END:VEVENT
BEGIN:VEVENT
DTSTART;TZID=America/Detroit:20241029T120000
DTEND;TZID=America/Detroit:20241029T130000
DTSTAMP:20260420T101905
CREATED:20240929T233351Z
LAST-MODIFIED:20241029T233142Z
UID:10010959-1730203200-1730206800@detroitartdao.com
SUMMARY:(stream) Twisted
DESCRIPTION:
URL:https://detroitartdao.com/event/stream-twisted-17
LOCATION:Deep Space Radio
CATEGORIES:Broadcast,TheDetroitILove
END:VEVENT
BEGIN:VEVENT
DTSTART;TZID=America/Detroit:20241029T180000
DTEND;TZID=America/Detroit:20241029T200000
DTSTAMP:20260420T101905
CREATED:20240929T233352Z
LAST-MODIFIED:20241029T233143Z
UID:10010961-1730224800-1730232000@detroitartdao.com
SUMMARY:(stream) Queen Beats Radio
DESCRIPTION:
URL:https://detroitartdao.com/event/stream-queen-beats-radio-10
LOCATION:Deep Space Radio
CATEGORIES:Broadcast,TheDetroitILove
END:VEVENT
BEGIN:VEVENT
DTSTART;TZID=America/Detroit:20241105T120000
DTEND;TZID=America/Detroit:20241105T130000
DTSTAMP:20260420T101905
CREATED:20241006T171649Z
LAST-MODIFIED:20241105T164641Z
UID:10010997-1730808000-1730811600@detroitartdao.com
SUMMARY:(stream) Twisted
DESCRIPTION:
URL:https://detroitartdao.com/event/stream-twisted-18
LOCATION:Deep Space Radio
CATEGORIES:Broadcast,TheDetroitILove
END:VEVENT
BEGIN:VEVENT
DTSTART;TZID=America/Detroit:20241105T180000
DTEND;TZID=America/Detroit:20241105T200000
DTSTAMP:20260420T101905
CREATED:20241006T171649Z
LAST-MODIFIED:20241105T164642Z
UID:10010998-1730829600-1730836800@detroitartdao.com
SUMMARY:(stream) Queen Beats Radio
DESCRIPTION:
URL:https://detroitartdao.com/event/stream-queen-beats-radio-11
LOCATION:Deep Space Radio
CATEGORIES:Broadcast,TheDetroitILove
END:VEVENT
BEGIN:VEVENT
DTSTART;TZID=America/Detroit:20241112T120000
DTEND;TZID=America/Detroit:20241112T130000
DTSTAMP:20260420T101905
CREATED:20241013T181723Z
LAST-MODIFIED:20241112T171641Z
UID:10011089-1731412800-1731416400@detroitartdao.com
SUMMARY:(stream) Twisted
DESCRIPTION:
URL:https://detroitartdao.com/event/stream-twisted-19
LOCATION:Deep Space Radio
CATEGORIES:Broadcast,TheDetroitILove
END:VEVENT
BEGIN:VEVENT
DTSTART;TZID=America/Detroit:20241112T180000
DTEND;TZID=America/Detroit:20241112T200000
DTSTAMP:20260420T101905
CREATED:20241013T181724Z
LAST-MODIFIED:20241112T171643Z
UID:10011090-1731434400-1731441600@detroitartdao.com
SUMMARY:(stream) Queen Beats Radio
DESCRIPTION:
URL:https://detroitartdao.com/event/stream-queen-beats-radio-12
LOCATION:Deep Space Radio
CATEGORIES:Broadcast,TheDetroitILove
END:VEVENT
BEGIN:VEVENT
DTSTART;TZID=America/Detroit:20241119T120000
DTEND;TZID=America/Detroit:20241119T130000
DTSTAMP:20260420T101905
CREATED:20241020T191712Z
LAST-MODIFIED:20241119T180146Z
UID:10011169-1732017600-1732021200@detroitartdao.com
SUMMARY:(stream) Twisted
DESCRIPTION:
URL:https://detroitartdao.com/event/stream-twisted-20
LOCATION:Deep Space Radio
CATEGORIES:Broadcast,TheDetroitILove
END:VEVENT
BEGIN:VEVENT
DTSTART;TZID=America/Detroit:20241119T180000
DTEND;TZID=America/Detroit:20241119T200000
DTSTAMP:20260420T101905
CREATED:20241020T191713Z
LAST-MODIFIED:20241119T180148Z
UID:10011170-1732039200-1732046400@detroitartdao.com
SUMMARY:(stream) Queen Beats Radio
DESCRIPTION:
URL:https://detroitartdao.com/event/stream-queen-beats-radio-13
LOCATION:Deep Space Radio
CATEGORIES:Broadcast,TheDetroitILove
END:VEVENT
BEGIN:VEVENT
DTSTART;TZID=America/Detroit:20241126T120000
DTEND;TZID=America/Detroit:20241126T130000
DTSTAMP:20260420T101905
CREATED:20241027T210237Z
LAST-MODIFIED:20241126T213142Z
UID:10011247-1732622400-1732626000@detroitartdao.com
SUMMARY:(stream) Twisted
DESCRIPTION:
URL:https://detroitartdao.com/event/stream-twisted-21
LOCATION:Deep Space Radio
CATEGORIES:Broadcast,TheDetroitILove
END:VEVENT
BEGIN:VEVENT
DTSTART;TZID=America/Detroit:20241126T180000
DTEND;TZID=America/Detroit:20241126T200000
DTSTAMP:20260420T101905
CREATED:20241027T210238Z
LAST-MODIFIED:20241126T213145Z
UID:10011248-1732644000-1732651200@detroitartdao.com
SUMMARY:(stream) Queen Beats Radio
DESCRIPTION:
URL:https://detroitartdao.com/event/stream-queen-beats-radio-14
LOCATION:Deep Space Radio
CATEGORIES:Broadcast,TheDetroitILove
END:VEVENT
BEGIN:VEVENT
DTSTART;TZID=America/Detroit:20241203T120000
DTEND;TZID=America/Detroit:20241203T130000
DTSTAMP:20260420T101905
CREATED:20241103T164701Z
LAST-MODIFIED:20241203T171644Z
UID:10011299-1733227200-1733230800@detroitartdao.com
SUMMARY:(stream) Twisted
DESCRIPTION:
URL:https://detroitartdao.com/event/stream-twisted-22
LOCATION:Deep Space Radio
CATEGORIES:Broadcast,TheDetroitILove
END:VEVENT
BEGIN:VEVENT
DTSTART;TZID=America/Detroit:20241203T180000
DTEND;TZID=America/Detroit:20241203T200000
DTSTAMP:20260420T101905
CREATED:20241103T164701Z
LAST-MODIFIED:20241203T171645Z
UID:10011300-1733248800-1733256000@detroitartdao.com
SUMMARY:(stream) Queen Beats Radio
DESCRIPTION:
URL:https://detroitartdao.com/event/stream-queen-beats-radio-15
LOCATION:Deep Space Radio
CATEGORIES:Broadcast,TheDetroitILove
END:VEVENT
BEGIN:VEVENT
DTSTART;TZID=America/Detroit:20241210T120000
DTEND;TZID=America/Detroit:20241210T130000
DTSTAMP:20260420T101905
CREATED:20241110T170251Z
LAST-MODIFIED:20241210T231637Z
UID:10011386-1733832000-1733835600@detroitartdao.com
SUMMARY:(stream) Twisted
DESCRIPTION:
URL:https://detroitartdao.com/event/stream-twisted-23
LOCATION:Deep Space Radio
CATEGORIES:Broadcast,TheDetroitILove
END:VEVENT
END:VCALENDAR