BEGIN:VCALENDAR
VERSION:2.0
PRODID:-//Discover Detroit Art - ECPv6.0.1//NONSGML v1.0//EN
CALSCALE:GREGORIAN
METHOD:PUBLISH
X-WR-CALNAME:Discover Detroit Art
X-ORIGINAL-URL:https://detroitartdao.com
X-WR-CALDESC:Events for Discover Detroit Art
REFRESH-INTERVAL;VALUE=DURATION:PT1H
X-Robots-Tag:noindex
X-PUBLISHED-TTL:PT1H
BEGIN:VTIMEZONE
TZID:America/Detroit
BEGIN:DAYLIGHT
TZOFFSETFROM:-0500
TZOFFSETTO:-0400
TZNAME:EDT
DTSTART:20260308T070000
END:DAYLIGHT
BEGIN:STANDARD
TZOFFSETFROM:-0400
TZOFFSETTO:-0500
TZNAME:EST
DTSTART:20261101T060000
END:STANDARD
END:VTIMEZONE
BEGIN:VEVENT
DTSTART;TZID=America/Detroit:20260406T110000
DTEND;TZID=America/Detroit:20260406T150000
DTSTAMP:20260420T221937
CREATED:20260324T111635Z
LAST-MODIFIED:20260406T173158Z
UID:10017318-1775473200-1775487600@detroitartdao.com
SUMMARY:Downtown Street Eats
DESCRIPTION:Michigan’s largest weekly food truck rally\, Downtown Street Eats\, is back for its 14th season in the heart of Downtown Detroit. \nHead to Cadillac Square weekdays from 11 a.m. to 3 p.m. to enjoy a rotating lineup of food trucks and carts serving returning favorites and new culinary finds that are perfect for a quick and delicious lunch break. \nWhether you work downtown or are visiting for the day\, it’s an easy way to explore a wide range of local flavors in one place. Come hungry and discover something new all season long. \nApril 6 Food Truck Lineup:\n–Cousins Maine Lobster \n–TRU Pizza Co.
URL:https://detroitartdao.com/event/downtown-street-eats-253
LOCATION:Cadillac Square\, 662 Woodward Ave\, Detroit\, MI\, 48226\, United States
CATEGORIES:Cadillac Square,Food Truck,Park Events
GEO:42.331269;-83.0458993
X-APPLE-STRUCTURED-LOCATION;VALUE=URI;X-ADDRESS=Cadillac Square 662 Woodward Ave Detroit MI 48226 United States;X-APPLE-RADIUS=500;X-TITLE=662 Woodward Ave:geo:-83.0458993,42.331269
END:VEVENT
BEGIN:VEVENT
DTSTART;TZID=America/Detroit:20260406T110000
DTEND;TZID=America/Detroit:20260406T150000
DTSTAMP:20260420T221938
CREATED:20260324T111636Z
LAST-MODIFIED:20260324T111636Z
UID:10017317-1775473200-1775487600@detroitartdao.com
SUMMARY:Downtown Street Eats
DESCRIPTION:Michigan’s largest weekly food truck rally\, Downtown Street Eats\, is back for its 14th season in the heart of Downtown Detroit. \nHead to Cadillac Square weekdays from 11 a.m. to 3 p.m. to enjoy a rotating lineup of food trucks and carts serving returning favorites and new culinary finds that are perfect for a quick and delicious lunch break. \nWhether you work downtown or are visiting for the day\, it’s an easy way to explore a wide range of local flavors in one place. Come hungry and discover something new all season long. \nApril 6 Food Truck Lineup:\n–Cousins Maine Lobster \n–TRU Pizza Co.
URL:https://detroitartdao.com/event/downtown-street-eats-254
LOCATION:Cadillac Square\, 662 Woodward Ave\, Detroit\, MI\, 48226\, United States
CATEGORIES:Cadillac Square,Food Truck,Park Events
GEO:42.331269;-83.0458993
X-APPLE-STRUCTURED-LOCATION;VALUE=URI;X-ADDRESS=Cadillac Square 662 Woodward Ave Detroit MI 48226 United States;X-APPLE-RADIUS=500;X-TITLE=662 Woodward Ave:geo:-83.0458993,42.331269
END:VEVENT
END:VCALENDAR