BEGIN:VCALENDAR
VERSION:2.0
PRODID:-//Discover Detroit Art - ECPv6.0.1//NONSGML v1.0//EN
CALSCALE:GREGORIAN
METHOD:PUBLISH
X-WR-CALNAME:Discover Detroit Art
X-ORIGINAL-URL:https://detroitartdao.com
X-WR-CALDESC:Events for Discover Detroit Art
REFRESH-INTERVAL;VALUE=DURATION:PT1H
X-Robots-Tag:noindex
X-PUBLISHED-TTL:PT1H
BEGIN:VTIMEZONE
TZID:America/Detroit
BEGIN:DAYLIGHT
TZOFFSETFROM:-0500
TZOFFSETTO:-0400
TZNAME:EDT
DTSTART:20230312T070000
END:DAYLIGHT
BEGIN:STANDARD
TZOFFSETFROM:-0400
TZOFFSETTO:-0500
TZNAME:EST
DTSTART:20231105T060000
END:STANDARD
END:VTIMEZONE
BEGIN:VEVENT
DTSTART;VALUE=DATE:20231117
DTEND;VALUE=DATE:20231118
DTSTAMP:20260420T235210
CREATED:20231018T190135Z
LAST-MODIFIED:20231023T191640Z
UID:10002595-1700179200-1700265599@detroitartdao.com
SUMMARY:20th Annual Detroit Tree Lighting
DESCRIPTION:YOUR HOLIDAY STARTS HERE!\n\nMark your calendars for the Detroit Tree Lighting on Friday\, Nov. 17\, at the award-winning Campus Martius Park presented by Downtown Detroit Partnership and DTE Energy Foundation. “Merry & Bright: 20 Years of Holiday Lights” — the 20th-anniversary special edition of this free annual Detroit event to kick off the holiday season — will feature stellar performances by Olympic figure skaters\, the best skaters in metro Detroit and live musical acts\, holiday shopping\, food trucks\, unique lighting attractions across the downtown and more!\n.\n\nThe Detroit tradition will center around a Michigan-grown Norway spruce decked with ornaments and illuminated by thousands of shimmering LED multi-colored lights – after a countdown by Santa. WXYZ-TV Channel 7 will also once again serve as the official broadcast station of the annual Detroit Tree Lighting ceremony\, broadcasting complete coverage of the event during a one-hour live special\, “Light Up the Season\,” beginning at 7 p.m. \n. \nMore details including featured acts to come soon.
URL:https://detroitartdao.com/event/20th-annual-detroit-tree-lighting
LOCATION:Campus Martius
CATEGORIES:Campus Martius,Park Events
ATTACH;FMTTYPE=image/png:https://dpop.nyc3.digitaloceanspaces.com/wp-content/uploads/2023/10/18150142/Tree-Lighting-2023-Q1PiO4.tmp_.png
GEO:42.3315634;-83.0468355
END:VEVENT
BEGIN:VEVENT
DTSTART;TZID=America/Detroit:20231117T160000
DTEND;TZID=America/Detroit:20231117T210000
DTSTAMP:20260420T235210
CREATED:20231024T191703Z
LAST-MODIFIED:20231117T194641Z
UID:10002694-1700236800-1700254800@detroitartdao.com
SUMMARY:20th Annual Detroit Tree Lighting
DESCRIPTION:Your holiday starts with the Detroit Tree Lighting on Friday\, Nov. 17\, at the award-winning Campus Martius Park presented by Downtown Detroit Partnership and DTE Energy Foundation. “Merry & Bright: 20 Years of Holiday Lights” — the 20th-anniversary special edition of this free annual Detroit event to kick off the holiday season — will feature stellar performances by Olympic figure skaters\, the best skaters in metro Detroit and live musical acts\, holiday shopping\, food trucks\, unique lighting attractions across Downtown Detroit and more! 🎄 Be sure to tag us on socials while you enjoy all the festivities using: #detroittreelighting2023 #20YearsOfHolidayLights #DowntownDet or #campusmartiuspark.  \nThe Detroit tradition will center around a 64-foot Michigan-grown Norway spruce decked out with ornaments and illuminated by thousands of shimmering LED multi-colored lights – after a countdown by Santa. WXYZ-TV Channel 7 will also once again serve as the official broadcast partner of the annual Detroit Tree Lighting ceremony\, offering complete coverage of the event during a one-hour live special\, “Light Up the Season\,” beginning at 7 pm. Those who prefer to view the show indoors or from the comfort of their own home can tune in to the one-hour special broadcast on their televisions\, online and on all streaming devices.  \n  \nTREE LIGHTING SPECIAL GUEST PERFORMANCES\nThe signature event will be marked by a stellar lineup of live entertainment including:  \nNathan Chen\, one of the biggest names in the world of men’s figure skating\, will perform on the Rink at Campus Martius Park Presented by Visit Detroit. Chen took home the gold and silver medals at the 2022 Olympics\, is a three-time World Champion.  \n  \n   \nHeadlining the MGM Detroit Main Stage at Campus Martius Park will be award-winning\, acclaimed American country singer and Flint\, Michigan native Miko Marks. Marks was named an inductee to CMT’s “Next Women of Country” class of 2022.  \n  \n \n  \nAdding to the impressive headline talent Paul Russell\, social media sensation\, whose viral hit song ‘Lil Boo Thang’ has garnered millions of views on TikTok.  \n  \n  \n  \nBroadway star Natalia Vivino currently performing in WICKED on Broadway\, will be delivering an exceptional vocal performance.  \n  \n \n  \nAnna Cobb\, a professional figure skater and choreographer from Flint\, Michigan\, Recently\, Cobb toured with Disney On Ice\, dazzling crowds with her mesmerizing performance as Elsa from “Frozen.” \n  \n \n  \nOther performances of note include Detroit natives Drey Skonie\, Corrin Barnett and the gospel duo Tasha Page-Lockhart & Clifton Lockhart. Isis Damil + JonPaul Wallace will perform a festive duet\, a hip hop Nutcracker dance will be performed by Detroit’s Ballinger Entertainment\, while the Archdiocese of Detroit choir with Rooted conducted by Dr. William S. Harrison\, Sr. rounds out the entertainment. Returning to serve as the “house band” for the evening The Redhouse Band\, featuring six of the Detroit area’s most outstanding musicians under the direction of Darell “Red” Campbell Jr.\, a renowned musician\, songwriter\, producer and teacher who’s working with the Detroit Symphony Orchestra Civic Youth Ensembles for the eighth season.  \nSkating clubs across metro Detroit will show off their skills on ice: Arctic Figure Skating Club\, Detroit Skating Club\, Dream Detroit Skating Academy\, Figure Skating Club of Birmingham\, Figure Skating in Detroit\, Fraser Figure Skating Club\, Motown Ice Theater\, New Edge Figure Skating Club and Onyx Suburban Skating Academy. Other skate performances by Daniel Palmeri\, Annabelle Wilkins\, and Brooklyn Wybo. \n  \nFOOD TRUCK LINEUP: \n–Clara’s Place  \n-For the Love of Sugar  \n-Impasto  \n-Little Bros Burgers  \n-Los Dos Amigos Tacos  \n-Max Chicago Style Italian Beef  \n-Original Seafood Truck  \n-Rollin Stone Wood Fired Pizza  \n-Shredderz  \n-Smoke Ring  \n-The Lobster Truck  \n-Unity Catering  \n  \nPARKING AND TRANSPORTATION INFORMATION:\nConvenient and affordable parking and transit options are available steps away from Campus Martius Park\, including public transit such as DDOT\, SMART Bus (plus FAST)\, Detroit People Mover\, QLINE and MoGo. For parking needs\, we recommend you check ParkWhiz for additional parking options.   \n  \nPROHIBITED ITEMS INCLUDE BUT ARE NOT LIMITED TO: \n– Weapons / Firearms / Knives / Bats / Clubs\n– Mace / Pepper Spray\n– Laser Pointers / Any Similar Devices\n– Fireworks / Smoke Bombs\n– Audio / Visual Recording Devices (Go-Pro\, Etc.)\n– Missile-Like Objects that can be Thrown\n– Backpacks / Hard-Sided Bags\n– Aerosol Cans / Liquids over 4 Ounces\n– Illegal Substances\n– Any Form of Marijuana\n– Pets\n– Drones\n– Skateboards / Hoverboards\n– Whistles / Horns\n– Banners / Flags / Offensive Signs\n– Frisbees / Beach Balls / Balloons \n– Chairs\n– Poles / Selfie Sticks / Monopods / Tripods\n– Professional / Commercial Cameras\n– Cameras with Detachable Lenses / Lenses Longer than Four Inches\n– Outside Food / Beverage\n– Clothing / Garments Displaying Explicit\, Profane or Derogatory Characterization\n– Any / Other Items Deemed to be Dangerous by Park Security and Facility Management\n– Any Item Determined by the Venue  \n  \nGUEST CODE OF CONDUCT: \n-Guests will be treated in a consistent\, professional and courteous manner by all park personnel.  \n-Guests will enjoy all event experiences free from disruptive behavior\, including foul or abusive language and obscene gestures.  \n-Guests will consume alcoholic beverages in a responsible manner. Intervention with an impaired\, intoxicated or underage guest will be handled in a prompt and safe manner.  \n-Obscene or indecent messages on signs or clothing will not be permitted.  \n-Guests will comply with requests from park staff regarding park operations and emergency response procedures.  \n-Guest may not engage in unauthorized commercial activity on the property.  \n  \nCURFEW:\nMinors are welcome to attend the Tree Lighting from any approved public area. However\, for their safety\, minors ages 17 and under must be accompanied by a parent\, legal guardian or other responsible adult (age 21 or over) while they attend the event.
URL:https://detroitartdao.com/event/20th-annual-detroit-tree-lighting-2
LOCATION:Campus Martius
CATEGORIES:Campus Martius,Park Events,Signature DDP Event
ATTACH;FMTTYPE=image/webp:https://dpop.nyc3.digitaloceanspaces.com/wp-content/uploads/2023/11/03153143/TL-FB-Event-Cover-Art-RbIkCI.tmp_.webp
GEO:42.3315634;-83.0468355
END:VEVENT
BEGIN:VEVENT
DTSTART;TZID=America/Detroit:20231118T120000
DTEND;TZID=America/Detroit:20231118T160000
DTSTAMP:20260420T235210
CREATED:20231024T191634Z
LAST-MODIFIED:20231118T201721Z
UID:10002678-1700308800-1700323200@detroitartdao.com
SUMMARY:Skating With Santa
DESCRIPTION:Kick off the season at our opening Skating with Santa Party\, DJ Invisible will be playing your favorite holiday tunes and the big guy himself will be making an appearance. Grab your Santa hat\, lace up your skates\, and get ready to pen your letter to the North Pole.  \n  \nADMISSION:  \nAdult: $12.00  \nChild (12 and under): $9.00  \nMilitary / First Responder: $8.00  \nSenior (59 and older): $9.00  \n  \nSKATE RENTAL: $6.00 
URL:https://detroitartdao.com/event/skating-with-santa
LOCATION:Campus Martius
CATEGORIES:Campus Martius,Park Events
ATTACH;FMTTYPE=image/jpeg:https://dpop.nyc3.digitaloceanspaces.com/wp-content/uploads/2023/10/24151643/Santa-Skate-scaled-Imqm2m.tmp_.jpg
GEO:42.3315634;-83.0468355
END:VEVENT
BEGIN:VEVENT
DTSTART;TZID=America/Detroit:20231118T180000
DTEND;TZID=America/Detroit:20231118T220000
DTSTAMP:20260420T235210
CREATED:20231024T191711Z
LAST-MODIFIED:20231118T201724Z
UID:10002696-1700330400-1700344800@detroitartdao.com
SUMMARY:Ugly Holiday Sweater Party
DESCRIPTION:Don your favorite Ugly Holiday Sweater and get ready to join us for a night of festive fun under Detroit’s Christmas Tree\, featuring Joey Namou and DJ Chris Hesano to keep you grooving on the ice.  \n  \nADMISSION:  \nAdult: $12.00  \nChild (12 and under): $9.00  \nMilitary / First Responder: $8.00  \nSenior (59 and older): $9.00  \n  \nSKATE RENTAL: $6.00   
URL:https://detroitartdao.com/event/ugly-holiday-sweater-party
LOCATION:Campus Martius
CATEGORIES:Campus Martius,Park Events
ATTACH;FMTTYPE=image/jpeg:https://dpop.nyc3.digitaloceanspaces.com/wp-content/uploads/2023/10/24151713/Ugly-Sweater-Skate-oKNWxV.tmp_.jpg
GEO:42.3315634;-83.0468355
END:VEVENT
BEGIN:VEVENT
DTSTART;TZID=America/Detroit:20231119T120000
DTEND;TZID=America/Detroit:20231119T160000
DTSTAMP:20260420T235210
CREATED:20231024T191703Z
LAST-MODIFIED:20231119T201642Z
UID:10002695-1700395200-1700409600@detroitartdao.com
SUMMARY:‘Frozen’ Skate
DESCRIPTION:Get ready to let it go at the Rink in Campus Martius Park! Join us for a spectacular afternoon featuring appearances by Elsa and Olaf.  \n  \nADMISSION:  \nAdult: $12.00  \nChild (12 and under): $9.00  \nMilitary / First Responder: $8.00  \nSenior (59 and older): $9.00  \n  \nSKATE RENTAL: $6.00   
URL:https://detroitartdao.com/event/frozen-skate
LOCATION:Campus Martius
CATEGORIES:Campus Martius,Park Events
ATTACH;FMTTYPE=image/jpeg:https://dpop.nyc3.digitaloceanspaces.com/wp-content/uploads/2023/10/24151712/Frozen-Skate-scaled-kpfFPa.tmp_.jpg
GEO:42.3315634;-83.0468355
END:VEVENT
END:VCALENDAR