BEGIN:VCALENDAR
VERSION:2.0
PRODID:-//Discover Detroit Art - ECPv6.0.1//NONSGML v1.0//EN
CALSCALE:GREGORIAN
METHOD:PUBLISH
X-WR-CALNAME:Discover Detroit Art
X-ORIGINAL-URL:https://detroitartdao.com
X-WR-CALDESC:Events for Discover Detroit Art
REFRESH-INTERVAL;VALUE=DURATION:PT1H
X-Robots-Tag:noindex
X-PUBLISHED-TTL:PT1H
BEGIN:VTIMEZONE
TZID:America/Detroit
BEGIN:DAYLIGHT
TZOFFSETFROM:-0500
TZOFFSETTO:-0400
TZNAME:EDT
DTSTART:20250309T070000
END:DAYLIGHT
BEGIN:STANDARD
TZOFFSETFROM:-0400
TZOFFSETTO:-0500
TZNAME:EST
DTSTART:20251102T060000
END:STANDARD
END:VTIMEZONE
BEGIN:VEVENT
DTSTART;TZID=America/Detroit:20250613T190000
DTEND;TZID=America/Detroit:20250613T210000
DTSTAMP:20260424T190052
CREATED:20250601T000244Z
LAST-MODIFIED:20250613T121719Z
UID:10013460-1749841200-1749848400@detroitartdao.com
SUMMARY:Movie Nights In The D – Mufasa 
DESCRIPTION:Get ready for a fun-filled summer evening at Movie Nights in the D! Bring your family and friends to enjoy a variety of classic films on the big screen at our free outdoor movie series at Campus Martius Park. Grab a chair or blanket and settle in on the lawn for a relaxing night under the stars. Arrive by 6 pm to take part in exciting onsite activations before the movie kicks off at 7 pm. And don’t forget to grab some delicious popcorn from Jetta’s Popcorn while you enjoy the show!  \nAll of this year’s Movie Nights in the D will also feature ticket giveaways courtesy of The Detroit Zoo. \nJune 13 – Mufasa | PG  \n“Mufasa: The Lion King” enlists Rafiki to relay the legend of Mufasa to young lion cub Kiara\, daughter of Simba and Nala\, with Timon and Pumbaa lending their signature schtick. Told in flashbacks\, the story introduces Mufasa as an orphaned cub\, lost and alone until he meets a sympathetic lion named Taka—the heir to a royal bloodline. The chance meeting sets in motion an expansive journey of an extraordinary group of misfits searching for their destiny—their bonds will be tested as they work together to evade a threatening and deadly foe.  \n  \n\nvar exampleCallback=function(){console.log(‘Order complete!’);};window.EBWidgets.createWidget({widgetType:’checkout’\,eventId:’1366542157379′\,iframeContainerId:’eventbrite-widget-container-1366542157379′\,iframeContainerHeight:425\,onOrderComplete:exampleCallback}); \nUpcoming Movies:  \nJune 20 – Sonic 3 | PG\nJune 27 – The Fall Guy | PG-13\nJuly 11 – Wild Robot | PG\nJuly 18 – The Meg | PG-13\nJuly 25 – Shrek | PG\nAugust 1 – Step-Up | PG-13\nAugust 8 – Emperor’s New Groove | G\nAugust 15 – Twisters | PG-13 \nAugust 22 – Moana 2 | PG  \n 
URL:https://detroitartdao.com/event/movie-nights-in-the-d-mufasa
LOCATION:Campus Martius Park
CATEGORIES:Campus Martius,Movie Nights in the D,Park Events
ATTACH;FMTTYPE=image/jpeg:https://dpop.nyc3.digitaloceanspaces.com/wp-content/uploads/2025/05/31200247/DDP-MN24-Mufasa-scaled-9i6QKh.tmp_.jpg
GEO:42.3314128;-83.0465629
END:VEVENT
BEGIN:VEVENT
DTSTART;TZID=America/Detroit:20250616T190000
DTEND;TZID=America/Detroit:20250616T210000
DTSTAMP:20260424T190052
CREATED:20250601T000340Z
LAST-MODIFIED:20250616T121728Z
UID:10013470-1750100400-1750107600@detroitartdao.com
SUMMARY:City Glow Yoga at Campus Martius Park
DESCRIPTION:Where are all our yogis at? Get ready to light up your practice – City Glow Yoga is returning to Campus Martius Park with its signature glowing twist. Using 3-channel LED headphones\, you’ll be guided through an extraordinary and uplifting outdoor session that blends movement\, music and city energy.  \nCity Glow Yoga offers a city-inspired experience using silent disco technology to create an immersive escape from the everyday hustle and bustle. It’s a unique\, fun and refreshing way for Detroiters to unwind in the heart of downtown.  \nRegistration is required with a $10 donation. Don’t forget to bring a yoga mat and water bottle. Sign up here: https://bit.ly/city-glow-yoga-campus-martius \n  \nEvent Schedule:   \n7:00 pm: Meet and Greet   \n7:30 pm – 9:00 pm: Yoga Practice   \n   \nCampus Martius Park Event Dates:   \n-June 16   \n-July 14   \n-August 11  \n-September 8 
URL:https://detroitartdao.com/event/city-glow-yoga-at-campus-martius-park
LOCATION:Campus Martius Park
CATEGORIES:Campus Martius,Community Events,Park Events
ATTACH;FMTTYPE=image/webp:https://dpop.nyc3.digitaloceanspaces.com/wp-content/uploads/2025/05/31200343/City-Glow-CMP-2xlO01.tmp_.webp
GEO:42.3314128;-83.0465629
END:VEVENT
BEGIN:VEVENT
DTSTART;TZID=America/Detroit:20250617T190000
DTEND;TZID=America/Detroit:20250617T210000
DTSTAMP:20260424T190052
CREATED:20250601T000204Z
LAST-MODIFIED:20250616T121656Z
UID:10013433-1750186800-1750194000@detroitartdao.com
SUMMARY:Tacos & Trivia
DESCRIPTION:Tuesdays just got tastier! Join us at the Beach at Campus Martius Park presented by Diversified Members Credit Union on Tuesdays at 7 PM for delicious tacos and free trivia with a chance to snag some fun prizes! We’re turning up the heat with themed nights on select dates to keep it fresh. Whether you’re a trivia whiz rolling in with your crew or just in it for the tacos and good vibes\, it’s the perfect midweek hangout. Our Tacos & Trivia event series is supported in part by Corona Extra.  \nNo registration required—just show up\, grab a taco (or two)\, a Corona Extra and get ready to play! 
URL:https://detroitartdao.com/event/tacos-trivia-tuesdays
LOCATION:Campus Martius Park
CATEGORIES:Campus Martius,Free Event,Park Events
ATTACH;FMTTYPE=image/webp:https://dpop.nyc3.digitaloceanspaces.com/wp-content/uploads/2025/06/11080155/DDP_FridayBeachParty_20220617_Selections_Web-25-scaled-W7Z7Dx.tmp_.webp
GEO:42.3314128;-83.0465629
END:VEVENT
BEGIN:VEVENT
DTSTART;TZID=America/Detroit:20250620T190000
DTEND;TZID=America/Detroit:20250620T210000
DTSTAMP:20260424T190052
CREATED:20250601T000320Z
LAST-MODIFIED:20250616T121723Z
UID:10013467-1750446000-1750453200@detroitartdao.com
SUMMARY:Movie Nights In The D – Sonic 3
DESCRIPTION:Get ready for a fun-filled summer evening at Movie Nights in the D! Bring your family and friends to enjoy a variety of classic films on the big screen at our free outdoor movie series at Campus Martius Park. Grab a chair or blanket and settle in on the lawn for a relaxing night under the stars. Arrive by 6 pm to take part in exciting onsite activations before the movie kicks off at 7 pm. And don’t forget to grab some delicious popcorn from Jetta’s Popcorn while you enjoy the show!  \nAll of this year’s Movie Nights in the D will also feature ticket giveaways courtesy of The Detroit Zoo. \nJune 20 – Sonic 3 | PG \nSonic\, Knuckles\, and Tails reunite against a powerful new adversary\, Shadow\, a mysterious villain with powers unlike anything they have faced before. \n\nvar exampleCallback=function(){console.log(‘Order complete!’);};window.EBWidgets.createWidget({widgetType:’checkout’\,eventId:’1366543451249′\,iframeContainerId:’eventbrite-widget-container-1366543451249′\,iframeContainerHeight:425\,onOrderComplete:exampleCallback}); \nUpcoming Movies:  \nJune 27 – The Fall Guy | PG-13\nJuly 11 – Wild Robot | PG\nJuly 18 – The Meg | PG-13\nJuly 25 – Shrek | PG\nAugust 1 – Step-Up | PG-13\nAugust 8 – Emperor’s New Groove | G\nAugust 15 – Twisters | PG-13 \nAugust 22 – Moana 2 | PG  \n 
URL:https://detroitartdao.com/event/movie-nights-in-the-d-sonic-3
LOCATION:Campus Martius Park
CATEGORIES:Campus Martius,Movie Nights in the D,Park Events
ATTACH;FMTTYPE=image/webp:https://dpop.nyc3.digitaloceanspaces.com/wp-content/uploads/2025/05/31200326/DDP-MN24-Sonic-3-scaled-3uC5Qb.tmp_.webp
GEO:42.3314128;-83.0465629
END:VEVENT
BEGIN:VEVENT
DTSTART;TZID=America/Detroit:20250624T190000
DTEND;TZID=America/Detroit:20250624T210000
DTSTAMP:20260424T190052
CREATED:20250601T000241Z
LAST-MODIFIED:20250624T214655Z
UID:10013456-1750791600-1750798800@detroitartdao.com
SUMMARY:Tacos & Trivia
DESCRIPTION:Tuesdays just got tastier! Join us at the Beach at Campus Martius Park presented by Diversified Members Credit Union on Tuesdays at 7 PM for delicious tacos and free trivia with a chance to snag some fun prizes! We’re turning up the heat with themed nights on select dates to keep it fresh. Whether you’re a trivia whiz rolling in with your crew or just in it for the tacos and good vibes\, it’s the perfect midweek hangout. Our Tacos & Trivia event series is supported in part by Corona Extra.  \nNo registration required—just show up\, grab a taco (or two)\, a Corona Extra and get ready to play!  \n\nvar exampleCallback=function(){console.log(‘Order complete!’);};window.EBWidgets.createWidget({widgetType:’checkout’\,eventId:’1396865435119′\,iframeContainerId:’eventbrite-widget-container-1396865435119′\,iframeContainerHeight:425\,onOrderComplete:exampleCallback});
URL:https://detroitartdao.com/event/tacos-trivia-tuesdays-2
LOCATION:Campus Martius Park
CATEGORIES:Campus Martius,Free Event,Park Events
ATTACH;FMTTYPE=image/webp:https://dpop.nyc3.digitaloceanspaces.com/wp-content/uploads/2025/06/11080155/DDP_FridayBeachParty_20220617_Selections_Web-25-scaled-W7Z7Dx.tmp_.webp
GEO:42.3314128;-83.0465629
END:VEVENT
BEGIN:VEVENT
DTSTART;TZID=America/Detroit:20250627T190000
DTEND;TZID=America/Detroit:20250627T210000
DTSTAMP:20260424T190052
CREATED:20250601T000326Z
LAST-MODIFIED:20250627T223222Z
UID:10013468-1751050800-1751058000@detroitartdao.com
SUMMARY:Movie Nights In The D – The Fall Guy
DESCRIPTION:Get ready for a fun-filled summer evening at Movie Nights in the D! Bring your family and friends to enjoy a variety of classic films on the big screen at our free outdoor movie series at Campus Martius Park. Grab a chair or blanket and settle in on the lawn for a relaxing night under the stars. Arrive by 6 pm to take part in exciting onsite activations before the movie kicks off at 7 pm. And don’t forget to grab some delicious popcorn from Jetta’s Popcorn while you enjoy the show!  \nAll of this year’s Movie Nights in the D will also feature ticket giveaways courtesy of The Detroit Zoo. \nJune 27 – The Fall Guy | PG-13 \nHe’s a stuntman\, and like everyone in the stunt community\, he gets blown up\, shot\, crashed\, thrown through windows\, and dropped from the highest of heights\, all for our entertainment. And now\, fresh off an almost career-ending accident\, this working-class hero has to track down a missing movie star\, solve a conspiracy\, and try to win back the love of his life while still doing his day job. What could possibly go right? \n🎟 Bonus fun at Movie Night In The D! Attendees on June 27 have the chance to win tickets to exciting upcoming shows like KIDZ BOP and Disney On Ice — thanks to our friends at 313 Presents. \n  \n\nvar exampleCallback=function(){console.log(‘Order complete!’);};window.EBWidgets.createWidget({widgetType:’checkout’\,eventId:’1370432553659′\,iframeContainerId:’eventbrite-widget-container-1370432553659′\,iframeContainerHeight:425\,onOrderComplete:exampleCallback}); \nUpcoming Movies: \nJuly 11 – Wild Robot | PG\nJuly 18 – The Meg | PG-13\nJuly 25 – Shrek | PG\nAugust 1 – Step-Up | PG-13\nAugust 8 – Emperor’s New Groove | G\nAugust 15 – Twisters | PG-13 \nAugust 22 – Moana 2 | PG  \n 
URL:https://detroitartdao.com/event/movie-nights-in-the-d-the-fall-guy
LOCATION:Campus Martius Park
CATEGORIES:Campus Martius,Movie Nights in the D,Park Events
ATTACH;FMTTYPE=image/webp:https://dpop.nyc3.digitaloceanspaces.com/wp-content/uploads/2025/05/31200332/DDP-MN24-The-Fall-Guy-scaled-VY8Ve8.tmp_.webp
GEO:42.3314128;-83.0465629
END:VEVENT
BEGIN:VEVENT
DTSTART;TZID=America/Detroit:20250628T180000
DTEND;TZID=America/Detroit:20250628T220000
DTSTAMP:20260424T190052
CREATED:20250601T000332Z
LAST-MODIFIED:20250628T223225Z
UID:10013471-1751133600-1751148000@detroitartdao.com
SUMMARY:Island Time Beach Party presented by Diversified Members Credit Union | June 28th 
DESCRIPTION:Kick back\, relax and escape to the tropics – no passport needed! Join us for an Island Time Beach Party at The Beach at Campus Martius Park presented by Diversified Members Credit Union\, the No. 1 public square in the nation. This FREE event brings the island vibes straight to Downtown Detroit with live music\, beachy giveaways and tropical fun from 6 – 10 pm. Our Beach Party event series is presented by Diversified Members Credit Union and supported in part by Casamigos and MGM Grand Detroit.  \nGroove to the sounds of The Leaky Tikis on the MGM Grand Detroit Sand Stage\, show off your aloha attire and sip on summery drinks as you soak up the sunshine. Bring your beachwear\, your best aloha vibes and let’s party in paradise – right in the heart of the city.  \n  \nActivities include:  \n🎶 Live Performances by The Leaky Tikis  \n🍋‍🟩 Casamigos Tequila Sampling \n🦈 Mechanical Shark Rides — $5 Per Ride \n🌺 Best Hawaiian Shirt Contest – Show off your tropical flair for a chance to win fun prizes.  \n🎨 Tie Dye T-Shirt Station – Create your own colorful island-style tee to take home.   \n🎁 Giveaways – Don’t miss out on free beachy goodies and surprises throughout the day!  \n– and plenty more  \n\nvar exampleCallback=function(){console.log(‘Order complete!’);};window.EBWidgets.createWidget({widgetType:’checkout’\,eventId:’1396934230889′\,iframeContainerId:’eventbrite-widget-container-1396934230889′\,iframeContainerHeight:425\,onOrderComplete:exampleCallback}); \n  \nUpcoming Beach Parties and Themes:   \n-Y2K Pop Punk Beach Bash | July 19th  \n-R&Beach Party | August 16th  \n-Country Roots Beach Party | September 13th 
URL:https://detroitartdao.com/event/island-time-beach-party-presented-by-diversified-members-credit-union-june-28th
LOCATION:Campus Martius Park
CATEGORIES:Campus Martius,Free Event,Park Events
ATTACH;FMTTYPE=image/webp:https://dpop.nyc3.digitaloceanspaces.com/wp-content/uploads/2025/05/31200340/Island-Time-Beach-Party-scaled-uZJnUu.tmp_.webp
GEO:42.3314128;-83.0465629
END:VEVENT
BEGIN:VEVENT
DTSTART;TZID=America/Detroit:20250628T180000
DTEND;TZID=America/Detroit:20250628T220000
DTSTAMP:20260424T190052
CREATED:20250601T000333Z
LAST-MODIFIED:20250601T000333Z
UID:10013469-1751133600-1751148000@detroitartdao.com
SUMMARY:Island Time Beach Party presented by Diversified Members Credit Union | June 28th 
DESCRIPTION:Kick back\, relax and escape to the tropics – no passport needed! Join us for an Island Time Beach Party at The Beach at Campus Martius Park presented by Diversified Members Credit Union\, the No. 1 public square in the nation. This FREE event brings the island vibes straight to Downtown Detroit with live music\, beachy giveaways and tropical fun from 6 – 10 pm. Our Beach Party event series is presented by Diversified Members Credit Union and supported in part by Casamigos.  \nGroove to the sounds of The Leaky Tikis on stage\, show off your aloha attire and sip on summery drinks as you soak up the sunshine. Bring your beachwear\, your best aloha vibes and let’s party in paradise – right in the heart of the city.  \n  \nActivities include:  \n🎶 Live Performances by The Leaky Tikis  \n🍋‍🟩 Casamigos Tequila Sampling \n🌺 Best Hawaiian Shirt Contest – Show off your tropical flair for a chance to win fun prizes.  \n🎨 Tie Dye T-Shirt Station – Create your own colorful island-style tee to take home.   \n🎁Giveaways – Don’t miss out on free beachy goodies and surprises throughout the day!  \n– and plenty more   \n  \nUpcoming Beach Parties and Themes:   \n-Y2K Pop Punk Beach Bash | July 19th  \n-R&Beach Party | August 16th  \n-Country Roots Beach Party | September 13th 
URL:https://detroitartdao.com/event/island-time-beach-party-presented-by-diversified-members-credit-union-june-28th-2
LOCATION:Campus Martius Park
CATEGORIES:Campus Martius,Free Event,Park Events
ATTACH;FMTTYPE=image/webp:https://dpop.nyc3.digitaloceanspaces.com/wp-content/uploads/2025/05/31200340/Island-Time-Beach-Party-scaled-uZJnUu.tmp_.webp
GEO:42.3314128;-83.0465629
END:VEVENT
END:VCALENDAR