BEGIN:VCALENDAR
VERSION:2.0
PRODID:-//Discover Detroit Art - ECPv6.0.1//NONSGML v1.0//EN
CALSCALE:GREGORIAN
METHOD:PUBLISH
X-WR-CALNAME:Discover Detroit Art
X-ORIGINAL-URL:https://detroitartdao.com
X-WR-CALDESC:Events for Discover Detroit Art
REFRESH-INTERVAL;VALUE=DURATION:PT1H
X-Robots-Tag:noindex
X-PUBLISHED-TTL:PT1H
BEGIN:VTIMEZONE
TZID:America/Detroit
BEGIN:DAYLIGHT
TZOFFSETFROM:-0500
TZOFFSETTO:-0400
TZNAME:EDT
DTSTART:20250309T070000
END:DAYLIGHT
BEGIN:STANDARD
TZOFFSETFROM:-0400
TZOFFSETTO:-0500
TZNAME:EST
DTSTART:20251102T060000
END:STANDARD
END:VTIMEZONE
BEGIN:VEVENT
DTSTART;TZID=America/Detroit:20250701T190000
DTEND;TZID=America/Detroit:20250701T210000
DTSTAMP:20260425T074615
CREATED:20250601T000242Z
LAST-MODIFIED:20250612T120214Z
UID:10013458-1751396400-1751403600@detroitartdao.com
SUMMARY:Tacos & Trivia
DESCRIPTION:Tuesdays just got tastier! Join us at the Beach at Campus Martius Park presented by Diversified Members Credit Union on Tuesdays at 7 PM for delicious tacos and free trivia with a chance to snag some fun prizes! We’re turning up the heat with themed nights on select dates to keep it fresh. Whether you’re a trivia whiz rolling in with your crew or just in it for the tacos and good vibes\, it’s the perfect midweek hangout. Our Tacos & Trivia event series is supported in part by Corona Extra.  \nNo registration required—just show up\, grab a taco (or two)\, a Corona Extra and get ready to play! 
URL:https://detroitartdao.com/event/tacos-trivia-tuesdays-3
LOCATION:Campus Martius Park
CATEGORIES:Campus Martius,Free Event,Park Events
ATTACH;FMTTYPE=image/webp:https://dpop.nyc3.digitaloceanspaces.com/wp-content/uploads/2025/06/11080155/DDP_FridayBeachParty_20220617_Selections_Web-25-scaled-W7Z7Dx.tmp_.webp
GEO:42.3314128;-83.0465629
END:VEVENT
BEGIN:VEVENT
DTSTART;TZID=America/Detroit:20250708T190000
DTEND;TZID=America/Detroit:20250708T210000
DTSTAMP:20260425T074615
CREATED:20250608T114711Z
LAST-MODIFIED:20250708T120149Z
UID:10013671-1752001200-1752008400@detroitartdao.com
SUMMARY:Tacos & Trivia
DESCRIPTION:Tuesdays just got tastier! Join us on the second floor of CABANA 313 on Tuesdays at 7 PM for delicious tacos and free trivia with a chance to snag some fun prizes! We’re turning up the heat with themed nights on select dates to keep it fresh. Whether you’re a trivia whiz rolling in with your crew or just in it for the tacos and good vibes\, it’s the perfect midweek hangout. Our Tacos & Trivia event series is supported in part by Corona Extra.  \nNo registration required—just show up\, grab a taco (or two)\, a Corona Extra and get ready to play!  \n\nvar exampleCallback=function(){console.log(‘Order complete!’);};window.EBWidgets.createWidget({widgetType:’checkout’\,eventId:’1396865435119′\,iframeContainerId:’eventbrite-widget-container-1396865435119′\,iframeContainerHeight:425\,onOrderComplete:exampleCallback});
URL:https://detroitartdao.com/event/tacos-trivia-tuesdays-4
LOCATION:Campus Martius Park
CATEGORIES:Campus Martius,Free Event,Park Events
ATTACH;FMTTYPE=image/webp:https://dpop.nyc3.digitaloceanspaces.com/wp-content/uploads/2025/06/11080155/DDP_FridayBeachParty_20220617_Selections_Web-25-scaled-W7Z7Dx.tmp_.webp
GEO:42.3314128;-83.0465629
END:VEVENT
BEGIN:VEVENT
DTSTART;TZID=America/Detroit:20250711T180000
DTEND;TZID=America/Detroit:20250711T210000
DTSTAMP:20260425T074615
CREATED:20250611T120227Z
LAST-MODIFIED:20250711T120233Z
UID:10013746-1752256800-1752267600@detroitartdao.com
SUMMARY:Movie Nights In The D – Wild Robot
DESCRIPTION:Get ready for a fun-filled summer evening at Movie Nights in the D! Bring your family and friends to enjoy a variety of classic films on the big screen at our free outdoor movie series at Campus Martius Park. Grab a chair or blanket and settle in on the lawn for a relaxing night under the stars. Arrive by 6 pm to take part in exciting onsite activations before the movie kicks off at 7 pm. And don’t forget to grab some delicious popcorn from Jetta’s Popcorn while you enjoy the show!  \nAll of this year’s Movie Nights in the D will also feature ticket giveaways courtesy of The Detroit Zoo. \nJuly 11 – Wild Robot | PG \nAfter a shipwreck\, an intelligent robot called Roz is stranded on an uninhabited island. To survive the harsh environment\, Roz bonds with the island’s animals and cares for an orphaned baby goose \nArrive early and from 6 pm to 7 pm attendees can visit CHEMpreneurIST’s Step into Innovation Station: Wild Robot Edition\, where participants can take on the role of eco-innovators! Using upcycled objects\, they will design and prototype their own unique Wild Robots to take. This engaging hands-on experience introduces key concepts in sustainability\, engineering\, and entrepreneurship while encouraging future changemakers to build with empathy\, curiosity\, and a sense of purpose. \nBonus fun at Movie Night In The D! Attendees on July 11 have the chance to win tickets to exciting upcoming shows like KIDZ BOP and Disney On Ice — thanks to our friends at 313 Presents. \n\nvar exampleCallback=function(){console.log(‘Order complete!’);};window.EBWidgets.createWidget({widgetType:’checkout’\,eventId:’1370461991709′\,iframeContainerId:’eventbrite-widget-container-1370461991709′\,iframeContainerHeight:425\,onOrderComplete:exampleCallback}); \nUpcoming Movies:  \nJuly 18 – The Meg | PG-13\nJuly 25 – Shrek | PG\nAugust 1 – Step-Up | PG-13\nAugust 8 – Emperor’s New Groove | G\nAugust 15 – Twisters | PG-13 \nAugust 22 – Moana 2 | PG  \n 
URL:https://detroitartdao.com/event/movie-nights-in-the-d-wild-robot
LOCATION:Campus Martius Park
CATEGORIES:Campus Martius,Movie Nights in the D,Park Events
ATTACH;FMTTYPE=image/webp:https://dpop.nyc3.digitaloceanspaces.com/wp-content/uploads/2025/06/11080247/DDP-MN24-Wild-Robot-scaled-KSmaij.tmp_.webp
GEO:42.3314128;-83.0465629
END:VEVENT
BEGIN:VEVENT
DTSTART;TZID=America/Detroit:20250713T130000
DTEND;TZID=America/Detroit:20250713T170000
DTSTAMP:20260425T074615
CREATED:20250613T121658Z
LAST-MODIFIED:20250713T120229Z
UID:10013760-1752411600-1752426000@detroitartdao.com
SUMMARY:Campus Kids Days Presented By Corewell Health
DESCRIPTION:Campus Kids Days Presented By Corewell Health returns to Campus Martius Park for summer 2025! Families are invited to enjoy this free series of fun-filled Sundays featuring themed entertainment\, interactive activities and engaging experiences for kids of all ages. It’s the perfect way to make the most of a Sunday in the heart of Downtown Detroit. Our Campus Kids Day event series is presented by Corewell Health and supported in part by The Detroit Zoo. The Michigan Science Center will also be in attendance at all Campus Kids Day events\, bringing fun in the sun with unique activations and stations.  \n\nvar exampleCallback=function(){console.log(‘Order complete!’);};window.EBWidgets.createWidget({widgetType:’checkout’\,eventId:’1399535521419′\,iframeContainerId:’eventbrite-widget-container-1399535521419′\,iframeContainerHeight:425\,onOrderComplete:exampleCallback}); \nEvents run from 1–5 p.m. on select Sundays\, July 13 through October 5.  \n2025 Schedule:  \nJuly 13: Baby Shark Bonanza  \nDive into a fin-tastic afternoon of ocean-inspired family fun!  \n\n\n\nSnap a photo with the Baby Shark character (appearing 2–3 p.m.)\nGroove at the Bubble Dance Party with DJ Bri (1:30–2:30 p.m. & 3:30–4:30 p.m.)\nJump into fun with the Baby Shark bounce house!\nExplore the Michigan Science Center station\nCraft stations courtesy of Metro Parent\nEnjoy glitter tattoos\, lawn games\, and giveaways from Birdie’s Books\nTigers baseball on the big screen\nThe DNR/Outdoor Adventure Center staff will be talking about our wildlife neighbors that call “D Town” home. Guests will be able to see up close and touch the furs and feathers of these neighbors and how they benefit us and nature.\nand more!\n\n\n\nPlus: Don’t miss your chance to win big! All attendees can enter to win a family four-pack of tickets to the Detroit Zoo\, including access to the Dragon Forest exhibit. You could also score tickets to an upcoming show\, courtesy of 313 Presents. Enjoy fun activations and free giveaways from Corewell Health\, McDonald’s and the Detroit Zoo. \nIt’s sure to be a splashy start to this year’s Campus Kids Days presented by Corewell Health!  \nAugust 17: Back to School Bash  \nSeptember 21: Autumn Adventure  \nOctober 5: Lil’ Boo Bash  \n  \nMark your calendars and join us for these exciting afternoons packed with creativity\, energy and family-friendly fun! Be sure to check in closer to the event for more details on each day’s events and themed fun.  
URL:https://detroitartdao.com/event/campus-kids-days-presented-by-corewell-health
LOCATION:Campus Martius Park
CATEGORIES:Campus Martius,Community Events,Free Event,Park Events
ATTACH;FMTTYPE=image/webp:https://dpop.nyc3.digitaloceanspaces.com/wp-content/uploads/2025/06/13081704/Campus-Kids-Day-1-scaled-4zsTBg.tmp_.webp
GEO:42.3314128;-83.0465629
END:VEVENT
BEGIN:VEVENT
DTSTART;TZID=America/Detroit:20250714T190000
DTEND;TZID=America/Detroit:20250714T210000
DTSTAMP:20260425T074615
CREATED:20250614T121708Z
LAST-MODIFIED:20250714T120239Z
UID:10013766-1752519600-1752526800@detroitartdao.com
SUMMARY:City Glow Yoga at Campus Martius Park
DESCRIPTION:Where are all our yogis at? Get ready to light up your practice – City Glow Yoga is returning to Campus Martius Park with its signature glowing twist. Using 3-channel LED headphones\, you’ll be guided through an extraordinary and uplifting outdoor session that blends movement\, music and city energy.  \nCity Glow Yoga offers a city-inspired experience using silent disco technology to create an immersive escape from the everyday hustle and bustle. It’s a unique\, fun and refreshing way for Detroiters to unwind in the heart of downtown.  \nRegistration is required with a $10 donation. Don’t forget to bring a yoga mat and water bottle. Sign up here: https://bit.ly/city-glow-yoga-campus-martius \n  \nEvent Schedule:   \n7:00 pm: Meet and Greet   \n7:30 pm – 9:00 pm: Yoga Practice   \n   \nCampus Martius Park Event Dates:   \n-June 16   \n-July 14   \n-August 11  \n-September 8 
URL:https://detroitartdao.com/event/city-glow-yoga-at-campus-martius-park-2
LOCATION:Campus Martius Park
CATEGORIES:Campus Martius,Community Events,Park Events
ATTACH;FMTTYPE=image/webp:https://dpop.nyc3.digitaloceanspaces.com/wp-content/uploads/2025/05/31200343/City-Glow-CMP-2xlO01.tmp_.webp
GEO:42.3314128;-83.0465629
END:VEVENT
BEGIN:VEVENT
DTSTART;TZID=America/Detroit:20250715T190000
DTEND;TZID=America/Detroit:20250715T210000
DTSTAMP:20260425T074615
CREATED:20250615T121650Z
LAST-MODIFIED:20250715T120210Z
UID:10013768-1752606000-1752613200@detroitartdao.com
SUMMARY:Tacos & Trivia
DESCRIPTION:Tuesdays just got tastier! Join us on the second floor of CABANA 313 on Tuesdays at 7 PM for delicious tacos and free trivia with a chance to snag some fun prizes! We’re turning up the heat with themed nights on select dates to keep it fresh. Whether you’re a trivia whiz rolling in with your crew or just in it for the tacos and good vibes\, it’s the perfect midweek hangout. Our Tacos & Trivia event series is supported in part by Corona Extra.  \nNo registration required—just show up\, grab a taco (or two)\, a Corona Extra and get ready to play!  \n\nvar exampleCallback=function(){console.log(‘Order complete!’);};window.EBWidgets.createWidget({widgetType:’checkout’\,eventId:’1396865435119′\,iframeContainerId:’eventbrite-widget-container-1396865435119′\,iframeContainerHeight:425\,onOrderComplete:exampleCallback});
URL:https://detroitartdao.com/event/tacos-trivia
LOCATION:Campus Martius Park
CATEGORIES:Campus Martius,Free Event,Park Events
ATTACH;FMTTYPE=image/webp:https://dpop.nyc3.digitaloceanspaces.com/wp-content/uploads/2025/06/11080155/DDP_FridayBeachParty_20220617_Selections_Web-25-scaled-W7Z7Dx.tmp_.webp
GEO:42.3314128;-83.0465629
END:VEVENT
BEGIN:VEVENT
DTSTART;TZID=America/Detroit:20250717T190000
DTEND;TZID=America/Detroit:20250717T223000
DTSTAMP:20260425T074615
CREATED:20250625T214934Z
LAST-MODIFIED:20250717T120236Z
UID:10013907-1752778800-1752791400@detroitartdao.com
SUMMARY:Canadian Film Night at Campus Martius Park
DESCRIPTION:Metro Detroiters and Windsor-area residents are invited to experience an unforgettable evening of storytelling\, culture\, and cross-border camaraderie as Canadian Film Night at Campus Martius Park brings two acclaimed films to the heart of downtown Detroit. The free double feature is presented through a dynamic partnership between the Windsor International Film Festival (WIFF) and the Downtown Detroit Partnership (DDP). \nThis unique cinematic event is part of a broader Windsor–Detroit binational collaboration initiative\, an effort focused on deepening cultural exchange\, increasing regional connectivity and fostering shared economic opportunity between two globally minded border cities. From art to industry\, this cross-border movement is fueled by an alliance of public\, private and nonprofit partners\, including the Downtown Detroit Partnership\, Consulate General of Canada\, the City of Detroit\, the City of Windsor\, Visit Detroit\, Tourism Windsor Essex Pelee Island\, the Windsor-Essex Regional Chamber of Commerce\, Invest Windsor Essex\, Rocket Companies\, and Windsor Tunnel. This initiative builds on decades of cooperation and intentional commitment between the two cities to advance a globally creative\, competitive\, and inclusive binational region to thrive on the world stage. \nThe double feature Canadian Film Night lineup will present the following: \n  \n\nAny Other Way: The Jackie Shane Story – A Peabody Award Winner and WIFF Prize in Canadian Film nominee\, this stirring documentary is a tribute to the life and legacy of trailblazing soul singer Jackie Shane\, whose story of identity and resilience continues to inspire.\n\n  \n\nHumanist Vampire Seeking Consenting Suicidal Person – A WIFF Prize in Canadian Film winner\, this genre-defying\, darkly comedic French-language film (with English subtitles) explores unlikely connection through a surreal\, emotionally rich lens.\n\n  \nFilms begin at 7 p.m. at Campus Martius Park\, ranked the No. 1 public square in the country for three consecutive years. Guests are encouraged to bring blankets or lawn chairs and enjoy this cinematic evening under the stars right in the heart of Detroit. Events like the Canadian Film Night continue to affirm the park’s national reputation as a premier destination for arts\, culture\, and community engagement. \n  \n\nvar exampleCallback=function(){console.log(‘Order complete!’);};window.EBWidgets.createWidget({widgetType:’checkout’\,eventId:’1439241483019′\,iframeContainerId:’eventbrite-widget-container-1439241483019′\,iframeContainerHeight:425\,onOrderComplete:exampleCallback});
URL:https://detroitartdao.com/event/canadian-film-night-at-campus-martius-park
LOCATION:Campus Martius Park
CATEGORIES:Campus Martius,Community Events,Free Event,Park Events
ATTACH;FMTTYPE=image/webp:https://dpop.nyc3.digitaloceanspaces.com/wp-content/uploads/2025/06/30190342/DDP_Canadian-Film-Night_Eventbrite-fjLLyL.tmp_.webp
GEO:42.3314128;-83.0465629
END:VEVENT
BEGIN:VEVENT
DTSTART;TZID=America/Detroit:20250718T190000
DTEND;TZID=America/Detroit:20250718T210000
DTSTAMP:20260425T074615
CREATED:20250622T213328Z
LAST-MODIFIED:20250718T120225Z
UID:10013858-1752865200-1752872400@detroitartdao.com
SUMMARY:Movie Nights In The D – The Meg
DESCRIPTION:Get ready for a fun-filled summer evening at Movie Nights in the D! Bring your family and friends to enjoy a variety of classic films on the big screen at our free outdoor movie series at Campus Martius Park. Grab a chair or blanket and settle in on the lawn for a relaxing night under the stars. Arrive by 6 pm to take part in exciting onsite activations before the movie kicks off at 7 pm. And don’t forget to grab some delicious popcorn from Jetta’s Popcorn while you enjoy the show!  \nAll of this year’s Movie Nights in the D will also feature ticket giveaways courtesy of The Detroit Zoo. \nJuly 18 – The Meg | PG-13 \nAn enormous great white shark terrorizes a summer resort town\, where a police chief\, a grizzled fisherman\, and an intrepid marine biologist realize they’re “gonna need a bigger boat” to battle the bloodthirsty beast. \nBonus fun at Movie Night In The D! Attendees on July 18 have the chance to win tickets to exciting upcoming shows like KIDZ BOP and Disney Descendants/Zombies — thanks to our friends at 313 Presents. \n\nvar exampleCallback=function(){console.log(‘Order complete!’);};window.EBWidgets.createWidget({widgetType:’checkout’\,eventId:’1371889350979′\,iframeContainerId:’eventbrite-widget-container-1371889350979′\,iframeContainerHeight:425\,onOrderComplete:exampleCallback}); \nUpcoming Movies:  \nJuly 25 – Shrek | PG\nAugust 1 – Step-Up | PG-13\nAugust 8 – Emperor’s New Groove | G\nAugust 15 – Twisters | PG-13 \nAugust 22 – Moana 2 | PG  \n 
URL:https://detroitartdao.com/event/movie-nights-in-the-d-the-meg
LOCATION:Campus Martius Park
CATEGORIES:Campus Martius,Movie Nights in the D,Park Events
ATTACH;FMTTYPE=image/webp:https://dpop.nyc3.digitaloceanspaces.com/wp-content/uploads/2025/06/22173331/DDP-MN24-The-Meg-scaled-wlZu6w.tmp_.webp
GEO:42.3314128;-83.0465629
END:VEVENT
BEGIN:VEVENT
DTSTART;TZID=America/Detroit:20250719T180000
DTEND;TZID=America/Detroit:20250719T220000
DTSTAMP:20260425T074615
CREATED:20250622T213340Z
LAST-MODIFIED:20250719T120222Z
UID:10013859-1752948000-1752962400@detroitartdao.com
SUMMARY:Y2K Pop Punk Beach Bash presented by Diversified Members Credit Union | July 19th
DESCRIPTION:Throw it back to the early 2000s at our Y2K Pop Punk Beach Bash at The Beach at Campus Martius Park presented by Diversified Members Credit Union. This FREE event brings the nostalgic vibes downtown with live pop punk and alternative rock from The Crampton Brothers on the MGM Grand Detroit Sand Stage\, plus giveaways and hands-on fun from 6 – 10 pm. Our Beach Party event series is presented by Diversified Members Credit Union and supported in part by Casamigos and MGM Grand Detroit. \nChannel your inner scene kid or pop punk rebel with band tees\, spiky hair\, and chunky shoes\, and soak up the sun with a drink in hand. Bring your beach chair\, your best Y2K attitude\, and get ready to rock the sand. \n  \nActivities include: \n🎶 Live Performances by The Crampton Brothers on the MGM Grand Detroit Sand Stage \n🍋‍🟩 Casamigos Tequila Sampling (21+) \n🖌️ Capture and savor the moment with airbrush tattoos \n🎟️ Win Free Tickets — Courtesy of our friends at 313 presents\, you have the chance to win free tickets to see the Jonas Brothers or the Lumineers for free. \n🎁 Giveaways – Don’t miss out on free goodies and surprises throughout the event! \n\nvar exampleCallback=function(){console.log(‘Order complete!’);};window.EBWidgets.createWidget({widgetType:’checkout’\,eventId:’1396900861079′\,iframeContainerId:’eventbrite-widget-container-1396900861079′\,iframeContainerHeight:425\,onOrderComplete:exampleCallback}); \nUpcoming Beach Parties and Themes: \n-R & Beach | August 16th \n-Country Roots Beach Party | September 13th
URL:https://detroitartdao.com/event/y2k-pop-punk-beach-bash-presented-by-diversified-members-credit-union-july-19th
LOCATION:Campus Martius Park
CATEGORIES:Campus Martius,Free Event,Park Events
ATTACH;FMTTYPE=image/webp:https://dpop.nyc3.digitaloceanspaces.com/wp-content/uploads/2025/06/22173344/Y2k-koidci.tmp_.webp
GEO:42.3314128;-83.0465629
END:VEVENT
BEGIN:VEVENT
DTSTART;TZID=America/Detroit:20250722T190000
DTEND;TZID=America/Detroit:20250722T210000
DTSTAMP:20260425T074615
CREATED:20250622T213323Z
LAST-MODIFIED:20250722T121648Z
UID:10013857-1753210800-1753218000@detroitartdao.com
SUMMARY:Tacos & Trivia
DESCRIPTION:Tuesdays just got tastier! Join us on the second floor of CABANA 313 on Tuesdays at 7 PM for delicious tacos and free trivia with a chance to snag some fun prizes! We’re turning up the heat with themed nights on select dates to keep it fresh. Whether you’re a trivia whiz rolling in with your crew or just in it for the tacos and good vibes\, it’s the perfect midweek hangout. Our Tacos & Trivia event series is supported in part by Corona Extra.  \nNo registration required—just show up\, grab a taco (or two)\, a Corona Extra and get ready to play!  \n\nvar exampleCallback=function(){console.log(‘Order complete!’);};window.EBWidgets.createWidget({widgetType:’checkout’\,eventId:’1396865435119′\,iframeContainerId:’eventbrite-widget-container-1396865435119′\,iframeContainerHeight:425\,onOrderComplete:exampleCallback});
URL:https://detroitartdao.com/event/tacos-trivia-2
LOCATION:Campus Martius Park
CATEGORIES:Campus Martius,Free Event,Park Events
ATTACH;FMTTYPE=image/webp:https://dpop.nyc3.digitaloceanspaces.com/wp-content/uploads/2025/06/11080155/DDP_FridayBeachParty_20220617_Selections_Web-25-scaled-W7Z7Dx.tmp_.webp
GEO:42.3314128;-83.0465629
END:VEVENT
BEGIN:VEVENT
DTSTART;TZID=America/Detroit:20250725T183000
DTEND;TZID=America/Detroit:20250725T210000
DTSTAMP:20260425T074615
CREATED:20250625T214723Z
LAST-MODIFIED:20250725T130243Z
UID:10013898-1753468200-1753477200@detroitartdao.com
SUMMARY:Movie Nights In The D – Shrek
DESCRIPTION:Get ready for a fun-filled summer evening at Movie Nights in the D! Bring your family and friends to enjoy a variety of classic films on the big screen at our free outdoor movie series at Campus Martius Park. Grab a chair or blanket and settle in on the lawn for a relaxing night under the stars. Arrive by 6 pm to take part in exciting onsite activations before the movie kicks off at 7 pm. And don’t forget to grab some delicious popcorn from Jetta’s Popcorn while you enjoy the show!  \nAll of this year’s Movie Nights in the D will also feature ticket giveaways courtesy of The Detroit Zoo. \nJuly 25 – Shrek | PG \nA mean lord exiles fairytale creatures to the swamp of a grumpy ogre\, who must go on a quest and rescue a princess for the lord in order to get his land back. \nDon’t miss the magic before the movie! Arrive early for a special pre-show performance by the Detroit Opera. Two vocalists\, soprano Mia Mandineau and baritone David Moan\, along with pianist John Etsell\, will offer songs from the Opera and Broadway Musical Stages from 6:30 to 7 PM. \nPlus\, bonus fun at Movie Night In The D! Attendees on July 25 have the chance to win tickets to exciting upcoming shows like Disney On Ice and Gabby Dollhouse Live — thanks to our friends at 313 Presents. \n\nvar exampleCallback=function(){console.log(‘Order complete!’);};window.EBWidgets.createWidget({widgetType:’checkout’\,eventId:’1371890684969′\,iframeContainerId:’eventbrite-widget-container-1371890684969′\,iframeContainerHeight:425\,onOrderComplete:exampleCallback}); \nUpcoming Movies:  \nAugust 1 – Step-Up | PG-13\nAugust 8 – Emperor’s New Groove | G\nAugust 15 – Twisters | PG-13 \nAugust 22 – Moana 2 | PG  \n 
URL:https://detroitartdao.com/event/movie-nights-in-the-d-shrek
LOCATION:Campus Martius Park
CATEGORIES:Campus Martius,Movie Nights in the D,Park Events
ATTACH;FMTTYPE=image/webp:https://dpop.nyc3.digitaloceanspaces.com/wp-content/uploads/2025/06/25174726/DDP-MN24-Shrek-scaled-aIyewy.tmp_.webp
GEO:42.3314128;-83.0465629
END:VEVENT
BEGIN:VEVENT
DTSTART;TZID=America/Detroit:20250729T190000
DTEND;TZID=America/Detroit:20250729T210000
DTSTAMP:20260425T074615
CREATED:20250629T224652Z
LAST-MODIFIED:20250729T133206Z
UID:10013974-1753815600-1753822800@detroitartdao.com
SUMMARY:Tacos & Trivia
DESCRIPTION:Tuesdays just got tastier! Join us on the second floor of CABANA 313 on Tuesdays at 7 PM for delicious tacos and free trivia with a chance to snag some fun prizes! We’re turning up the heat with themed nights on select dates to keep it fresh. Whether you’re a trivia whiz rolling in with your crew or just in it for the tacos and good vibes\, it’s the perfect midweek hangout. Our Tacos & Trivia event series is supported in part by Corona Extra.  \nNo registration required—just show up\, grab a taco (or two)\, a Corona Extra and get ready to play!  \n\nvar exampleCallback=function(){console.log(‘Order complete!’);};window.EBWidgets.createWidget({widgetType:’checkout’\,eventId:’1396865435119′\,iframeContainerId:’eventbrite-widget-container-1396865435119′\,iframeContainerHeight:425\,onOrderComplete:exampleCallback});
URL:https://detroitartdao.com/event/tacos-trivia-3
LOCATION:Campus Martius Park
CATEGORIES:Campus Martius,Free Event,Park Events
ATTACH;FMTTYPE=image/webp:https://dpop.nyc3.digitaloceanspaces.com/wp-content/uploads/2025/06/11080155/DDP_FridayBeachParty_20220617_Selections_Web-25-scaled-W7Z7Dx.tmp_.webp
GEO:42.3314128;-83.0465629
END:VEVENT
END:VCALENDAR