BEGIN:VCALENDAR
VERSION:2.0
PRODID:-//Discover Detroit Art - ECPv6.0.1//NONSGML v1.0//EN
CALSCALE:GREGORIAN
METHOD:PUBLISH
X-WR-CALNAME:Discover Detroit Art
X-ORIGINAL-URL:https://detroitartdao.com
X-WR-CALDESC:Events for Discover Detroit Art
REFRESH-INTERVAL;VALUE=DURATION:PT1H
X-Robots-Tag:noindex
X-PUBLISHED-TTL:PT1H
BEGIN:VTIMEZONE
TZID:America/Detroit
BEGIN:DAYLIGHT
TZOFFSETFROM:-0500
TZOFFSETTO:-0400
TZNAME:EDT
DTSTART:20250309T070000
END:DAYLIGHT
BEGIN:STANDARD
TZOFFSETFROM:-0400
TZOFFSETTO:-0500
TZNAME:EST
DTSTART:20251102T060000
END:STANDARD
END:VTIMEZONE
BEGIN:VEVENT
DTSTART;TZID=America/Detroit:20250801T184500
DTEND;TZID=America/Detroit:20250801T210000
DTSTAMP:20260425T092118
CREATED:20250702T080236Z
LAST-MODIFIED:20250801T134716Z
UID:10013997-1754073900-1754082000@detroitartdao.com
SUMMARY:Movie Nights In The D – Step Up
DESCRIPTION:Get ready for a fun-filled summer evening at Movie Nights in the D! Bring your family and friends to enjoy a variety of classic films on the big screen at our free outdoor movie series at Campus Martius Park. Grab a chair or blanket and settle in on the lawn for a relaxing night under the stars. Arrive by 6 pm to take part in exciting onsite activations before the movie kicks off at 7 pm. And don’t forget to grab some delicious popcorn from Jetta’s Popcorn while you enjoy the show!  \nAll of this year’s Movie Nights in the D will also feature ticket giveaways courtesy of The Detroit Zoo. \nAugust 1 – Step-Up | PG-13 \nIn this teen tale full of dancing and romancing\, a Baltimore tough guy teams with a haughty ballerina for a dance competition at her prestigious private school. \nChatGPT said:\n\n\n\n\n\n\nGet there early for a high-energy pre-show! Starting at 6:45 PM\, Detroit Dance Center hits the lawn with breakdancing and ballet performances that’ll have you dancing in your seat before the movie begins. \n\n\n\n\n\n\nBonus fun at Movie Night In The D! Attendees on August 1 have the chance to win tickets to exciting upcoming shows like MasterChef LIVE and Disney Descendants/Zombies — thanks to our friends at 313 Presents. \n\nvar exampleCallback=function(){console.log(‘Order complete!’);};window.EBWidgets.createWidget({widgetType:’checkout’\,eventId:’1371891988869′\,iframeContainerId:’eventbrite-widget-container-1371891988869′\,iframeContainerHeight:425\,onOrderComplete:exampleCallback}); \nUpcoming Movies: \nAugust 8 – Emperor’s New Groove | G\nAugust 15 – Twisters | PG-13\nAugust 22 – Moana 2 | PG 
URL:https://detroitartdao.com/event/movie-nights-in-the-d-step-up
LOCATION:Campus Martius Park
CATEGORIES:Campus Martius,Movie Nights in the D,Park Events
ATTACH;FMTTYPE=image/webp:https://dpop.nyc3.digitaloceanspaces.com/wp-content/uploads/2025/07/02040239/DDP-MN24-Step-Up-scaled-nJrLNh.tmp_.webp
GEO:42.3314128;-83.0465629
END:VEVENT
BEGIN:VEVENT
DTSTART;TZID=America/Detroit:20250805T190000
DTEND;TZID=America/Detroit:20250805T210000
DTSTAMP:20260425T092118
CREATED:20250706T113148Z
LAST-MODIFIED:20250805T140149Z
UID:10014050-1754420400-1754427600@detroitartdao.com
SUMMARY:Tacos & Trivia
DESCRIPTION:Tuesdays just got tastier! Join us on the second floor of CABANA 313 on Tuesdays at 7 PM for delicious tacos and free trivia with a chance to snag some fun prizes! We’re turning up the heat with themed nights on select dates to keep it fresh. Whether you’re a trivia whiz rolling in with your crew or just in it for the tacos and good vibes\, it’s the perfect midweek hangout. Our Tacos & Trivia event series is supported in part by Corona Extra.  \nNo registration required—just show up\, grab a taco (or two)\, a Corona Extra and get ready to play!  \n\nvar exampleCallback=function(){console.log(‘Order complete!’);};window.EBWidgets.createWidget({widgetType:’checkout’\,eventId:’1396865435119′\,iframeContainerId:’eventbrite-widget-container-1396865435119′\,iframeContainerHeight:425\,onOrderComplete:exampleCallback});
URL:https://detroitartdao.com/event/tacos-trivia-4
LOCATION:Campus Martius Park
CATEGORIES:Campus Martius,Free Event,Park Events
ATTACH;FMTTYPE=image/webp:https://dpop.nyc3.digitaloceanspaces.com/wp-content/uploads/2025/06/11080155/DDP_FridayBeachParty_20220617_Selections_Web-25-scaled-W7Z7Dx.tmp_.webp
GEO:42.3314128;-83.0465629
END:VEVENT
BEGIN:VEVENT
DTSTART;TZID=America/Detroit:20250808T190000
DTEND;TZID=America/Detroit:20250808T210000
DTSTAMP:20260425T092118
CREATED:20250709T120209Z
LAST-MODIFIED:20250808T143230Z
UID:10014084-1754679600-1754686800@detroitartdao.com
SUMMARY:Movie Nights In The D – Emperor’s New Groove
DESCRIPTION:Get ready for a fun-filled summer evening at Movie Nights in the D! Bring your family and friends to enjoy a variety of classic films on the big screen at our free outdoor movie series at Campus Martius Park. Grab a chair or blanket and settle in on the lawn for a relaxing night under the stars. Arrive by 6 pm to take part in exciting onsite activations before the movie kicks off at 7 pm. And don’t forget to grab some delicious popcorn from Jetta’s Popcorn while you enjoy the show!  \nAll of this year’s Movie Nights in the D will also feature ticket giveaways courtesy of The Detroit Zoo. \nAugust 8 – Emperor’s New Groove | G \nIn this breezy\, slapstick-laden cartoon\, a vengeful advisor to the emperor turns his boss into a llama \nBonus fun at Movie Night In The D! Attendees on August 8 have the chance to win tickets to exciting upcoming shows like Disney Descendants/Zombies and Sesame Street Live — thanks to our friends at 313 Presents.\nvar exampleCallback=function(){console.log(‘Order complete!’);};window.EBWidgets.createWidget({widgetType:’checkout’\,eventId:’1371894586639′\,iframeContainerId:’eventbrite-widget-container-1371894586639′\,iframeContainerHeight:425\,onOrderComplete:exampleCallback}); \nUpcoming Movies:  \nAugust 15 – Twisters | PG-13 \nAugust 22 – Moana 2 | PG  \n 
URL:https://detroitartdao.com/event/movie-nights-in-the-d-emperors-new-groove
LOCATION:Campus Martius Park
CATEGORIES:Campus Martius,Movie Nights in the D,Park Events
ATTACH;FMTTYPE=image/jpeg:https://dpop.nyc3.digitaloceanspaces.com/wp-content/uploads/2025/07/09080213/DDP-MN24-Emperors-New-Groove-scaled-qoXpgC.tmp_.jpg
GEO:42.3314128;-83.0465629
END:VEVENT
BEGIN:VEVENT
DTSTART;TZID=America/Detroit:20250811T190000
DTEND;TZID=America/Detroit:20250811T210000
DTSTAMP:20260425T092118
CREATED:20250712T120205Z
LAST-MODIFIED:20250811T144733Z
UID:10014176-1754938800-1754946000@detroitartdao.com
SUMMARY:City Glow Yoga at Campus Martius Park
DESCRIPTION:Where are all our yogis at? Get ready to light up your practice – City Glow Yoga is returning to Campus Martius Park with its signature glowing twist. Using 3-channel LED headphones\, you’ll be guided through an extraordinary and uplifting outdoor session that blends movement\, music and city energy.  \nCity Glow Yoga offers a city-inspired experience using silent disco technology to create an immersive escape from the everyday hustle and bustle. It’s a unique\, fun and refreshing way for Detroiters to unwind in the heart of downtown.  \nRegistration is required with a $10 donation. Don’t forget to bring a yoga mat and water bottle. Sign up here: https://bit.ly/city-glow-yoga-campus-martius \n  \nEvent Schedule:   \n7:00 pm: Meet and Greet   \n7:30 pm – 9:00 pm: Yoga Practice   \n   \nCampus Martius Park Event Dates:   \n-June 16   \n-July 14   \n-August 11  \n-September 8 
URL:https://detroitartdao.com/event/city-glow-yoga-at-campus-martius-park-3
LOCATION:Campus Martius Park
CATEGORIES:Campus Martius,Community Events,Park Events
ATTACH;FMTTYPE=image/webp:https://dpop.nyc3.digitaloceanspaces.com/wp-content/uploads/2025/05/31200343/City-Glow-CMP-2xlO01.tmp_.webp
GEO:42.3314128;-83.0465629
END:VEVENT
BEGIN:VEVENT
DTSTART;TZID=America/Detroit:20250812T190000
DTEND;TZID=America/Detroit:20250812T210000
DTSTAMP:20260425T092118
CREATED:20250713T120152Z
LAST-MODIFIED:20250812T150144Z
UID:10014193-1755025200-1755032400@detroitartdao.com
SUMMARY:Tacos & Trivia
DESCRIPTION:Tuesdays just got tastier! Join us on the second floor of CABANA 313 on Tuesdays at 7 PM for delicious tacos and free trivia with a chance to snag some fun prizes! We’re turning up the heat with themed nights on select dates to keep it fresh. Whether you’re a trivia whiz rolling in with your crew or just in it for the tacos and good vibes\, it’s the perfect midweek hangout. Our Tacos & Trivia event series is supported in part by Corona Extra.  \nNo registration required—just show up\, grab a taco (or two)\, a Corona Extra and get ready to play!  \n\nvar exampleCallback=function(){console.log(‘Order complete!’);};window.EBWidgets.createWidget({widgetType:’checkout’\,eventId:’1396865435119′\,iframeContainerId:’eventbrite-widget-container-1396865435119′\,iframeContainerHeight:425\,onOrderComplete:exampleCallback});
URL:https://detroitartdao.com/event/tacos-trivia-5
LOCATION:Campus Martius Park
CATEGORIES:Campus Martius,Free Event,Park Events
ATTACH;FMTTYPE=image/webp:https://dpop.nyc3.digitaloceanspaces.com/wp-content/uploads/2025/06/11080155/DDP_FridayBeachParty_20220617_Selections_Web-25-scaled-W7Z7Dx.tmp_.webp
GEO:42.3314128;-83.0465629
END:VEVENT
BEGIN:VEVENT
DTSTART;TZID=America/Detroit:20250815T180000
DTEND;TZID=America/Detroit:20250815T210000
DTSTAMP:20260425T092118
CREATED:20250716T120211Z
LAST-MODIFIED:20250815T153251Z
UID:10014222-1755280800-1755291600@detroitartdao.com
SUMMARY:Movie Nights In The D – Twisters
DESCRIPTION:Get ready for a fun-filled summer evening at Movie Nights in the D! Bring your family and friends to enjoy a variety of classic films on the big screen at our free outdoor movie series at Campus Martius Park. Grab a chair or blanket and settle in on the lawn for a relaxing night under the stars. Arrive by 6 pm to take part in exciting onsite activations before the movie kicks off at 7 pm. And don’t forget to grab some delicious popcorn from Jetta’s Popcorn while you enjoy the show!  \nAll of this year’s Movie Nights in the D will also feature ticket giveaways courtesy of The Detroit Zoo. \nAugust 15 – Twisters | PG-13 \nEdgar-Jones stars as Kate Carter\, a former storm chaser haunted by a devastating encounter with a tornado during her college years\, who now studies storm patterns on screens safely in New York City. She is lured back to the open plains by her friend\, Javi (Ramos)\, to test a groundbreaking new tracking system. There\, she crosses paths with Tyler Owens (Powell)\, the charming and reckless social-media superstar who thrives on posting his storm-chasing adventures with his raucous crew\, the more dangerous the better. \nBe sure to arrive early to explore a fun demonstration with our friends at the Michigan Science Center ahead of the feature presentation starting at 6 PM. Plus\, bonus fun at Movie Night In The D! Attendees on August 15 have the chance to win tickets to exciting upcoming shows like MasterChef LIVE and Disney Descendants/Zombies — thanks to our friends at 313 Presents. \n\nvar exampleCallback=function(){console.log(‘Order complete!’);};window.EBWidgets.createWidget({widgetType:’checkout’\,eventId:’1371897645789′\,iframeContainerId:’eventbrite-widget-container-1371897645789′\,iframeContainerHeight:425\,onOrderComplete:exampleCallback}); \nUpcoming Movies:  \nAugust 22 – Moana 2 | PG  \n 
URL:https://detroitartdao.com/event/movie-nights-in-the-d-twisters
LOCATION:Campus Martius Park
CATEGORIES:Campus Martius,Movie Nights in the D,Park Events
ATTACH;FMTTYPE=image/jpeg:https://dpop.nyc3.digitaloceanspaces.com/wp-content/uploads/2025/07/16080216/DDP-MN24-Twisters-scaled-SG8nAO.tmp_.jpg
GEO:42.3314128;-83.0465629
END:VEVENT
BEGIN:VEVENT
DTSTART;TZID=America/Detroit:20250816T180000
DTEND;TZID=America/Detroit:20250816T220000
DTSTAMP:20260425T092118
CREATED:20250717T120218Z
LAST-MODIFIED:20250816T154657Z
UID:10014236-1755367200-1755381600@detroitartdao.com
SUMMARY:R&Beach presented by Diversified Members Credit Union | August 16th
DESCRIPTION:Feel the rhythm of summer at R&Beach on August 16 at The Beach at Campus Martius Park presented by Diversified Members Credit Union. This FREE event brings soulful R&B grooves to the heart of downtown with live music performances\, laid-back vibes\, and interactive fun on the sand from 6 – 10 pm. Our Beach Party event series is presented by Diversified Members Credit Union and supported in part by Casamigos and MGM Grand Detroit. \nBring your beach chair\, grab a drink of your choice\, and let the music move you as the sun sets over the city. Whether you’re vibing with friends or looking for a chill date night\, this is your perfect summer escape without leaving Detroit. \n  \nActivities include: \n🎶 Live Performances by DJ Skeez on the MGM Grand Detroit Sand Stage \n🎨 Vinyl Record Decorating  \n🍋‍🟩 Casamigos Tequila Sampling \n🎟️ Win Free Tickets — Courtesy of our friends at 313 presents\, you have the chance to win free tickets to see the Jonas Brothers or the Lumineers for free. \n🎰 Michigan Lottery Truck — will be onsite with giveaways\, ticket purchases and plenty of fun! \n🎁 Giveaways – Don’t miss out on free goodies and surprises throughout the event! \n  \n\nvar exampleCallback=function(){console.log(‘Order complete!’);};window.EBWidgets.createWidget({widgetType:’checkout’\,eventId:’1396961321919′\,iframeContainerId:’eventbrite-widget-container-1396961321919′\,iframeContainerHeight:425\,onOrderComplete:exampleCallback}); \nUpcoming Beach Parties and Themes: \n-Country Roots Beach Party | September 13th
URL:https://detroitartdao.com/event/rbeach-presented-by-diversified-members-credit-union-august-16th
LOCATION:Campus Martius Park
CATEGORIES:Campus Martius,Free Event,Park Events
ATTACH;FMTTYPE=image/jpeg:https://dpop.nyc3.digitaloceanspaces.com/wp-content/uploads/2025/07/17080223/DDP_BeachParty_GNO_20240912_FS-91-scaled-17AmPT.tmp_.jpg
GEO:42.3314128;-83.0465629
END:VEVENT
BEGIN:VEVENT
DTSTART;TZID=America/Detroit:20250817T130000
DTEND;TZID=America/Detroit:20250817T170000
DTSTAMP:20260425T092118
CREATED:20250718T120241Z
LAST-MODIFIED:20250817T154654Z
UID:10014247-1755435600-1755450000@detroitartdao.com
SUMMARY:Campus Kids Day: Back to School Bash Presented By Corewell Health
DESCRIPTION:Campus Kids Days Presented By Corewell Health returns to Campus Martius Park for summer 2025! Families are invited to enjoy this free series of fun-filled Sundays featuring themed entertainment\, interactive activities and engaging experiences for kids of all ages. It’s the perfect way to make the most of a Sunday in the heart of Downtown Detroit. Our Campus Kids Day event series is presented by Corewell Health and supported in part by the Detroit Zoo and Metro Parent.  The Michigan Science Center will also be in attendance at all Campus Kids Day events\, bringing fun in the sun with unique activations and stations.  \n  \n\nvar exampleCallback=function(){console.log(‘Order complete!’);};window.EBWidgets.createWidget({widgetType:’checkout’\,eventId:’1399536143279′\,iframeContainerId:’eventbrite-widget-container-1399536143279′\,iframeContainerHeight:425\,onOrderComplete:exampleCallback}); \nEvents run from 1–5 p.m. on select Sundays\, July 13 through October 5.  \n2025 Schedule:  \n\nAugust 17: Back to School Bash \n\nCelebrate the end of summer and gear up for the school year with a day packed full of fun for the whole family! \n\n\n\nTreat your tastebuds with complimentary Faygo Floats (while supplies last)\nJump into fun with a Crayon bounce house!\nFree backpacks courtesy of Corewell Health (while supplies last)\nTake in the Cool Tricks + Funny Stuff Magic Show taking place from 1:30-2:30 p.m. and 3:30-4:30 p.m. \nExplore the Michigan Science Center station featuring ‘Boo Bubbles’ and a UV sensory bin\nCraft stations courtesy of Metro Parent\nEnjoy airbrush tattoos\, lawn games\, and giveaways from Birdie’s Books\nTigers baseball on the big screen\nand more to be shared soon!\n\n\n\nPlus: Don’t miss your chance to win big! All attendees can enter to win a family four-pack of tickets to the Detroit Zoo\, including access to the Dragon Forest exhibit. You could also score tickets to an upcoming show of Gabby’s Dollhouse LIVE or Disney on Ice LIVE\, courtesy of 313 Presents. Enjoy fun activations and free giveaways from Corewell Health and the Detroit Zoo. \n\nSeptember 21: Autumn Adventure \n\n\nOctober 5: Lil’ Boo Bash \n\n  \nMark your calendars and join us for these exciting afternoons packed with creativity\, energy and family-friendly fun! Be sure to check in closer to the event for more details on each day’s events and themed fun.  
URL:https://detroitartdao.com/event/campus-kids-days-presented-by-corewell-health-2
LOCATION:Campus Martius Park
CATEGORIES:Campus Martius,Community Events,Free Event,Park Events
ATTACH;FMTTYPE=image/webp:https://dpop.nyc3.digitaloceanspaces.com/wp-content/uploads/2025/06/13081704/Campus-Kids-Day-1-scaled-4zsTBg.tmp_.webp
GEO:42.3314128;-83.0465629
END:VEVENT
BEGIN:VEVENT
DTSTART;TZID=America/Detroit:20250819T190000
DTEND;TZID=America/Detroit:20250819T210000
DTSTAMP:20260425T092118
CREATED:20250720T120144Z
LAST-MODIFIED:20250819T154701Z
UID:10014303-1755630000-1755637200@detroitartdao.com
SUMMARY:Tacos & Trivia
DESCRIPTION:Tuesdays just got tastier! Join us on the second floor of CABANA 313 on Tuesdays at 7 PM for delicious tacos and free trivia with a chance to snag some fun prizes! We’re turning up the heat with themed nights on select dates to keep it fresh. Whether you’re a trivia whiz rolling in with your crew or just in it for the tacos and good vibes\, it’s the perfect midweek hangout. Our Tacos & Trivia event series is supported in part by Corona Extra.  \nNo registration required—just show up\, grab a taco (or two)\, a Corona Extra and get ready to play!  \n\nvar exampleCallback=function(){console.log(‘Order complete!’);};window.EBWidgets.createWidget({widgetType:’checkout’\,eventId:’1396865435119′\,iframeContainerId:’eventbrite-widget-container-1396865435119′\,iframeContainerHeight:425\,onOrderComplete:exampleCallback});
URL:https://detroitartdao.com/event/tacos-trivia-6
LOCATION:Campus Martius Park
CATEGORIES:Campus Martius,Free Event,Park Events
ATTACH;FMTTYPE=image/webp:https://dpop.nyc3.digitaloceanspaces.com/wp-content/uploads/2025/06/11080155/DDP_FridayBeachParty_20220617_Selections_Web-25-scaled-W7Z7Dx.tmp_.webp
GEO:42.3314128;-83.0465629
END:VEVENT
BEGIN:VEVENT
DTSTART;TZID=America/Detroit:20250822T180000
DTEND;TZID=America/Detroit:20250822T210000
DTSTAMP:20260425T092118
CREATED:20250723T123221Z
LAST-MODIFIED:20250822T160159Z
UID:10014344-1755885600-1755896400@detroitartdao.com
SUMMARY:Movie Nights In The D – Moana 2
DESCRIPTION:Get ready for a fun-filled summer evening at Movie Nights in the D! Bring your family and friends to enjoy a variety of classic films on the big screen at our free outdoor movie series at Campus Martius Park. Grab a chair or blanket and settle in on the lawn for a relaxing night under the stars. Arrive by 6 pm to take part in exciting onsite activations before the movie kicks off at 7 pm. And don’t forget to grab some delicious popcorn from Jetta’s Popcorn while you enjoy the show!  \nAll of this year’s Movie Nights in the D will also feature ticket giveaways courtesy of The Detroit Zoo. \nAugust 22 – Moana 2 | PG  \nMoana 2” reunites Moana and Maui three years later for an expansive new voyage alongside a crew of unlikely seafarers. After receiving an unexpected call from her wayfinding ancestors\, Moana must journey to the far seas of Oceania and into dangerous\, long-lost waters for an adventure unlike anything she’s ever faced. \nFor our grand finale of the season\, be sure to join us ahead of the film for an exciting demonstration of Polynesian dances from Polynesian Dancers of Michigan\, kicking off at 6 PM.  \nBonus fun at Movie Night In The D! Attendees on August 22 have the chance to win tickets to exciting upcoming shows like Disney on Ice and Sesame Street Live — thanks to our friends at 313 Presents. \n\nvar exampleCallback=function(){console.log(‘Order complete!’);};window.EBWidgets.createWidget({widgetType:’checkout’\,eventId:’1371898809269′\,iframeContainerId:’eventbrite-widget-container-1371898809269′\,iframeContainerHeight:425\,onOrderComplete:exampleCallback});
URL:https://detroitartdao.com/event/movie-nights-in-the-d-moana-2
LOCATION:Campus Martius Park
CATEGORIES:Campus Martius,Movie Nights in the D,Park Events
ATTACH;FMTTYPE=image/jpeg:https://dpop.nyc3.digitaloceanspaces.com/wp-content/uploads/2025/07/23083226/DDP-MN24-Moana-2-scaled-6xnFwG.tmp_.jpg
GEO:42.3314128;-83.0465629
END:VEVENT
BEGIN:VEVENT
DTSTART;TZID=America/Detroit:20250822T190000
DTEND;TZID=America/Detroit:20250822T210000
DTSTAMP:20260425T092118
CREATED:20250723T123222Z
LAST-MODIFIED:20250723T123222Z
UID:10014345-1755889200-1755896400@detroitartdao.com
SUMMARY:Movie Nights In The D – Moana 2
DESCRIPTION:Get ready for a fun-filled summer evening at Movie Nights in the D! Bring your family and friends to enjoy a variety of classic films on the big screen at our free outdoor movie series at Campus Martius Park. Grab a chair or blanket and settle in on the lawn for a relaxing night under the stars. Arrive by 6 pm to take part in exciting onsite activations before the movie kicks off at 7 pm. And don’t forget to grab some delicious popcorn from Jetta’s Popcorn while you enjoy the show!  \nAll of this year’s Movie Nights in the D will also feature ticket giveaways courtesy of The Detroit Zoo. \nAugust 22 – Moana 2 | PG  \nMoana 2” reunites Moana and Maui three years later for an expansive new voyage alongside a crew of unlikely seafarers. After receiving an unexpected call from her wayfinding ancestors\, Moana must journey to the far seas of Oceania and into dangerous\, long-lost waters for an adventure unlike anything she’s ever faced. \nBonus fun at Movie Night In The D! Attendees on August 22 have the chance to win tickets to exciting upcoming shows like Disney on Ice and Sesame Street Live — thanks to our friends at 313 Presents. \n\nvar exampleCallback=function(){console.log(‘Order complete!’);};window.EBWidgets.createWidget({widgetType:’checkout’\,eventId:’1371898809269′\,iframeContainerId:’eventbrite-widget-container-1371898809269′\,iframeContainerHeight:425\,onOrderComplete:exampleCallback});
URL:https://detroitartdao.com/event/movie-nights-in-the-d-moana-2-2
LOCATION:Campus Martius Park
CATEGORIES:Campus Martius,Movie Nights in the D,Park Events
ATTACH;FMTTYPE=image/jpeg:https://dpop.nyc3.digitaloceanspaces.com/wp-content/uploads/2025/07/23083226/DDP-MN24-Moana-2-scaled-6xnFwG.tmp_.jpg
GEO:42.3314128;-83.0465629
END:VEVENT
BEGIN:VEVENT
DTSTART;TZID=America/Detroit:20250826T190000
DTEND;TZID=America/Detroit:20250826T210000
DTSTAMP:20260425T092118
CREATED:20250727T133145Z
LAST-MODIFIED:20250727T133145Z
UID:10014426-1756234800-1756242000@detroitartdao.com
SUMMARY:Tacos & Trivia
DESCRIPTION:Tuesdays just got tastier! Join us on the second floor of CABANA 313 on Tuesdays at 7 PM for delicious tacos and free trivia with a chance to snag some fun prizes! We’re turning up the heat with themed nights on select dates to keep it fresh. Whether you’re a trivia whiz rolling in with your crew or just in it for the tacos and good vibes\, it’s the perfect midweek hangout. Our Tacos & Trivia event series is supported in part by Corona Extra.  \nNo registration required—just show up\, grab a taco (or two)\, a Corona Extra and get ready to play!  \n\nvar exampleCallback=function(){console.log(‘Order complete!’);};window.EBWidgets.createWidget({widgetType:’checkout’\,eventId:’1396865435119′\,iframeContainerId:’eventbrite-widget-container-1396865435119′\,iframeContainerHeight:425\,onOrderComplete:exampleCallback});
URL:https://detroitartdao.com/event/tacos-trivia-8
LOCATION:Campus Martius Park
CATEGORIES:Campus Martius,Free Event,Park Events
ATTACH;FMTTYPE=image/webp:https://dpop.nyc3.digitaloceanspaces.com/wp-content/uploads/2025/06/11080155/DDP_FridayBeachParty_20220617_Selections_Web-25-scaled-W7Z7Dx.tmp_.webp
GEO:42.3314128;-83.0465629
END:VEVENT
BEGIN:VEVENT
DTSTART;TZID=America/Detroit:20250826T190000
DTEND;TZID=America/Detroit:20250826T210000
DTSTAMP:20260425T092118
CREATED:20250727T133145Z
LAST-MODIFIED:20250826T161651Z
UID:10014427-1756234800-1756242000@detroitartdao.com
SUMMARY:Tacos & Trivia
DESCRIPTION:Tuesdays just got tastier! Join us on the second floor of CABANA 313 on Tuesdays at 7 PM for delicious tacos and free trivia with a chance to snag some fun prizes! We’re turning up the heat with themed nights on select dates to keep it fresh. Whether you’re a trivia whiz rolling in with your crew or just in it for the tacos and good vibes\, it’s the perfect midweek hangout. Our Tacos & Trivia event series is supported in part by Corona Extra.  \nNo registration required—just show up\, grab a taco (or two)\, a Corona Extra and get ready to play!  \n\nvar exampleCallback=function(){console.log(‘Order complete!’);};window.EBWidgets.createWidget({widgetType:’checkout’\,eventId:’1396865435119′\,iframeContainerId:’eventbrite-widget-container-1396865435119′\,iframeContainerHeight:425\,onOrderComplete:exampleCallback});
URL:https://detroitartdao.com/event/tacos-trivia-7
LOCATION:Campus Martius Park
CATEGORIES:Campus Martius,Free Event,Park Events
ATTACH;FMTTYPE=image/webp:https://dpop.nyc3.digitaloceanspaces.com/wp-content/uploads/2025/06/11080155/DDP_FridayBeachParty_20220617_Selections_Web-25-scaled-W7Z7Dx.tmp_.webp
GEO:42.3314128;-83.0465629
END:VEVENT
END:VCALENDAR