BEGIN:VCALENDAR
VERSION:2.0
PRODID:-//Discover Detroit Art - ECPv6.0.1//NONSGML v1.0//EN
CALSCALE:GREGORIAN
METHOD:PUBLISH
X-WR-CALNAME:Discover Detroit Art
X-ORIGINAL-URL:https://detroitartdao.com
X-WR-CALDESC:Events for Discover Detroit Art
REFRESH-INTERVAL;VALUE=DURATION:PT1H
X-Robots-Tag:noindex
X-PUBLISHED-TTL:PT1H
BEGIN:VTIMEZONE
TZID:America/Detroit
BEGIN:DAYLIGHT
TZOFFSETFROM:-0500
TZOFFSETTO:-0400
TZNAME:EDT
DTSTART:20230312T070000
END:DAYLIGHT
BEGIN:STANDARD
TZOFFSETFROM:-0400
TZOFFSETTO:-0500
TZNAME:EST
DTSTART:20231105T060000
END:STANDARD
END:VTIMEZONE
BEGIN:VEVENT
DTSTART;TZID=America/Detroit:20231118T120000
DTEND;TZID=America/Detroit:20231118T160000
DTSTAMP:20260422T001926
CREATED:20231024T191634Z
LAST-MODIFIED:20231118T201721Z
UID:10002678-1700308800-1700323200@detroitartdao.com
SUMMARY:Skating With Santa
DESCRIPTION:Kick off the season at our opening Skating with Santa Party\, DJ Invisible will be playing your favorite holiday tunes and the big guy himself will be making an appearance. Grab your Santa hat\, lace up your skates\, and get ready to pen your letter to the North Pole.  \n  \nADMISSION:  \nAdult: $12.00  \nChild (12 and under): $9.00  \nMilitary / First Responder: $8.00  \nSenior (59 and older): $9.00  \n  \nSKATE RENTAL: $6.00 
URL:https://detroitartdao.com/event/skating-with-santa
LOCATION:Campus Martius
CATEGORIES:Campus Martius,Park Events
ATTACH;FMTTYPE=image/jpeg:https://dpop.nyc3.digitaloceanspaces.com/wp-content/uploads/2023/10/24151643/Santa-Skate-scaled-Imqm2m.tmp_.jpg
GEO:42.3315634;-83.0468355
END:VEVENT
BEGIN:VEVENT
DTSTART;TZID=America/Detroit:20231118T180000
DTEND;TZID=America/Detroit:20231118T220000
DTSTAMP:20260422T001926
CREATED:20231024T191711Z
LAST-MODIFIED:20231118T201724Z
UID:10002696-1700330400-1700344800@detroitartdao.com
SUMMARY:Ugly Holiday Sweater Party
DESCRIPTION:Don your favorite Ugly Holiday Sweater and get ready to join us for a night of festive fun under Detroit’s Christmas Tree\, featuring Joey Namou and DJ Chris Hesano to keep you grooving on the ice.  \n  \nADMISSION:  \nAdult: $12.00  \nChild (12 and under): $9.00  \nMilitary / First Responder: $8.00  \nSenior (59 and older): $9.00  \n  \nSKATE RENTAL: $6.00   
URL:https://detroitartdao.com/event/ugly-holiday-sweater-party
LOCATION:Campus Martius
CATEGORIES:Campus Martius,Park Events
ATTACH;FMTTYPE=image/jpeg:https://dpop.nyc3.digitaloceanspaces.com/wp-content/uploads/2023/10/24151713/Ugly-Sweater-Skate-oKNWxV.tmp_.jpg
GEO:42.3315634;-83.0468355
END:VEVENT
END:VCALENDAR