BEGIN:VCALENDAR
VERSION:2.0
PRODID:-//Discover Detroit Art - ECPv6.0.1//NONSGML v1.0//EN
CALSCALE:GREGORIAN
METHOD:PUBLISH
X-WR-CALNAME:Discover Detroit Art
X-ORIGINAL-URL:https://detroitartdao.com
X-WR-CALDESC:Events for Discover Detroit Art
REFRESH-INTERVAL;VALUE=DURATION:PT1H
X-Robots-Tag:noindex
X-PUBLISHED-TTL:PT1H
BEGIN:VTIMEZONE
TZID:America/Detroit
BEGIN:DAYLIGHT
TZOFFSETFROM:-0500
TZOFFSETTO:-0400
TZNAME:EDT
DTSTART:20230312T070000
END:DAYLIGHT
BEGIN:STANDARD
TZOFFSETFROM:-0400
TZOFFSETTO:-0500
TZNAME:EST
DTSTART:20231105T060000
END:STANDARD
END:VTIMEZONE
BEGIN:VEVENT
DTSTART;TZID=America/Detroit:20231226T150000
DTEND;TZID=America/Detroit:20231226T173000
DTSTAMP:20260421T011127
CREATED:20231126T203141Z
LAST-MODIFIED:20231226T214651Z
UID:10003060-1703602800-1703611800@detroitartdao.com
SUMMARY:Motor City Kwanzaa Celebration and Kinara Lighting
DESCRIPTION:For the second year\, in partnership with Alkebu-lan Village\, Councilman Scott Benson and the City of Detroit\, the Downtown Detroit Partnership is excited to host the Motor City Kwanzaa Kinara. The 30-foot-tall monument brings a celebration of African American life\, community and culture to Campus Martius Park.   \nOn Dec. 26\, in observance of the first day of Kwanzaa\, The Motor City Kwanzaa Celebration and Kinara Lighting will take place at Cadillac Square from 3 p.m. to 5 p.m. inside a heated tent. It will feature virtual remarks by Kwanzaa founder Dr. Maulana Karenga\, live performances and more. At sunset (roughly 5 p.m.)\, guests and attendees will come together for a Kinara Lighting ceremony from 5 p.m. to 5:30 p.m.\, at the southwest garden of Campus Martius Park. Festivities will include the lighting of the Unity candle on the Kinara and discussing the first of seven principles of Kwanzaa. \nThe Motor City Kwanzaa Kinara is supported in part by The Detroit Pistons\, McDonald’s\, The Michigan Arts & Culture Council\, The Knight Foundation and The Charles H. Wright Museum of African American History. 
URL:https://detroitartdao.com/event/kwanzaa-celebration-and-kinara-lighting
LOCATION:Campus Martius
CATEGORIES:Campus Martius,Park Events
ATTACH;FMTTYPE=image/jpeg:https://dpop.nyc3.digitaloceanspaces.com/wp-content/uploads/2023/11/26153142/Kwanzaa-Kinara-650YOc.tmp_.jpg
GEO:42.3315634;-83.0468355
END:VEVENT
END:VCALENDAR