BEGIN:VCALENDAR
VERSION:2.0
PRODID:-//Discover Detroit Art - ECPv6.0.1//NONSGML v1.0//EN
CALSCALE:GREGORIAN
METHOD:PUBLISH
X-WR-CALNAME:Discover Detroit Art
X-ORIGINAL-URL:https://detroitartdao.com
X-WR-CALDESC:Events for Discover Detroit Art
REFRESH-INTERVAL;VALUE=DURATION:PT1H
X-Robots-Tag:noindex
X-PUBLISHED-TTL:PT1H
BEGIN:VTIMEZONE
TZID:America/Detroit
BEGIN:DAYLIGHT
TZOFFSETFROM:-0500
TZOFFSETTO:-0400
TZNAME:EDT
DTSTART:20250309T070000
END:DAYLIGHT
BEGIN:STANDARD
TZOFFSETFROM:-0400
TZOFFSETTO:-0500
TZNAME:EST
DTSTART:20251102T060000
END:STANDARD
END:VTIMEZONE
BEGIN:VEVENT
DTSTART;TZID=America/Detroit:20250719T180000
DTEND;TZID=America/Detroit:20250719T220000
DTSTAMP:20260425T092349
CREATED:20250622T213340Z
LAST-MODIFIED:20250719T120222Z
UID:10013859-1752948000-1752962400@detroitartdao.com
SUMMARY:Y2K Pop Punk Beach Bash presented by Diversified Members Credit Union | July 19th
DESCRIPTION:Throw it back to the early 2000s at our Y2K Pop Punk Beach Bash at The Beach at Campus Martius Park presented by Diversified Members Credit Union. This FREE event brings the nostalgic vibes downtown with live pop punk and alternative rock from The Crampton Brothers on the MGM Grand Detroit Sand Stage\, plus giveaways and hands-on fun from 6 – 10 pm. Our Beach Party event series is presented by Diversified Members Credit Union and supported in part by Casamigos and MGM Grand Detroit. \nChannel your inner scene kid or pop punk rebel with band tees\, spiky hair\, and chunky shoes\, and soak up the sun with a drink in hand. Bring your beach chair\, your best Y2K attitude\, and get ready to rock the sand. \n  \nActivities include: \n🎶 Live Performances by The Crampton Brothers on the MGM Grand Detroit Sand Stage \n🍋‍🟩 Casamigos Tequila Sampling (21+) \n🖌️ Capture and savor the moment with airbrush tattoos \n🎟️ Win Free Tickets — Courtesy of our friends at 313 presents\, you have the chance to win free tickets to see the Jonas Brothers or the Lumineers for free. \n🎁 Giveaways – Don’t miss out on free goodies and surprises throughout the event! \n\nvar exampleCallback=function(){console.log(‘Order complete!’);};window.EBWidgets.createWidget({widgetType:’checkout’\,eventId:’1396900861079′\,iframeContainerId:’eventbrite-widget-container-1396900861079′\,iframeContainerHeight:425\,onOrderComplete:exampleCallback}); \nUpcoming Beach Parties and Themes: \n-R & Beach | August 16th \n-Country Roots Beach Party | September 13th
URL:https://detroitartdao.com/event/y2k-pop-punk-beach-bash-presented-by-diversified-members-credit-union-july-19th
LOCATION:Campus Martius Park
CATEGORIES:Campus Martius,Free Event,Park Events
ATTACH;FMTTYPE=image/webp:https://dpop.nyc3.digitaloceanspaces.com/wp-content/uploads/2025/06/22173344/Y2k-koidci.tmp_.webp
GEO:42.3314128;-83.0465629
END:VEVENT
END:VCALENDAR