BEGIN:VCALENDAR
VERSION:2.0
PRODID:-//Discover Detroit Art - ECPv6.0.1//NONSGML v1.0//EN
CALSCALE:GREGORIAN
METHOD:PUBLISH
X-WR-CALNAME:Discover Detroit Art
X-ORIGINAL-URL:https://detroitartdao.com
X-WR-CALDESC:Events for Discover Detroit Art
REFRESH-INTERVAL;VALUE=DURATION:PT1H
X-Robots-Tag:noindex
X-PUBLISHED-TTL:PT1H
BEGIN:VTIMEZONE
TZID:America/Detroit
BEGIN:DAYLIGHT
TZOFFSETFROM:-0500
TZOFFSETTO:-0400
TZNAME:EDT
DTSTART:20250309T070000
END:DAYLIGHT
BEGIN:STANDARD
TZOFFSETFROM:-0400
TZOFFSETTO:-0500
TZNAME:EST
DTSTART:20251102T060000
END:STANDARD
END:VTIMEZONE
BEGIN:VEVENT
DTSTART;TZID=America/Detroit:20250801T184500
DTEND;TZID=America/Detroit:20250801T210000
DTSTAMP:20260425T105244
CREATED:20250702T080236Z
LAST-MODIFIED:20250801T134716Z
UID:10013997-1754073900-1754082000@detroitartdao.com
SUMMARY:Movie Nights In The D – Step Up
DESCRIPTION:Get ready for a fun-filled summer evening at Movie Nights in the D! Bring your family and friends to enjoy a variety of classic films on the big screen at our free outdoor movie series at Campus Martius Park. Grab a chair or blanket and settle in on the lawn for a relaxing night under the stars. Arrive by 6 pm to take part in exciting onsite activations before the movie kicks off at 7 pm. And don’t forget to grab some delicious popcorn from Jetta’s Popcorn while you enjoy the show!  \nAll of this year’s Movie Nights in the D will also feature ticket giveaways courtesy of The Detroit Zoo. \nAugust 1 – Step-Up | PG-13 \nIn this teen tale full of dancing and romancing\, a Baltimore tough guy teams with a haughty ballerina for a dance competition at her prestigious private school. \nChatGPT said:\n\n\n\n\n\n\nGet there early for a high-energy pre-show! Starting at 6:45 PM\, Detroit Dance Center hits the lawn with breakdancing and ballet performances that’ll have you dancing in your seat before the movie begins. \n\n\n\n\n\n\nBonus fun at Movie Night In The D! Attendees on August 1 have the chance to win tickets to exciting upcoming shows like MasterChef LIVE and Disney Descendants/Zombies — thanks to our friends at 313 Presents. \n\nvar exampleCallback=function(){console.log(‘Order complete!’);};window.EBWidgets.createWidget({widgetType:’checkout’\,eventId:’1371891988869′\,iframeContainerId:’eventbrite-widget-container-1371891988869′\,iframeContainerHeight:425\,onOrderComplete:exampleCallback}); \nUpcoming Movies: \nAugust 8 – Emperor’s New Groove | G\nAugust 15 – Twisters | PG-13\nAugust 22 – Moana 2 | PG 
URL:https://detroitartdao.com/event/movie-nights-in-the-d-step-up
LOCATION:Campus Martius Park
CATEGORIES:Campus Martius,Movie Nights in the D,Park Events
ATTACH;FMTTYPE=image/webp:https://dpop.nyc3.digitaloceanspaces.com/wp-content/uploads/2025/07/02040239/DDP-MN24-Step-Up-scaled-nJrLNh.tmp_.webp
GEO:42.3314128;-83.0465629
END:VEVENT
END:VCALENDAR