BEGIN:VCALENDAR
VERSION:2.0
PRODID:-//Discover Detroit Art - ECPv6.0.1//NONSGML v1.0//EN
CALSCALE:GREGORIAN
METHOD:PUBLISH
X-ORIGINAL-URL:https://detroitartdao.com
X-WR-CALDESC:Events for Discover Detroit Art
REFRESH-INTERVAL;VALUE=DURATION:PT1H
X-Robots-Tag:noindex
X-PUBLISHED-TTL:PT1H
BEGIN:VTIMEZONE
TZID:America/Detroit
BEGIN:DAYLIGHT
TZOFFSETFROM:-0500
TZOFFSETTO:-0400
TZNAME:EDT
DTSTART:20250309T070000
END:DAYLIGHT
BEGIN:STANDARD
TZOFFSETFROM:-0400
TZOFFSETTO:-0500
TZNAME:EST
DTSTART:20251102T060000
END:STANDARD
END:VTIMEZONE
BEGIN:VEVENT
DTSTART;TZID=America/Detroit:20250913T180000
DTEND;TZID=America/Detroit:20250913T220000
DTSTAMP:20260425T154242
CREATED:20250814T151812Z
LAST-MODIFIED:20250910T173157Z
UID:10014722-1757786400-1757800800@detroitartdao.com
SUMMARY:Country Roots Beach Party presented by Diversified Members Credit Union | September 13th
DESCRIPTION:Kick off your boots and step into the sand at our Country Roots Beach Party at The Beach at Campus Martius Park\, the No. 1 public square in the nation. Enjoy live DJ performances for FREE on the MGM Grand Sand Stage\, plus giveaways\, and more. Our Beach Party event series is presented by Diversified Members Credit Union and supported in part by Casamigos and MGM Grand Detroit. \nGrab your Stetson hat and favorite cowboy or cowgirl kicks for a boot-stompin’ night in the heart of Downtown Detroit. With music\, hands-on activities\, and country vibes all around\, this is your chance to dance\, ride\, and party country style beachside. \n  \nActivities include: \n🎶 Live Performances by DJ Cowboy on the MGM Grand Detroit Sand Stage \n🍋‍🟩 Casamigos Tequila Sampling \n🐂 Mechanical Bull Riding – $10 per ride\, plus get a cowboy/cowgirl hat for each rider (while supplies last) \n✨ Festival Face Glitter Bar – Shine bright and sparkle up your look for the night for FREE! \n🎁 Giveaways – Don’t miss out on free goodies and surprises throughout the event! \n-and plenty more to be announced closer to the event \n  \n\nvar exampleCallback=function(){console.log(‘Order complete!’);};window.EBWidgets.createWidget({widgetType:’checkout’\,eventId:’1396967801299′\,iframeContainerId:’eventbrite-widget-container-1396967801299′\,iframeContainerHeight:425\,onOrderComplete:exampleCallback});
URL:https://detroitartdao.com/event/country-roots-beach-party-presented-by-diversified-members-credit-union-september-13th
LOCATION:Campus Martius Park
CATEGORIES:Campus Martius,Free Event,Park Events
ATTACH;FMTTYPE=image/jpeg:https://dpop.nyc3.digitaloceanspaces.com/wp-content/uploads/2025/08/14111828/DDP_CountryBeachParty_20240711_FS-30-scaled-ymuoft.tmp_.jpg
GEO:42.3314128;-83.0465629
END:VEVENT
END:VCALENDAR