BEGIN:VCALENDAR
VERSION:2.0
PRODID:-//Discover Detroit Art - ECPv6.0.1//NONSGML v1.0//EN
CALSCALE:GREGORIAN
METHOD:PUBLISH
X-WR-CALNAME:Discover Detroit Art
X-ORIGINAL-URL:https://detroitartdao.com
X-WR-CALDESC:Events for Discover Detroit Art
REFRESH-INTERVAL;VALUE=DURATION:PT1H
X-Robots-Tag:noindex
X-PUBLISHED-TTL:PT1H
BEGIN:VTIMEZONE
TZID:America/Detroit
BEGIN:DAYLIGHT
TZOFFSETFROM:-0500
TZOFFSETTO:-0400
TZNAME:EDT
DTSTART:20250309T070000
END:DAYLIGHT
BEGIN:STANDARD
TZOFFSETFROM:-0400
TZOFFSETTO:-0500
TZNAME:EST
DTSTART:20251102T060000
END:STANDARD
END:VTIMEZONE
BEGIN:VEVENT
DTSTART;VALUE=DATE:20250918
DTEND;VALUE=DATE:20250921
DTSTAMP:20260425T122616
CREATED:20250821T160210Z
LAST-MODIFIED:20250910T173238Z
UID:10014824-1758153600-1758412799@detroitartdao.com
SUMMARY:Better Cities Film Festival 2025
DESCRIPTION:Late summer is the perfect time to experience Detroit’s vibrant energy\, and the 12th annual Better Cities Film Festival will bring it all together in the heart of downtown. From Sept. 18–21\, discover powerful stories of resilience\, innovation\, and community from citizens\, architects\, planners\, and everyday changemakers working to build stronger\, more connected places. \nThe main screening venue at Campus Martius Park\, America’s #1 public square by USA Today 10Best\, is where films will light up the park on Sept. 18-20\, and the energy of the city becomes part of the experience. There will also be a special Sunday\, Sept. 21\, screening at Christ Church Detroit. \nAhead of its national PBS release\, the opening night will feature the Midwest premiere of “Rails to Trails\,” directed by Dan Protess. Protess will be attending the screening\, followed by a guided ride on Detroit’s Dequindre Cut led by the Detroit Greenways Coalition\, ending at Eastern Market After Dark\, a highlight of the Detroit Month of Design. \nAdditional highlights include “The Little Things That Run the World\,” a feature film spotlighting Detroit-based groups preserving micro-ecologies in urban spaces. Audiences will also enjoy short film blocks exploring themes of bicycling\, housing\, urban design\, and community development. \nMore than a film festival\, BCFF also invites you to explore the city through walking tours\, bike rides\, workshops\, and shared meals. It’s a hands-on\, minds-on weekend of connection and curiosity — where you’re just as likely to meet a filmmaker on an architecture tour as you are on stage. \nMark your calendars for an unforgettable festival of learning\, inspiration\, and fun! \nAdditional info\, FREE tickets and more can be found HERE
URL:https://detroitartdao.com/event/better-cities-film-festival-2025
LOCATION:Campus Martius Park
CATEGORIES:Campus Martius,Community Events,Free Event,Park Events
ATTACH;FMTTYPE=image/png:https://dpop.nyc3.digitaloceanspaces.com/wp-content/uploads/2025/08/21120213/BCFF-2025-poster-film-reels-final-Web-R0QKOd.tmp_.png
GEO:42.3314128;-83.0465629
END:VEVENT
END:VCALENDAR