BEGIN:VCALENDAR
VERSION:2.0
PRODID:-//Discover Detroit Art - ECPv6.0.1//NONSGML v1.0//EN
CALSCALE:GREGORIAN
METHOD:PUBLISH
X-ORIGINAL-URL:https://detroitartdao.com
X-WR-CALDESC:Events for Discover Detroit Art
REFRESH-INTERVAL;VALUE=DURATION:PT1H
X-Robots-Tag:noindex
X-PUBLISHED-TTL:PT1H
BEGIN:VTIMEZONE
TZID:America/Detroit
BEGIN:DAYLIGHT
TZOFFSETFROM:-0500
TZOFFSETTO:-0400
TZNAME:EDT
DTSTART:20250309T070000
END:DAYLIGHT
BEGIN:STANDARD
TZOFFSETFROM:-0400
TZOFFSETTO:-0500
TZNAME:EST
DTSTART:20251102T060000
END:STANDARD
END:VTIMEZONE
BEGIN:VEVENT
DTSTART;TZID=America/Detroit:20250921T130000
DTEND;TZID=America/Detroit:20250921T170000
DTSTAMP:20260425T122757
CREATED:20250822T160203Z
LAST-MODIFIED:20250910T173158Z
UID:10014890-1758459600-1758474000@detroitartdao.com
SUMMARY:Campus Kids Day: Autumn Adventure Presented By Corewell Health
DESCRIPTION:Campus Kids Days Presented By Corewell Health returns to Campus Martius Park for summer 2025! Families are invited to enjoy this free series of fun-filled Sundays featuring themed entertainment\, interactive activities and engaging experiences for kids of all ages. It’s the perfect way to make the most of a Sunday in the heart of Downtown Detroit. Our Campus Kids Day event series is presented by Corewell Health and supported in part by the Detroit Zoo and Metro Parent.  The Michigan Science Center will also be in attendance at all Campus Kids Day events\, bringing fun in the sun with unique activations and stations.  \n  \n\nvar exampleCallback=function(){console.log(‘Order complete!’);};window.EBWidgets.createWidget({widgetType:’checkout’\,eventId:’1399545912499′\,iframeContainerId:’eventbrite-widget-container-1399545912499′\,iframeContainerHeight:425\,onOrderComplete:exampleCallback}); \nEvents run from 1–5 p.m. on select Sundays\, July 13 through October 5.  \n2025 Schedule:  \n\nSeptember 21: Autumn Adventure \n\nWelcome the start of fall with an Autumn Adventure at Campus Martius Park! This family fun event will feature: \n\na “Detroit Builds Basketballs” innovation station courtesy of Detroit CHEMpreneurIST.\n\nFrom cardboard to court-ready: Participants will channel curiosity into creativity by designing basketball games that reflect their vision\, values\, and voice that are centered on play\, and people-first thinking. They will learn how great ideas evolve through creativity\, empathy\, and trial and error. Whether you’re crafting a one-of-a-kind hoop or engineering a new way to play\, this is where Detroit comes together to build\, problem-solve\, and dream big.\n\n\nDJ Invisible spinning your favorite family-friendly tracks\nA Bounce house\nTake in the Harvest Tunes Fall Kids Music Show taking place from 1:30-2:30 p.m. and 3:30-4:30 p.m. \nExplore the Michigan Science Center Creepy Chemistry station featuring Spooky Pumpkins\nLeaf Cyanotype Craft stations courtesy of Metro Parent\nglitter tattoos\, lawn games\, and giveaways from Birdie’s Books\nTigers baseball on the big screen\nTicket giveaways courtesy of 313 presents including the chance to score tickets to Sesame Street Live and CoComelon Live at the Fox Theatre.\nand more to be shared soon!\n\n  \n\nOctober 5: Lil’ Boo Bash \n\nMark your calendars and join us for these exciting afternoons packed with creativity\, energy and family-friendly fun! Be sure to check in closer to the event for more details on each day’s events and themed fun.  
URL:https://detroitartdao.com/event/campus-kids-day-autumn-adventure-presented-by-corewell-health
LOCATION:Campus Martius Park
CATEGORIES:Campus Martius,Community Events,Free Event,Park Events
ATTACH;FMTTYPE=image/webp:https://dpop.nyc3.digitaloceanspaces.com/wp-content/uploads/2025/06/13081704/Campus-Kids-Day-1-scaled-4zsTBg.tmp_.webp
GEO:42.3314128;-83.0465629
END:VEVENT
END:VCALENDAR