BEGIN:VCALENDAR
VERSION:2.0
PRODID:-//Discover Detroit Art - ECPv6.0.1//NONSGML v1.0//EN
CALSCALE:GREGORIAN
METHOD:PUBLISH
X-ORIGINAL-URL:https://detroitartdao.com
X-WR-CALDESC:Events for Discover Detroit Art
REFRESH-INTERVAL;VALUE=DURATION:PT1H
X-Robots-Tag:noindex
X-PUBLISHED-TTL:PT1H
BEGIN:VTIMEZONE
TZID:America/Detroit
BEGIN:DAYLIGHT
TZOFFSETFROM:-0500
TZOFFSETTO:-0400
TZNAME:EDT
DTSTART:20250309T070000
END:DAYLIGHT
BEGIN:STANDARD
TZOFFSETFROM:-0400
TZOFFSETTO:-0500
TZNAME:EST
DTSTART:20251102T060000
END:STANDARD
END:VTIMEZONE
BEGIN:VEVENT
DTSTART;VALUE=DATE:20251129
DTEND;VALUE=DATE:20251224
DTSTAMP:20260425T222212
CREATED:20251123T181723Z
LAST-MODIFIED:20251126T201643Z
UID:10016197-1764374400-1766534399@detroitartdao.com
SUMMARY:Downtown Detroit 25 Days of December
DESCRIPTION:Shop Dine Discover\nHoliday Campaign kicks off on Small Business Saturday\, November 29\, 2025 and ends on December 23\, 2025. \nThe countdown to Small Business Saturday and holiday shopping/dining in Downtown Detroit has begun and we are working on something uniquely Detroit for you! With several beloved local shops\, restaurants\, cafés and experiences\, there’s no better time to support the businesses that make our city sparkle. \nWhy It Matters\nWhen you shop\, sip\, meet up and celebrate in Downtown Detroit\, you are: \n\nSupporting local businesses and local jobs\nStrengthening a vibrant\, walkable\, one-of-a-kind downtown\nHelping your favorite Detroit spots stay strong all year long\nAnd making memories that feel like home for the holidays
URL:https://detroitartdao.com/event/downtown-detroit-25-days-of-december
LOCATION:Campus Martius Park
CATEGORIES:Campus Martius,Community Events,Free Event,Park Events
ATTACH;FMTTYPE=image/png:https://dpop.nyc3.digitaloceanspaces.com/wp-content/uploads/2025/11/26151647/25-Days-of-December-in-Detroit-Sw4vKp.tmp_.png
GEO:42.3314128;-83.0465629
END:VEVENT
BEGIN:VEVENT
DTSTART;VALUE=DATE:20251130
DTEND;VALUE=DATE:20251225
DTSTAMP:20260425T222212
CREATED:20251124T183215Z
LAST-MODIFIED:20251126T201743Z
UID:10016202-1764460800-1766620799@detroitartdao.com
SUMMARY:Downtown Detroit 25 Days of December
DESCRIPTION:Shop Dine Discover\nHoliday Campaign kicks off on Small Business Saturday\, November 29\, 2025 and ends on December 23\, 2025. \nThe countdown to Small Business Saturday and holiday shopping/dining in Downtown Detroit has begun and we are working on something uniquely Detroit for you! With several beloved local shops\, restaurants\, cafés and experiences\, there’s no better time to support the businesses that make our city sparkle. \nWhy It Matters\nWhen you shop\, sip\, meet up and celebrate in Downtown Detroit\, you are: \n\nSupporting local businesses and local jobs\nStrengthening a vibrant\, walkable\, one-of-a-kind downtown\nHelping your favorite Detroit spots stay strong all year long\nAnd making memories that feel like home for the holidays
URL:https://detroitartdao.com/event/downtown-detroit-25-days-of-december-2
LOCATION:Campus Martius Park
CATEGORIES:Campus Martius,Community Events,Free Event,Park Events
ATTACH;FMTTYPE=image/png:https://dpop.nyc3.digitaloceanspaces.com/wp-content/uploads/2025/11/26151647/25-Days-of-December-in-Detroit-Sw4vKp.tmp_.png
GEO:42.3314128;-83.0465629
END:VEVENT
BEGIN:VEVENT
DTSTART;VALUE=DATE:20251201
DTEND;VALUE=DATE:20251226
DTSTAMP:20260425T222212
CREATED:20251125T183227Z
LAST-MODIFIED:20251126T201747Z
UID:10016276-1764547200-1766707199@detroitartdao.com
SUMMARY:Downtown Detroit 25 Days of December
DESCRIPTION:Shop Dine Discover\nHoliday Campaign kicks off on Small Business Saturday\, November 29\, 2025 and ends on December 23\, 2025. \nThe countdown to Small Business Saturday and holiday shopping/dining in Downtown Detroit has begun and we are working on something uniquely Detroit for you! With several beloved local shops\, restaurants\, cafés and experiences\, there’s no better time to support the businesses that make our city sparkle. \nWhy It Matters\nWhen you shop\, sip\, meet up and celebrate in Downtown Detroit\, you are: \n\nSupporting local businesses and local jobs\nStrengthening a vibrant\, walkable\, one-of-a-kind downtown\nHelping your favorite Detroit spots stay strong all year long\nAnd making memories that feel like home for the holidays
URL:https://detroitartdao.com/event/downtown-detroit-25-days-of-december-3
LOCATION:Campus Martius Park
CATEGORIES:Campus Martius,Community Events,Free Event,Park Events
ATTACH;FMTTYPE=image/png:https://dpop.nyc3.digitaloceanspaces.com/wp-content/uploads/2025/11/26151647/25-Days-of-December-in-Detroit-Sw4vKp.tmp_.png
GEO:42.3314128;-83.0465629
END:VEVENT
BEGIN:VEVENT
DTSTART;VALUE=DATE:20251202
DTEND;VALUE=DATE:20251227
DTSTAMP:20260425T222212
CREATED:20251126T201707Z
LAST-MODIFIED:20251126T201750Z
UID:10016284-1764633600-1766793599@detroitartdao.com
SUMMARY:Downtown Detroit 25 Days of December
DESCRIPTION:Shop Dine Discover\nHoliday Campaign kicks off on Small Business Saturday\, November 29\, 2025 and ends on December 23\, 2025. \nThe countdown to Small Business Saturday and holiday shopping/dining in Downtown Detroit has begun and we are working on something uniquely Detroit for you! With several beloved local shops\, restaurants\, cafés and experiences\, there’s no better time to support the businesses that make our city sparkle. \nWhy It Matters\nWhen you shop\, sip\, meet up and celebrate in Downtown Detroit\, you are: \n\nSupporting local businesses and local jobs\nStrengthening a vibrant\, walkable\, one-of-a-kind downtown\nHelping your favorite Detroit spots stay strong all year long\nAnd making memories that feel like home for the holidays
URL:https://detroitartdao.com/event/downtown-detroit-25-days-of-december-4
LOCATION:Campus Martius Park
CATEGORIES:Campus Martius,Community Events,Free Event,Park Events
ATTACH;FMTTYPE=image/png:https://dpop.nyc3.digitaloceanspaces.com/wp-content/uploads/2025/11/26151647/25-Days-of-December-in-Detroit-Sw4vKp.tmp_.png
GEO:42.3314128;-83.0465629
END:VEVENT
BEGIN:VEVENT
DTSTART;VALUE=DATE:20251206
DTEND;VALUE=DATE:20251207
DTSTAMP:20260425T222212
CREATED:20251201T210232Z
LAST-MODIFIED:20251206T220139Z
UID:10016297-1764979200-1765065599@detroitartdao.com
SUMMARY:Downtown Detroit 25 Days of December
DESCRIPTION:Enjoy the Holidays and Support and Shop Small This Season!\n\n\n\n\nWe’ve been working on something uniquely Detroit for the holiday season to support Downtown business owners. 25 Days of December kicks off Saturday\, Nov. 29 and runs through Tuesday\, Dec. 23\, to encourage patrons to shop local. Thank you to all the local shops\, restaurants\, and cafés who agreed to participate. We look forward to seeing this campaign come to life and bring traffic to Downtown Detroit! \n\nCLICK HERE TO LEARN MORE \n\nWhy It Matters\nWhen you shop\, dine\, and discover in Downtown Detroit\, you are: \n\nSupporting local businesses and local jobs\nStrengthening a vibrant\, walkable\, one-of-a-kind downtown\nHelping your favorite Detroit spots stay strong all year long\nAnd making memories that feel like home for the holidays\n\n\n\nYour Chance to Win!\n\n\n\n\nEnter for a chance to win one of three grand prizes through the Holiday Adventure Card\nEnjoy weekly prize opportunities as part of the Character Sighting & Photo Contest\n4 weeks\, 3 winners (1 grand prize)\, unique Downtown experiences!
URL:https://detroitartdao.com/event/downtown-detroit-25-days-of-december-10
LOCATION:Campus Martius Park
CATEGORIES:Campus Martius,Community Events,Free Event,Park Events,Small Business Event
ATTACH;FMTTYPE=image/jpeg:https://dpop.nyc3.digitaloceanspaces.com/wp-content/uploads/2025/12/01160143/DDP-Stamps-and-wording-16x9-Slide_QR-Code_72DPI-nzcSt1.tmp_.jpg
GEO:42.3314128;-83.0465629
END:VEVENT
BEGIN:VEVENT
DTSTART;TZID=America/Detroit:20251206T090000
DTEND;TZID=America/Detroit:20251206T100000
DTSTAMP:20260425T222212
CREATED:20251111T150223Z
LAST-MODIFIED:20251204T213220Z
UID:10015959-1765011600-1765015200@detroitartdao.com
SUMMARY:Little Red Wings – Learn To Play Clinics
DESCRIPTION:Thank you for your interest in the Learn to Play Hockey program\, presented in collaboration with the Michigan Amateur Hockey Association\, the Little Red Wings and the Detroit Downtown Partnership. Detroit-area children ages 5-9 will receive free on-ice instruction and a full set of hockey equipment.  \n  \nSessions will be held on Saturday mornings at the Rink at Campus Martius Park presented by Lexus\, starting at 9 a.m. The program runs from Dec. 6 to Feb. 7.  \n  \nA small registration fee with USA Hockey is required to participate:  \n  \n2019 & younger: $12  \n  \n2017–2018: $9  \n  \n2013–2016: $9  \n  \nFREE hockey equipment will be provided by the Little Red Wings. Once registered\, a link will be emailed to order your equipment.  \n  \nSpace is limited\, no experience is necessary and to register and for more info visit: https://maha.sportngin.com/register/form/808783015
URL:https://detroitartdao.com/event/learn-to-play-clinics
LOCATION:Campus Martius Park
CATEGORIES:Campus Martius,Park Events
ATTACH;FMTTYPE=image/jpeg:https://dpop.nyc3.digitaloceanspaces.com/wp-content/uploads/2025/11/11100229/Learn-To-Play-scaled-20khIv.tmp_.jpg
GEO:42.3314128;-83.0465629
END:VEVENT
END:VCALENDAR