BEGIN:VCALENDAR
VERSION:2.0
PRODID:-//Discover Detroit Art - ECPv6.0.1//NONSGML v1.0//EN
CALSCALE:GREGORIAN
METHOD:PUBLISH
X-ORIGINAL-URL:https://detroitartdao.com
X-WR-CALDESC:Events for Discover Detroit Art
REFRESH-INTERVAL;VALUE=DURATION:PT1H
X-Robots-Tag:noindex
X-PUBLISHED-TTL:PT1H
BEGIN:VTIMEZONE
TZID:America/Detroit
BEGIN:DAYLIGHT
TZOFFSETFROM:-0500
TZOFFSETTO:-0400
TZNAME:EDT
DTSTART:20260308T070000
END:DAYLIGHT
BEGIN:STANDARD
TZOFFSETFROM:-0400
TZOFFSETTO:-0500
TZNAME:EST
DTSTART:20261101T060000
END:STANDARD
END:VTIMEZONE
BEGIN:VEVENT
DTSTART;TZID=America/Detroit:20260103T090000
DTEND;TZID=America/Detroit:20260103T100000
DTSTAMP:20260425T222106
CREATED:20251204T213417Z
LAST-MODIFIED:20251204T213631Z
UID:10016358-1767430800-1767434400@detroitartdao.com
SUMMARY:Little Red Wings – Learn To Play Clinics
DESCRIPTION:Thank you for your interest in the Learn to Play Hockey program\, presented in collaboration with the Michigan Amateur Hockey Association\, the Little Red Wings and the Detroit Downtown Partnership. Detroit-area children ages 5-9 will receive free on-ice instruction and a full set of hockey equipment.  \n  \nSessions will be held on Saturday mornings at the Rink at Campus Martius Park presented by Lexus\, starting at 9 a.m. The program runs from Dec. 6 to Feb. 7.  \n  \nA small registration fee with USA Hockey is required to participate:  \n  \n2019 & younger: $12  \n  \n2017–2018: $9  \n  \n2013–2016: $9  \n  \nFREE hockey equipment will be provided by the Little Red Wings. Once registered\, a link will be emailed to order your equipment.  \n  \nSpace is limited\, no experience is necessary and to register and for more info visit: https://maha.sportngin.com/register/form/808783015
URL:https://detroitartdao.com/event/little-red-wings-learn-to-play-clinics-10
LOCATION:Campus Martius Park
CATEGORIES:Campus Martius,Park Events
ATTACH;FMTTYPE=image/jpeg:https://dpop.nyc3.digitaloceanspaces.com/wp-content/uploads/2025/11/11100229/Learn-To-Play-scaled-20khIv.tmp_.jpg
GEO:42.3314128;-83.0465629
END:VEVENT
END:VCALENDAR