BEGIN:VCALENDAR
VERSION:2.0
PRODID:-//Discover Detroit Art - ECPv6.0.1//NONSGML v1.0//EN
CALSCALE:GREGORIAN
METHOD:PUBLISH
X-ORIGINAL-URL:https://detroitartdao.com
X-WR-CALDESC:Events for Discover Detroit Art
REFRESH-INTERVAL;VALUE=DURATION:PT1H
X-Robots-Tag:noindex
X-PUBLISHED-TTL:PT1H
BEGIN:VTIMEZONE
TZID:America/Detroit
BEGIN:DAYLIGHT
TZOFFSETFROM:-0500
TZOFFSETTO:-0400
TZNAME:EDT
DTSTART:20250309T070000
END:DAYLIGHT
BEGIN:STANDARD
TZOFFSETFROM:-0400
TZOFFSETTO:-0500
TZNAME:EST
DTSTART:20251102T060000
END:STANDARD
END:VTIMEZONE
BEGIN:VEVENT
DTSTART;TZID=America/Detroit:20250912T110000
DTEND;TZID=America/Detroit:20250912T130000
DTSTAMP:20260421T013311
CREATED:20250813T151708Z
LAST-MODIFIED:20250910T173143Z
UID:10014692-1757674800-1757682000@detroitartdao.com
SUMMARY:Pilates in the Park: Sculpt Series
DESCRIPTION:Experience Sculpt & Flow\, a dynamic and inclusive mat Pilates class in Capitol Park\, led by expert instructors from Sculpt Pilates. Designed for all levels – whether you’re a beginner or seasoned pro – this full-body movement experience focuses on core strength\, mindful flows\, intentional breathing and improved body awareness. Be sure to bring your own mat and water bottle.  \nPre-registration is required at https://bit.ly/sculpt-pilates-detroit.  \nPricing:   \n– FREE for members  \n– $8 registration for non-members  \n 
URL:https://detroitartdao.com/event/pilates-in-the-park-sculpt-series-6
LOCATION:Capitol Park\, Capitol Park Historic District\, Detroit\, MI\, 48226\, United States
CATEGORIES:Capitol Park,Park Events
ATTACH;FMTTYPE=image/webp:https://dpop.nyc3.digitaloceanspaces.com/wp-content/uploads/2025/06/25174649/nh_20190805_1864-scaled-QPPI41.tmp_.webp
GEO:42.3297931;-83.0466592
X-APPLE-STRUCTURED-LOCATION;VALUE=URI;X-ADDRESS=Capitol Park Capitol Park Historic District Detroit MI 48226 United States;X-APPLE-RADIUS=500;X-TITLE=Capitol Park Historic District:geo:-83.0466592,42.3297931
END:VEVENT
BEGIN:VEVENT
DTSTART;TZID=America/Detroit:20250926T110000
DTEND;TZID=America/Detroit:20250926T130000
DTSTAMP:20260421T013311
CREATED:20250827T161803Z
LAST-MODIFIED:20250910T173142Z
UID:10014921-1758884400-1758891600@detroitartdao.com
SUMMARY:Pilates in the Park: Sculpt Series
DESCRIPTION:Experience Sculpt & Flow\, a dynamic and inclusive mat Pilates class in Capitol Park\, led by expert instructors from Sculpt Pilates. Designed for all levels – whether you’re a beginner or seasoned pro – this full-body movement experience focuses on core strength\, mindful flows\, intentional breathing and improved body awareness. Be sure to bring your own mat and water bottle.  \nPre-registration is required at https://bit.ly/sculpt-pilates-detroit.  \nPricing:   \n– FREE for members  \n– $8 registration for non-members  \n 
URL:https://detroitartdao.com/event/pilates-in-the-park-sculpt-series-7
LOCATION:Capitol Park\, Capitol Park Historic District\, Detroit\, MI\, 48226\, United States
CATEGORIES:Capitol Park,Park Events
ATTACH;FMTTYPE=image/webp:https://dpop.nyc3.digitaloceanspaces.com/wp-content/uploads/2025/06/25174649/nh_20190805_1864-scaled-QPPI41.tmp_.webp
GEO:42.3297931;-83.0466592
X-APPLE-STRUCTURED-LOCATION;VALUE=URI;X-ADDRESS=Capitol Park Capitol Park Historic District Detroit MI 48226 United States;X-APPLE-RADIUS=500;X-TITLE=Capitol Park Historic District:geo:-83.0466592,42.3297931
END:VEVENT
END:VCALENDAR