BEGIN:VCALENDAR
VERSION:2.0
PRODID:-//Discover Detroit Art - ECPv6.0.1//NONSGML v1.0//EN
CALSCALE:GREGORIAN
METHOD:PUBLISH
X-ORIGINAL-URL:https://detroitartdao.com
X-WR-CALDESC:Events for Discover Detroit Art
REFRESH-INTERVAL;VALUE=DURATION:PT1H
X-Robots-Tag:noindex
X-PUBLISHED-TTL:PT1H
BEGIN:VTIMEZONE
TZID:America/Detroit
BEGIN:DAYLIGHT
TZOFFSETFROM:-0500
TZOFFSETTO:-0400
TZNAME:EDT
DTSTART:20230312T070000
END:DAYLIGHT
BEGIN:STANDARD
TZOFFSETFROM:-0400
TZOFFSETTO:-0500
TZNAME:EST
DTSTART:20231105T060000
END:STANDARD
BEGIN:DAYLIGHT
TZOFFSETFROM:-0500
TZOFFSETTO:-0400
TZNAME:EDT
DTSTART:20240310T070000
END:DAYLIGHT
BEGIN:STANDARD
TZOFFSETFROM:-0400
TZOFFSETTO:-0500
TZNAME:EST
DTSTART:20241103T060000
END:STANDARD
END:VTIMEZONE
BEGIN:VEVENT
DTSTART;TZID=America/Detroit:20240721T190000
DTEND;TZID=America/Detroit:20240721T200000
DTSTAMP:20260421T091449
CREATED:20240621T113138Z
LAST-MODIFIED:20240721T124645Z
UID:10009774-1721588400-1721592000@detroitartdao.com
SUMMARY:Community Yoga with Citizen Yoga
DESCRIPTION:Take time to center yourself with free yoga classes led by a certified instructor from Citizen Yoga\, while enjoying the peace and serenity of this activity in the stunning Capitol Park in Downtown Detroit. \nWednesdays from 6 pm -7 pm and Sundays from 7 pm -8 pm at Capitol Park June 9 – Aug. 28.
URL:https://detroitartdao.com/event/community-yoga-with-citizen-yoga-14
LOCATION:Capitol Park\, Capitol Park Historic District\, Detroit\, MI\, 48226\, United States
CATEGORIES:Capitol Park,Park Events
ATTACH;FMTTYPE=image/jpeg:https://dpop.nyc3.digitaloceanspaces.com/wp-content/uploads/2023/08/30111129/nh_20190805_1886-scaled-NXQaKH.tmp_.jpg
GEO:42.3297931;-83.0466592
X-APPLE-STRUCTURED-LOCATION;VALUE=URI;X-ADDRESS=Capitol Park Capitol Park Historic District Detroit MI 48226 United States;X-APPLE-RADIUS=500;X-TITLE=Capitol Park Historic District:geo:-83.0466592,42.3297931
END:VEVENT
BEGIN:VEVENT
DTSTART;TZID=America/Detroit:20240721T190000
DTEND;TZID=America/Detroit:20240721T200000
DTSTAMP:20260421T091449
CREATED:20240621T113138Z
LAST-MODIFIED:20240621T113138Z
UID:10009775-1721588400-1721592000@detroitartdao.com
SUMMARY:Community Yoga with Citizen Yoga
DESCRIPTION:Take time to center yourself with free yoga classes led by a certified instructor from Citizen Yoga\, while enjoying the peace and serenity of this activity in the stunning Capitol Park in Downtown Detroit. \nWednesdays from 6 pm -7 pm and Sundays from 7 pm -8 pm at Capitol Park June 9 – Aug. 28.
URL:https://detroitartdao.com/event/community-yoga-with-citizen-yoga-15
LOCATION:Capitol Park\, Capitol Park Historic District\, Detroit\, MI\, 48226\, United States
CATEGORIES:Capitol Park,Park Events
ATTACH;FMTTYPE=image/jpeg:https://dpop.nyc3.digitaloceanspaces.com/wp-content/uploads/2023/08/30111129/nh_20190805_1886-scaled-NXQaKH.tmp_.jpg
GEO:42.3297931;-83.0466592
X-APPLE-STRUCTURED-LOCATION;VALUE=URI;X-ADDRESS=Capitol Park Capitol Park Historic District Detroit MI 48226 United States;X-APPLE-RADIUS=500;X-TITLE=Capitol Park Historic District:geo:-83.0466592,42.3297931
END:VEVENT
BEGIN:VEVENT
DTSTART;TZID=America/Detroit:20240717T180000
DTEND;TZID=America/Detroit:20240717T190000
DTSTAMP:20260421T091449
CREATED:20240617T111639Z
LAST-MODIFIED:20240717T123149Z
UID:10009725-1721239200-1721242800@detroitartdao.com
SUMMARY:Community Yoga with Citizen Yoga
DESCRIPTION:Take time to center yourself with free yoga classes led by a certified instructor from Citizen Yoga\, while enjoying the peace and serenity of this activity in the stunning Capitol Park in Downtown Detroit. \nWednesdays from 6 pm -7 pm and Sundays from 7 pm -8 pm at Capitol Park June 9 – Aug. 28.
URL:https://detroitartdao.com/event/community-yoga-with-citizen-yoga-13
LOCATION:Capitol Park\, Capitol Park Historic District\, Detroit\, MI\, 48226\, United States
CATEGORIES:Capitol Park,Park Events
ATTACH;FMTTYPE=image/jpeg:https://dpop.nyc3.digitaloceanspaces.com/wp-content/uploads/2023/08/30111129/nh_20190805_1886-scaled-NXQaKH.tmp_.jpg
GEO:42.3297931;-83.0466592
X-APPLE-STRUCTURED-LOCATION;VALUE=URI;X-ADDRESS=Capitol Park Capitol Park Historic District Detroit MI 48226 United States;X-APPLE-RADIUS=500;X-TITLE=Capitol Park Historic District:geo:-83.0466592,42.3297931
END:VEVENT
BEGIN:VEVENT
DTSTART;TZID=America/Detroit:20240714T190000
DTEND;TZID=America/Detroit:20240714T200000
DTSTAMP:20260421T091449
CREATED:20240614T020138Z
LAST-MODIFIED:20240714T123141Z
UID:10009721-1720983600-1720987200@detroitartdao.com
SUMMARY:Community Yoga with Citizen Yoga
DESCRIPTION:Take time to center yourself with free yoga classes led by a certified instructor from Citizen Yoga\, while enjoying the peace and serenity of this activity in the stunning Capitol Park in Downtown Detroit. \nWednesdays from 6 pm -7 pm and Sundays from 7 pm -8 pm at Capitol Park June 9 – Aug. 28.
URL:https://detroitartdao.com/event/community-yoga-with-citizen-yoga-12
LOCATION:Capitol Park\, Capitol Park Historic District\, Detroit\, MI\, 48226\, United States
CATEGORIES:Capitol Park,Park Events
ATTACH;FMTTYPE=image/jpeg:https://dpop.nyc3.digitaloceanspaces.com/wp-content/uploads/2023/08/30111129/nh_20190805_1886-scaled-NXQaKH.tmp_.jpg
GEO:42.3297931;-83.0466592
X-APPLE-STRUCTURED-LOCATION;VALUE=URI;X-ADDRESS=Capitol Park Capitol Park Historic District Detroit MI 48226 United States;X-APPLE-RADIUS=500;X-TITLE=Capitol Park Historic District:geo:-83.0466592,42.3297931
END:VEVENT
BEGIN:VEVENT
DTSTART;TZID=America/Detroit:20240710T180000
DTEND;TZID=America/Detroit:20240710T190000
DTSTAMP:20260421T091449
CREATED:20240610T192142Z
LAST-MODIFIED:20240710T123144Z
UID:10009665-1720634400-1720638000@detroitartdao.com
SUMMARY:Community Yoga with Citizen Yoga
DESCRIPTION:Take time to center yourself with free yoga classes led by a certified instructor from Citizen Yoga\, while enjoying the peace and serenity of this activity in the stunning Capitol Park in Downtown Detroit. \nWednesdays from 6 pm -7 pm and Sundays from 7 pm -8 pm at Capitol Park June 9 – Aug. 28.
URL:https://detroitartdao.com/event/community-yoga-with-citizen-yoga-11
LOCATION:Capitol Park\, Capitol Park Historic District\, Detroit\, MI\, 48226\, United States
CATEGORIES:Capitol Park,Park Events
ATTACH;FMTTYPE=image/jpeg:https://dpop.nyc3.digitaloceanspaces.com/wp-content/uploads/2023/08/30111129/nh_20190805_1886-scaled-NXQaKH.tmp_.jpg
GEO:42.3297931;-83.0466592
X-APPLE-STRUCTURED-LOCATION;VALUE=URI;X-ADDRESS=Capitol Park Capitol Park Historic District Detroit MI 48226 United States;X-APPLE-RADIUS=500;X-TITLE=Capitol Park Historic District:geo:-83.0466592,42.3297931
END:VEVENT
BEGIN:VEVENT
DTSTART;TZID=America/Detroit:20240707T190000
DTEND;TZID=America/Detroit:20240707T200000
DTSTAMP:20260421T091449
CREATED:20240607T190136Z
LAST-MODIFIED:20240707T120141Z
UID:10009656-1720378800-1720382400@detroitartdao.com
SUMMARY:Community Yoga with Citizen Yoga
DESCRIPTION:Take time to center yourself with free yoga classes led by a certified instructor from Citizen Yoga\, while enjoying the peace and serenity of this activity in the stunning Capitol Park in Downtown Detroit. \nWednesdays from 6 pm -7 pm and Sundays from 7 pm -8 pm at Capitol Park June 9 – Aug. 28.
URL:https://detroitartdao.com/event/community-yoga-with-citizen-yoga-10
LOCATION:Capitol Park\, Capitol Park Historic District\, Detroit\, MI\, 48226\, United States
CATEGORIES:Capitol Park,Park Events
ATTACH;FMTTYPE=image/jpeg:https://dpop.nyc3.digitaloceanspaces.com/wp-content/uploads/2023/08/30111129/nh_20190805_1886-scaled-NXQaKH.tmp_.jpg
GEO:42.3297931;-83.0466592
X-APPLE-STRUCTURED-LOCATION;VALUE=URI;X-ADDRESS=Capitol Park Capitol Park Historic District Detroit MI 48226 United States;X-APPLE-RADIUS=500;X-TITLE=Capitol Park Historic District:geo:-83.0466592,42.3297931
END:VEVENT
BEGIN:VEVENT
DTSTART;TZID=America/Detroit:20240703T180000
DTEND;TZID=America/Detroit:20240703T190000
DTSTAMP:20260421T091449
CREATED:20240603T190140Z
LAST-MODIFIED:20240703T120145Z
UID:10009602-1720029600-1720033200@detroitartdao.com
SUMMARY:Community Yoga with Citizen Yoga
DESCRIPTION:Take time to center yourself with free yoga classes led by a certified instructor from Citizen Yoga\, while enjoying the peace and serenity of this activity in the stunning Capitol Park in Downtown Detroit. \nWednesdays from 6 pm -7 pm and Sundays from 7 pm -8 pm at Capitol Park June 9 – Aug. 28.
URL:https://detroitartdao.com/event/community-yoga-with-citizen-yoga-9
LOCATION:Capitol Park\, Capitol Park Historic District\, Detroit\, MI\, 48226\, United States
CATEGORIES:Capitol Park,Park Events
ATTACH;FMTTYPE=image/jpeg:https://dpop.nyc3.digitaloceanspaces.com/wp-content/uploads/2023/08/30111129/nh_20190805_1886-scaled-NXQaKH.tmp_.jpg
GEO:42.3297931;-83.0466592
X-APPLE-STRUCTURED-LOCATION;VALUE=URI;X-ADDRESS=Capitol Park Capitol Park Historic District Detroit MI 48226 United States;X-APPLE-RADIUS=500;X-TITLE=Capitol Park Historic District:geo:-83.0466592,42.3297931
END:VEVENT
BEGIN:VEVENT
DTSTART;TZID=America/Detroit:20240630T190000
DTEND;TZID=America/Detroit:20240630T200000
DTSTAMP:20260421T091449
CREATED:20240531T184646Z
LAST-MODIFIED:20240630T120145Z
UID:10009530-1719774000-1719777600@detroitartdao.com
SUMMARY:Community Yoga with Citizen Yoga
DESCRIPTION:Take time to center yourself with free yoga classes led by a certified instructor from Citizen Yoga\, while enjoying the peace and serenity of this activity in the stunning Capitol Park in Downtown Detroit. \nWednesdays from 6 pm -7 pm and Sundays from 7 pm -8 pm at Capitol Park June 9 – Aug. 28.
URL:https://detroitartdao.com/event/community-yoga-with-citizen-yoga-8
LOCATION:Capitol Park\, Capitol Park Historic District\, Detroit\, MI\, 48226\, United States
CATEGORIES:Capitol Park,Park Events
ATTACH;FMTTYPE=image/jpeg:https://dpop.nyc3.digitaloceanspaces.com/wp-content/uploads/2023/08/30111129/nh_20190805_1886-scaled-NXQaKH.tmp_.jpg
GEO:42.3297931;-83.0466592
X-APPLE-STRUCTURED-LOCATION;VALUE=URI;X-ADDRESS=Capitol Park Capitol Park Historic District Detroit MI 48226 United States;X-APPLE-RADIUS=500;X-TITLE=Capitol Park Historic District:geo:-83.0466592,42.3297931
END:VEVENT
BEGIN:VEVENT
DTSTART;TZID=America/Detroit:20240626T180000
DTEND;TZID=America/Detroit:20240626T190000
DTSTAMP:20260421T091449
CREATED:20240528T183140Z
LAST-MODIFIED:20240626T114639Z
UID:10009475-1719424800-1719428400@detroitartdao.com
SUMMARY:Community Yoga with Citizen Yoga
DESCRIPTION:Take time to center yourself with free yoga classes led by a certified instructor from Citizen Yoga\, while enjoying the peace and serenity of this activity in the stunning Capitol Park in Downtown Detroit. \nWednesdays from 6 pm -7 pm and Sundays from 7 pm -8 pm at Capitol Park June 9 – Aug. 28.
URL:https://detroitartdao.com/event/community-yoga-with-citizen-yoga-7
LOCATION:Capitol Park\, Capitol Park Historic District\, Detroit\, MI\, 48226\, United States
CATEGORIES:Capitol Park,Park Events
ATTACH;FMTTYPE=image/jpeg:https://dpop.nyc3.digitaloceanspaces.com/wp-content/uploads/2023/08/30111129/nh_20190805_1886-scaled-NXQaKH.tmp_.jpg
GEO:42.3297931;-83.0466592
X-APPLE-STRUCTURED-LOCATION;VALUE=URI;X-ADDRESS=Capitol Park Capitol Park Historic District Detroit MI 48226 United States;X-APPLE-RADIUS=500;X-TITLE=Capitol Park Historic District:geo:-83.0466592,42.3297931
END:VEVENT
BEGIN:VEVENT
DTSTART;TZID=America/Detroit:20240623T190000
DTEND;TZID=America/Detroit:20240623T200000
DTSTAMP:20260421T091449
CREATED:20240528T183140Z
LAST-MODIFIED:20240623T114637Z
UID:10009473-1719169200-1719172800@detroitartdao.com
SUMMARY:Community Yoga with Citizen Yoga
DESCRIPTION:Take time to center yourself with free yoga classes led by a certified instructor from Citizen Yoga\, while enjoying the peace and serenity of this activity in the stunning Capitol Park in Downtown Detroit. \nWednesdays from 6 pm -7 pm and Sundays from 7 pm -8 pm at Capitol Park June 9 – Aug. 28.
URL:https://detroitartdao.com/event/community-yoga-with-citizen-yoga-5
LOCATION:Capitol Park\, Capitol Park Historic District\, Detroit\, MI\, 48226\, United States
CATEGORIES:Capitol Park,Park Events
ATTACH;FMTTYPE=image/jpeg:https://dpop.nyc3.digitaloceanspaces.com/wp-content/uploads/2023/08/30111129/nh_20190805_1886-scaled-NXQaKH.tmp_.jpg
GEO:42.3297931;-83.0466592
X-APPLE-STRUCTURED-LOCATION;VALUE=URI;X-ADDRESS=Capitol Park Capitol Park Historic District Detroit MI 48226 United States;X-APPLE-RADIUS=500;X-TITLE=Capitol Park Historic District:geo:-83.0466592,42.3297931
END:VEVENT
BEGIN:VEVENT
DTSTART;TZID=America/Detroit:20240619T180000
DTEND;TZID=America/Detroit:20240619T190000
DTSTAMP:20260421T091449
CREATED:20240528T183140Z
LAST-MODIFIED:20240619T113140Z
UID:10009474-1718820000-1718823600@detroitartdao.com
SUMMARY:Community Yoga with Citizen Yoga
DESCRIPTION:Take time to center yourself with free yoga classes led by a certified instructor from Citizen Yoga\, while enjoying the peace and serenity of this activity in the stunning Capitol Park in Downtown Detroit. \nWednesdays from 6 pm -7 pm and Sundays from 7 pm -8 pm at Capitol Park June 9 – Aug. 28.
URL:https://detroitartdao.com/event/community-yoga-with-citizen-yoga-6
LOCATION:Capitol Park\, Capitol Park Historic District\, Detroit\, MI\, 48226\, United States
CATEGORIES:Capitol Park,Park Events
ATTACH;FMTTYPE=image/jpeg:https://dpop.nyc3.digitaloceanspaces.com/wp-content/uploads/2023/08/30111129/nh_20190805_1886-scaled-NXQaKH.tmp_.jpg
GEO:42.3297931;-83.0466592
X-APPLE-STRUCTURED-LOCATION;VALUE=URI;X-ADDRESS=Capitol Park Capitol Park Historic District Detroit MI 48226 United States;X-APPLE-RADIUS=500;X-TITLE=Capitol Park Historic District:geo:-83.0466592,42.3297931
END:VEVENT
BEGIN:VEVENT
DTSTART;TZID=America/Detroit:20240616T190000
DTEND;TZID=America/Detroit:20240616T200000
DTSTAMP:20260421T091449
CREATED:20240528T183140Z
LAST-MODIFIED:20240616T111636Z
UID:10009472-1718564400-1718568000@detroitartdao.com
SUMMARY:Community Yoga with Citizen Yoga
DESCRIPTION:Take time to center yourself with free yoga classes led by a certified instructor from Citizen Yoga\, while enjoying the peace and serenity of this activity in the stunning Capitol Park in Downtown Detroit. \nWednesdays from 6 pm -7 pm and Sundays from 7 pm -8 pm at Capitol Park June 9 – Aug. 28.
URL:https://detroitartdao.com/event/community-yoga-with-citizen-yoga-4
LOCATION:Capitol Park\, Capitol Park Historic District\, Detroit\, MI\, 48226\, United States
CATEGORIES:Capitol Park,Park Events
ATTACH;FMTTYPE=image/jpeg:https://dpop.nyc3.digitaloceanspaces.com/wp-content/uploads/2023/08/30111129/nh_20190805_1886-scaled-NXQaKH.tmp_.jpg
GEO:42.3297931;-83.0466592
X-APPLE-STRUCTURED-LOCATION;VALUE=URI;X-ADDRESS=Capitol Park Capitol Park Historic District Detroit MI 48226 United States;X-APPLE-RADIUS=500;X-TITLE=Capitol Park Historic District:geo:-83.0466592,42.3297931
END:VEVENT
BEGIN:VEVENT
DTSTART;TZID=America/Detroit:20240612T180000
DTEND;TZID=America/Detroit:20240612T190000
DTSTAMP:20260421T091449
CREATED:20230830T151123Z
LAST-MODIFIED:20240611T193142Z
UID:10001926-1718215200-1718218800@detroitartdao.com
SUMMARY:Community Yoga with Citizen Yoga
DESCRIPTION:Take time to center yourself with free yoga classes led by a certified instructor from Citizen Yoga\, while enjoying the peace and serenity of this activity in the stunning Capitol Park in Downtown Detroit. \nWednesdays from 6 pm -7 pm and Sundays from 7 pm -8 pm at Capitol Park June 9 – Aug. 28.
URL:https://detroitartdao.com/event/community-yoga-with-citizen-yoga
LOCATION:Capitol Park\, Capitol Park Historic District\, Detroit\, MI\, 48226\, United States
CATEGORIES:Capitol Park,Fitness,Park Events
ATTACH;FMTTYPE=image/jpeg:https://dpop.nyc3.digitaloceanspaces.com/wp-content/uploads/2023/08/30111129/nh_20190805_1886-scaled-NXQaKH.tmp_.jpg
GEO:42.3297931;-83.0466592
X-APPLE-STRUCTURED-LOCATION;VALUE=URI;X-ADDRESS=Capitol Park Capitol Park Historic District Detroit MI 48226 United States;X-APPLE-RADIUS=500;X-TITLE=Capitol Park Historic District:geo:-83.0466592,42.3297931
END:VEVENT
BEGIN:VEVENT
DTSTART;TZID=America/Detroit:20240609T190000
DTEND;TZID=America/Detroit:20240609T200000
DTSTAMP:20260421T091449
CREATED:20240528T183139Z
LAST-MODIFIED:20240609T191640Z
UID:10009471-1717959600-1717963200@detroitartdao.com
SUMMARY:Community Yoga with Citizen Yoga
DESCRIPTION:Take time to center yourself with free yoga classes led by a certified instructor from Citizen Yoga\, while enjoying the peace and serenity of this activity in the stunning Capitol Park in Downtown Detroit. \nWednesdays from 6 pm -7 pm and Sundays from 7 pm -8 pm at Capitol Park June 9 – Aug. 28.
URL:https://detroitartdao.com/event/community-yoga-with-citizen-yoga-3
LOCATION:Capitol Park\, Capitol Park Historic District\, Detroit\, MI\, 48226\, United States
CATEGORIES:Capitol Park,Park Events
ATTACH;FMTTYPE=image/jpeg:https://dpop.nyc3.digitaloceanspaces.com/wp-content/uploads/2023/08/30111129/nh_20190805_1886-scaled-NXQaKH.tmp_.jpg
GEO:42.3297931;-83.0466592
X-APPLE-STRUCTURED-LOCATION;VALUE=URI;X-ADDRESS=Capitol Park Capitol Park Historic District Detroit MI 48226 United States;X-APPLE-RADIUS=500;X-TITLE=Capitol Park Historic District:geo:-83.0466592,42.3297931
END:VEVENT
BEGIN:VEVENT
DTSTART;TZID=America/Detroit:20230830T180000
DTEND;TZID=America/Detroit:20230830T190000
DTSTAMP:20260421T091449
CREATED:20230830T151123Z
LAST-MODIFIED:20231122T040702Z
UID:10001927-1693418400-1693422000@detroitartdao.com
SUMMARY:Community Yoga with Citizen Yoga
DESCRIPTION:Take time to center yourself with free yoga classes led by a certified instructor\, while enjoying the peace and serenity of this activity in our beautiful Downtown Detroit parks. \nSundays from 7 pm -8 pm at Grand Circus Park June 4th – Aug. 27th \nWednesdays from 6 pm -7 pm at Capitol Park June 7th – Aug. 30th
URL:https://detroitartdao.com/event/community-yoga-with-citizen-yoga-2
LOCATION:Capitol Park\, Capitol Park Historic District\, Detroit\, MI\, 48226\, United States
CATEGORIES:Capitol Park,Fitness,Park Events
ATTACH;FMTTYPE=image/jpeg:https://dpop.nyc3.digitaloceanspaces.com/wp-content/uploads/2023/08/30111129/nh_20190805_1886-scaled-NXQaKH.tmp_.jpg
GEO:42.3297931;-83.0466592
X-APPLE-STRUCTURED-LOCATION;VALUE=URI;X-ADDRESS=Capitol Park Capitol Park Historic District Detroit MI 48226 United States;X-APPLE-RADIUS=500;X-TITLE=Capitol Park Historic District:geo:-83.0466592,42.3297931
END:VEVENT
END:VCALENDAR