BEGIN:VCALENDAR
VERSION:2.0
PRODID:-//Discover Detroit Art - ECPv6.0.1//NONSGML v1.0//EN
CALSCALE:GREGORIAN
METHOD:PUBLISH
X-WR-CALNAME:Discover Detroit Art
X-ORIGINAL-URL:https://detroitartdao.com
X-WR-CALDESC:Events for Discover Detroit Art
REFRESH-INTERVAL;VALUE=DURATION:PT1H
X-Robots-Tag:noindex
X-PUBLISHED-TTL:PT1H
BEGIN:VTIMEZONE
TZID:America/Detroit
BEGIN:DAYLIGHT
TZOFFSETFROM:-0500
TZOFFSETTO:-0400
TZNAME:EDT
DTSTART:20250309T070000
END:DAYLIGHT
BEGIN:STANDARD
TZOFFSETFROM:-0400
TZOFFSETTO:-0500
TZNAME:EST
DTSTART:20251102T060000
END:STANDARD
END:VTIMEZONE
BEGIN:VEVENT
DTSTART;TZID=America/Detroit:20250925T173000
DTEND;TZID=America/Detroit:20250925T190000
DTSTAMP:20260424T101602
CREATED:20250806T031639Z
LAST-MODIFIED:20250925T101635Z
UID:10014590-1758821400-1758826800@detroitartdao.com
SUMMARY:Designing with Intelligence: an AI Collection of Speculative Objects
DESCRIPTION:A Detroit Month of Design event with industry experts at the Detroit Institute of Arts\n\n\nDuring the 2025 Detroit Month of Design\, Lawrence Technological University (LTU) College of Architecture and Design (CoAD) will present an innovative event exploring the intersection of AI technology and design. AI-generated works will be showcased during a panel discussion as part of the Detroit Month of Design\, offering a fresh perspective on historical and contemporary design through the lens of emerging technologies. \nThe panel discussion being held in the Detroit Film Theater at the Detroit Institute of Arts will include experts who will debate how AI can be integrated into design practices\, its impact on art and design\, and how LTU is preparing the next generation of designers and architects to use these tools effectively. This event highlights how AI is shaping the future of design\, fostering innovation\, and bridging the city’s industrial past with its digital future. \nPanelists: \nJason Vigneri-Beane — Professor\, Pratt School of Architecture \nHumbi Song — Assistant Professor and Emerging Architect Fellow\, University of Toronto \nShelley Selim — Detroit Institute of Arts\, Mort Harris Curator of Automotive\, Industrial\, and Decorative Design \nCurry J. Hackett —Teaching Associate in Urban Planning and Design\, Harvard University Graduate School of Design \n\n\n\nThank you to our location sponsor:
URL:https://detroitartdao.com/event/designing-with-intelligence-an-ai-collection-of-speculative-objects
LOCATION:Detroit Film Theatre\, 5200 Woodward Avenue\, Detroit\, MI\, 48202
CATEGORIES:Design
ATTACH;FMTTYPE=image/jpeg:https://dpop.nyc3.digitaloceanspaces.com/wp-content/uploads/2025/08/05231641/2cc7b199d579ad2a285293652a0940af.jpg
GEO:42.3595166;-83.0629481
X-APPLE-STRUCTURED-LOCATION;VALUE=URI;X-ADDRESS=Detroit Film Theatre 5200 Woodward Avenue Detroit MI 48202;X-APPLE-RADIUS=500;X-TITLE=5200 Woodward Avenue:geo:-83.0629481,42.3595166
END:VEVENT
END:VCALENDAR