BEGIN:VCALENDAR
VERSION:2.0
PRODID:-//Discover Detroit Art - ECPv6.0.1//NONSGML v1.0//EN
CALSCALE:GREGORIAN
METHOD:PUBLISH
X-WR-CALNAME:Discover Detroit Art
X-ORIGINAL-URL:https://detroitartdao.com
X-WR-CALDESC:Events for Discover Detroit Art
REFRESH-INTERVAL;VALUE=DURATION:PT1H
X-Robots-Tag:noindex
X-PUBLISHED-TTL:PT1H
BEGIN:VTIMEZONE
TZID:America/Detroit
BEGIN:DAYLIGHT
TZOFFSETFROM:-0500
TZOFFSETTO:-0400
TZNAME:EDT
DTSTART:20250309T070000
END:DAYLIGHT
BEGIN:STANDARD
TZOFFSETFROM:-0400
TZOFFSETTO:-0500
TZNAME:EST
DTSTART:20251102T060000
END:STANDARD
END:VTIMEZONE
BEGIN:VEVENT
DTSTART;TZID=America/Detroit:20251104T123000
DTEND;TZID=America/Detroit:20251104T133000
DTSTAMP:20260422T235950
CREATED:20251014T113134Z
LAST-MODIFIED:20251104T150134Z
UID:10015526-1762259400-1762263000@detroitartdao.com
SUMMARY:Design x Technology Series: Roy Decker and Anne Marie Duvall Decker
DESCRIPTION:They will explore how the constructed environment can be critical\, healthy\, educational\, and therapeutic for its inhabitants.\n\n\nJoin LTU CoAD for our next exciting Design x Technology Series talk featuring Roy Decker and Anne Marie Duvall Decker\, Co-Founders of Duvall Decker. Their talk titled\, Foundations will explore how the constructed environment can be critical\, healthy\, educational\, and perhaps\, therapeutic for a place and its inhabitants. \nThis conversational discussion with Assistant Professor Masataka Yoshikawa will provide our guests with a thoughtfully guided interview. \nTITLE: Foundations \nABSTRACT: Design encompasses life in all its complexities and contingencies. Planning and design are the only activities that can improve the social and environmental health of our communities. Any professional can engage planning and design thinking in their work\, but designers are trained for this challenge. Design methodologies include imagining a future and defining the systematic steps to achieve that future. Architectural projects are local and sited in a specific place and community. To have meaningful impact\, architecture must be grounded in the place of practice\, in its soil\, weather\, economy\, history\, and social context. To be productive\, a studio must be aware of the cultural history and limitations of architecture and search for critiques and improvements that can help make a socially and environmentally healthy condition. \nThe work of Duvall Decker Architects is hopeful speculation through an expanded practice that includes architectural design\, community planning\, real estate development\, and building care. In over twenty-seven years of doing this work\, they have recorded what are called our foundations. They are our assumptions\, principles\, propositions\, lessons\, inspirations\, and aspirations for both the how and the why of a practice. This lecture explores the work through the lenses of several of Duvall Decker’s foundations. \nBENEFITS: Each new or renovated building and each new landscape changes its community. These interventions have consequences in the lives of all the people who encounter them over the years they exist. Architects face the challenges of program\, budget\, and schedule in every project\, but the most important challenge is to find the public value for each project. Architecture can contribute to cultural growth\, public safety\, and environmental and social health. Architecture form is not simply a thing\, but a transaction between us and our environment over time. \nWe believe the opportunity to design the built environment is a privilege that comes with public responsibility. For Duvall Decker\, architecture is both a radical act of service and a hopeful artistic speculation. Architectural projects are local and come to be within a specific place and a unique community. As architects\, we sometimes do not realize the public consequences that every building or landscape intervention carries. To expand our focus from the project-specific requirements\, we ask questions that reframe our perspective. This presentation will explore how the constructed environment can be critical\, healthy\, educational\, and perhaps\, therapeutic for a place and its inhabitants. \n \n\n\n\n🛂 CoAD Freshman\, this event counts towards your Experience Passport.  \nCEU: This lecture equals 1 professional architecture credit towards licensure requirements. ​​ \nPlease note that LTU is not a registered AIA CE provider. By virtue of having a NAAB-accredited architecture program\, the State of Michigan authorizes LTU to offer continuing education credit. A list of state-approved HSW subjects can be found on their licensing website by searching the page for ‘ HSW subjects for continuing education’. \nAs part of CoAD’s Design x Technology Lecture Series\, this lecture is free and open to the public. Guests may watch online or on campus. Register for the location/viewing details. \n*Image:  Duvall Decker. US Courthouse Greenville MS. Timothy Hursley – Katherine Flannigan.
URL:https://detroitartdao.com/event/design-x-technology-series-roy-decker-and-anne-marie-decker
LOCATION:Lawrence Technological University\, 21000 West 10 Mile Road\, Southfield\, MI\, 48075\, United States
CATEGORIES:Design
ATTACH;FMTTYPE=image/jpeg:https://dpop.nyc3.digitaloceanspaces.com/wp-content/uploads/2025/10/14073147/a4f59a2e1362f30ebf32443d8a07260d.jpg
GEO:42.4755661;-83.2497671
X-APPLE-STRUCTURED-LOCATION;VALUE=URI;X-ADDRESS=Lawrence Technological University 21000 West 10 Mile Road Southfield MI 48075 United States;X-APPLE-RADIUS=500;X-TITLE=21000 West 10 Mile Road:geo:-83.2497671,42.4755661
END:VEVENT
END:VCALENDAR