BEGIN:VCALENDAR
VERSION:2.0
PRODID:-//Discover Detroit Art - ECPv6.0.1//NONSGML v1.0//EN
CALSCALE:GREGORIAN
METHOD:PUBLISH
X-WR-CALNAME:Discover Detroit Art
X-ORIGINAL-URL:https://detroitartdao.com
X-WR-CALDESC:Events for Discover Detroit Art
REFRESH-INTERVAL;VALUE=DURATION:PT1H
X-Robots-Tag:noindex
X-PUBLISHED-TTL:PT1H
BEGIN:VTIMEZONE
TZID:America/Detroit
BEGIN:DAYLIGHT
TZOFFSETFROM:-0500
TZOFFSETTO:-0400
TZNAME:EDT
DTSTART:20240310T070000
END:DAYLIGHT
BEGIN:STANDARD
TZOFFSETFROM:-0400
TZOFFSETTO:-0500
TZNAME:EST
DTSTART:20241103T060000
END:STANDARD
BEGIN:DAYLIGHT
TZOFFSETFROM:-0500
TZOFFSETTO:-0400
TZNAME:EDT
DTSTART:20250309T070000
END:DAYLIGHT
BEGIN:STANDARD
TZOFFSETFROM:-0400
TZOFFSETTO:-0500
TZNAME:EST
DTSTART:20251102T060000
END:STANDARD
END:VTIMEZONE
BEGIN:VEVENT
DTSTART;TZID=America/Detroit:20250122T083000
DTEND;TZID=America/Detroit:20250122T100000
DTSTAMP:20260420T200529
CREATED:20241223T124644Z
LAST-MODIFIED:20250122T141642Z
UID:10011699-1737534600-1737540000@detroitartdao.com
SUMMARY:Perceptions Survey Media and Stakeholder Roundtable
DESCRIPTION:Join the DDP and BIZ on Jan. 22 at the new Chalet 313 for an exclusive look at results from the biennial Downtown Perceptions Survey.\nThe Downtown Detroit Partnership (DDP)\, with the Downtown Business Improvement Zone (BIZ)\, will release the results of its 2024 Perceptions Survey results during a media and stakeholder roundtable on Wednesday\, January 22 at 8:30 a.m. \nDDP CEO\, Eric Larson\, and DDP Chief Community Impact Officer and BIZ Director\, Gina Cavaliere will present and provide content to the results. The biennial survey polls Detroit residents and DDP stakeholders to gauge their perceptions of the greater downtown area. This event will provide understanding of the key metrics driving resident satisfaction in our city based on results from the 2024 Perceptions Survey. \nAttendees include DDP and BIZ Board of Directors\, DDP Members\, Metro Detroit media\, survey participants\, City of Detroit staff and other key DDP partners and sponsors. \nPlease click here to reserve your spot for this free event. \n  \nThis event takes place on the second floor of the DDP’s CHALET 313 in Campus Martius Park. CHALET 313 is designed by Gardner White\, generous funding partners include William Davidson Foundation\, the Chevrolet Detroit Grand Prix\, Downtown Development Authority\, and Michigan Economic Development Corporation Revitalization and Placemaking Program.
URL:https://detroitartdao.com/event/perceptions-survey-media-and-stakeholder-roundtable
LOCATION:CHALET 313\, 800 Woodward Ave\, Detroit\, MI\, 48226
CATEGORIES:Business Events,Campus Martius,Community Events,Downtown BIZ Event,Free Event,Park Events
ATTACH;FMTTYPE=image/jpeg:https://dpop.nyc3.digitaloceanspaces.com/wp-content/uploads/2024/12/23074647/Perceptions-Survey_Roundtable-Event-Featured-Image-hFeRns.tmp_.jpg
GEO:42.3314078;-83.0465439
X-APPLE-STRUCTURED-LOCATION;VALUE=URI;X-ADDRESS=CHALET 313 800 Woodward Ave Detroit MI 48226;X-APPLE-RADIUS=500;X-TITLE=800 Woodward Ave:geo:-83.0465439,42.3314078
END:VEVENT
BEGIN:VEVENT
DTSTART;TZID=America/Detroit:20240620T090000
DTEND;TZID=America/Detroit:20240620T110000
DTSTAMP:20260420T200529
CREATED:20240521T181637Z
LAST-MODIFIED:20240620T113138Z
UID:10009332-1718874000-1718881200@detroitartdao.com
SUMMARY:BIZ 10-Year Anniversary Celebration
DESCRIPTION:Please save the date for a special celebration recognizing the Downtown Detroit Business Improvement Zone’s (BIZ) 10 years of service to Downtown Detroit. \nClick here for event details. You will leave with a commemorative gift marking this milestone.
URL:https://detroitartdao.com/event/biz-10-year-anniversary-celebration
LOCATION:Campus Martius Park
CATEGORIES:Downtown BIZ Event,Park Events
ATTACH;FMTTYPE=image/png:https://dpop.nyc3.digitaloceanspaces.com/wp-content/uploads/2024/06/11153137/BIZ-10-Year-Graphics_Website-Event-bRPEvp.tmp_.png
ORGANIZER;CN="Downtown%20Detroit%20BIZ":MAILTO:biz@downtowndetroit.org
GEO:42.3314128;-83.0465629
END:VEVENT
END:VCALENDAR