BEGIN:VCALENDAR
VERSION:2.0
PRODID:-//Discover Detroit Art - ECPv6.0.1//NONSGML v1.0//EN
CALSCALE:GREGORIAN
METHOD:PUBLISH
X-WR-CALNAME:Discover Detroit Art
X-ORIGINAL-URL:https://detroitartdao.com
X-WR-CALDESC:Events for Discover Detroit Art
REFRESH-INTERVAL;VALUE=DURATION:PT1H
X-Robots-Tag:noindex
X-PUBLISHED-TTL:PT1H
BEGIN:VTIMEZONE
TZID:America/Detroit
BEGIN:DAYLIGHT
TZOFFSETFROM:-0500
TZOFFSETTO:-0400
TZNAME:EDT
DTSTART:20230312T070000
END:DAYLIGHT
BEGIN:STANDARD
TZOFFSETFROM:-0400
TZOFFSETTO:-0500
TZNAME:EST
DTSTART:20231105T060000
END:STANDARD
END:VTIMEZONE
BEGIN:VEVENT
DTSTART;TZID=America/Detroit:20230901T110000
DTEND;TZID=America/Detroit:20230930T180000
DTSTAMP:20260421T231208
CREATED:20230907T203746Z
LAST-MODIFIED:20230907T203746Z
UID:10002077-1693566000-1696096800@detroitartdao.com
SUMMARY:Love It Detroit - @italyindetroit
DESCRIPTION:@loveitdetroit is a new exhibit featuring works by iconic Italian and Detroit designers! 🏙️🇮🇹🖼️ \nNow in its second year\, LoveITDetroit with the Detroit Consulate of @italyindetroit highlights Detroit’s strong ties to Italy while magnifying the excellence of Italian and Detroit design. The exhibit won an award this year for Detroit to be named the “City of Italian Creativity in the World” ! 🏆✨ \nSee works on @kartell_official chairs by artists like @sydneygjames\, @hubert.massey\, @eltonmonroy\, @adnan.charara\, Enna Di Dio\, @mikehan_detroit\, and more as part of @designcoredet Detroit Month of Design! 🎨 \nFree and open to the public daily (11am-6pm)\, the installation will also host in-person events about everything from sustainable mobility to fashion and opera to cinema\, all with prominent speakers from metro Detroit and Italy! 🌳🎭 \nCheck out the schedule below: \n🌌 Sept 7: Italy – The Eternal Innovator in Space Exploration \n👠 Sept 8: Join @akichoklat\, Chair of Fashion Design at @ccs_detroit\, and esteemed fashion designer Stella Jean @stellajean_sj_ for a captivating discussion on the intersection of Italian and Haitian heritage \n🎤 Sept 9-10: Italian American Future Leaders Conference \n🍷 Sept 10: Libiamo\, Italian arias with the @detroitopera \n🍝 Sept 17: Cibus Nostrum\, a walk into the archeological past of Roman days \n🌆 Sept 18: Detroit – Torino – Montreal\, the @unesco Cities of Design unite to discuss the history of the designation \n🛍️ Sept 23: Downtown Detroit Shop and See with Italian and Detroitissimi brands. \n👨‍👩‍👦 Sept 24: Magic Italian Lab\, an event for the ages 3-8\, with activities about Italy \n🎬 Sept 28: Green Screens: Sustainability in the Italian Film Industry
URL:https://detroitartdao.com/event/love-it-detroit-italyindetroit
LOCATION:1001 Woodward Avenue\, 1001 Woodward Avenue\, Detroit\, MI
CATEGORIES:Art,Fashion,Film,Music
GEO:42.3320022;-83.0477584
X-APPLE-STRUCTURED-LOCATION;VALUE=URI;X-ADDRESS=1001 Woodward Avenue 1001 Woodward Avenue Detroit MI;X-APPLE-RADIUS=500;X-TITLE=1001 Woodward Avenue:geo:-83.0477584,42.3320022
END:VEVENT
BEGIN:VEVENT
DTSTART;TZID=America/Detroit:20230512T090000
DTEND;TZID=America/Detroit:20230512T170000
DTSTAMP:20260421T231208
CREATED:20230423T185848Z
LAST-MODIFIED:20230423T225726Z
UID:10000990-1683882000-1683910800@detroitartdao.com
SUMMARY:The Elizabeth Visionary Conference
DESCRIPTION:The Elizabeth Visionary Conference will bring together women who are pregnant with visions and dreams. Our babies will leap for joy! \nJoin us in a safe space where creativity flows and setbacks turn into possibilities.  This is an opportunity to open our hearts for the Spirit of God to speak to us and order our steps.  We will begin to ground ourselves with an in-depth understanding of why God chose us to bring forth such precious gifts. \n \nInstagram: https://www.instagram.com/theelizabethconference
URL:https://detroitartdao.com/event/the-elizabeth-visionary-conference/2023-05-12
LOCATION:MI
CATEGORIES:Fashion,Networking
END:VEVENT
BEGIN:VEVENT
DTSTART;TZID=America/Detroit:20230413T090000
DTEND;TZID=America/Detroit:20230413T170000
DTSTAMP:20260421T231208
CREATED:20230423T185848Z
LAST-MODIFIED:20230423T225726Z
UID:10000989-1681376400-1681405200@detroitartdao.com
SUMMARY:The Elizabeth Visionary Conference
DESCRIPTION:The Elizabeth Visionary Conference will bring together women who are pregnant with visions and dreams. Our babies will leap for joy! \nJoin us in a safe space where creativity flows and setbacks turn into possibilities.  This is an opportunity to open our hearts for the Spirit of God to speak to us and order our steps.  We will begin to ground ourselves with an in-depth understanding of why God chose us to bring forth such precious gifts. \n \nInstagram: https://www.instagram.com/theelizabethconference
URL:https://detroitartdao.com/event/the-elizabeth-visionary-conference/2023-04-13
LOCATION:MI
CATEGORIES:Fashion,Networking
END:VEVENT
BEGIN:VEVENT
DTSTART;TZID=America/Detroit:20230406T173000
DTEND;TZID=America/Detroit:20230406T203000
DTSTAMP:20260421T231208
CREATED:20230327T171212Z
LAST-MODIFIED:20230327T171213Z
UID:10000928-1680802200-1680813000@detroitartdao.com
SUMMARY:Drinks x Design: Fashion + Accessories
DESCRIPTION:In partnership with Life Remodeled\, Design Core Detroit is celebrating fashion and accessories on Thursday\, April 6th at Durfee Innovation Society from 5:30pm – 8:30pm. \nLife Remodeled has repurposed the former Durfee Elementary-Middle school building into the “Durfee Innovation Society\,” which is a hub of opportunity for children\, students and adults. They created a dynamic environment for the best and brightest nonprofit organizations and for-profit companies to move in\, share resources and achieve greater collective impact. In partnership with students and community leaders\, their tenants focus on educational outcomes\, workforce gaps\, entrepreneurism and human services. \nAttendees will be able to tour the building and learn more about their programs. In addition\, there will be pop-up displays and installations by Detroit designers. \nLocation: 2470 Collingwood St\, Detroit\, MI 48206\, lots of parking available. \nFor accessibility needs or inquiries contact info@designcore.org.
URL:https://detroitartdao.com/event/drinks-x-design-fashion-accessories
LOCATION:Durfee Innovation Society\, 2470 Collingwood Street\, Detroit\, MI\, 48206
CATEGORIES:Business,Design,Fashion,Networking
GEO:42.3822696;-83.1108637
X-APPLE-STRUCTURED-LOCATION;VALUE=URI;X-ADDRESS=Durfee Innovation Society 2470 Collingwood Street Detroit MI 48206;X-APPLE-RADIUS=500;X-TITLE=2470 Collingwood Street:geo:-83.1108637,42.3822696
END:VEVENT
BEGIN:VEVENT
DTSTART;TZID=America/Detroit:20230404T170000
DTEND;TZID=America/Detroit:20230404T190000
DTSTAMP:20260421T231208
CREATED:20230309T181451Z
LAST-MODIFIED:20230309T181451Z
UID:10000917-1680627600-1680634800@detroitartdao.com
SUMMARY:Comerica Hatch Detroit Contest  Top 10 Reveal
DESCRIPTION:Top 10 Reveal | Tuesday\, April 4\n\n\nSmall Businesses. Big impact. \n\n\n\nThe moment we’ve all been waiting for is here! After a rigorous selection process\, the Top 10 semifinalists of the 2023 Comerica Hatch Detroit Contest by TechTown will be announced. Join us\, and be the first to meet the contestants! \n5 – 5:45 p.m. | Sneak Peek Meet & Greet Happy Hour \nThis talk show-style fireside chat is your chance to meet the Top 10 semifinalists and ask questions about their business: how and why they got started\, where and why they want to be in your neighborhood\, and what it would mean if they win. Note: seating capacity is limited. The Meet\, Mix & Mingle Open House will immediately follow. \n6 – 8 p.m. | Meet\, Mix & Mingle Open House \nMix and mingle with the Top 10 semifinalists\, and learn about their businesses. Stop by the Open House anytime; come as you are\, and bring the whole family! \nDetails \nTickets are free with a suggested donation to support Hatch Detroit and TechTown.  The event will feature a cash bar (all drinks $5) and complimentary small bites provided by Hatch alumni businesses. \nABOUT THE CONTEST \nThe Comerica Hatch Detroit Contest by TechTown is a retail competition that gives savvy entrepreneurs the chance to win a $100\,000 cash grant and package of in-kind services to open up their brick-and-mortar storefront in Detroit\, Hamtramck or Highland Park. \nLearn more about the Comerica Hatch Detroit Contest by TechTown at hatchdetroit.com.
URL:https://detroitartdao.com/event/comerica-hatch-detroit-contest-top-10-reveal
LOCATION:TechTown Detroit\, 440 Burroughs Street\, Detroit\, MI\, 48202\, United States
CATEGORIES:Art,Business,Design,Fashion,Finance,Food,Mobility,Music,Networking,Tech
ORGANIZER;CN="TechTown%20Detroit":MAILTO:marketing@techtowndetroit.org
GEO:42.3650544;-83.0730212
X-APPLE-STRUCTURED-LOCATION;VALUE=URI;X-ADDRESS=TechTown Detroit 440 Burroughs Street Detroit MI 48202 United States;X-APPLE-RADIUS=500;X-TITLE=440 Burroughs Street:geo:-83.0730212,42.3650544
END:VEVENT
BEGIN:VEVENT
DTSTART;TZID=America/Detroit:20230301T190000
DTEND;TZID=America/Detroit:20230301T220000
DTSTAMP:20260421T231208
CREATED:20230222T213346Z
LAST-MODIFIED:20230222T220834Z
UID:10000884-1677697200-1677708000@detroitartdao.com
SUMMARY:DFC Connects Industry Networking Event
DESCRIPTION:The first Wednesday of every month\, the Detroit Fashion Community welcomes all fashion industry professionals\, socialites and creatives of metro Detroit to an evening of networking and resource sharing. Let’s meet\, greet & collaborate. \nWe want each of our experiences to be unique and slightly different from the last. So this time\, we will be SPEED NETWORKING. So bring those business cards (physical or virtual)! \n  \nEmpire Kitchen & Cocktails is a new bistro in Detroit’s Brush Park neighborhood. This is a great opportunity to support them. So bring your appetite and order from their lovely menu of craft cocktails and American-style fare. \nFor more information about DFC\, visit detroitfashioncommunity.org.
URL:https://detroitartdao.com/event/dfc-connects-industry-networking-event
LOCATION:Empire Kitchen & Cocktails\, 3148 Woodward Ave\, Detroit\, MI\, 48201
CATEGORIES:Business,Design,Fashion,Networking
GEO:42.3456062;-83.0564062
X-APPLE-STRUCTURED-LOCATION;VALUE=URI;X-ADDRESS=Empire Kitchen & Cocktails 3148 Woodward Ave Detroit MI 48201;X-APPLE-RADIUS=500;X-TITLE=3148 Woodward Ave:geo:-83.0564062,42.3456062
END:VEVENT
END:VCALENDAR