BEGIN:VCALENDAR
VERSION:2.0
PRODID:-//Discover Detroit Art - ECPv6.0.1//NONSGML v1.0//EN
CALSCALE:GREGORIAN
METHOD:PUBLISH
X-ORIGINAL-URL:https://detroitartdao.com
X-WR-CALDESC:Events for Discover Detroit Art
REFRESH-INTERVAL;VALUE=DURATION:PT1H
X-Robots-Tag:noindex
X-PUBLISHED-TTL:PT1H
BEGIN:VTIMEZONE
TZID:America/Detroit
BEGIN:DAYLIGHT
TZOFFSETFROM:-0500
TZOFFSETTO:-0400
TZNAME:EDT
DTSTART:20220313T070000
END:DAYLIGHT
BEGIN:STANDARD
TZOFFSETFROM:-0400
TZOFFSETTO:-0500
TZNAME:EST
DTSTART:20221106T060000
END:STANDARD
BEGIN:DAYLIGHT
TZOFFSETFROM:-0500
TZOFFSETTO:-0400
TZNAME:EDT
DTSTART:20230312T070000
END:DAYLIGHT
BEGIN:STANDARD
TZOFFSETFROM:-0400
TZOFFSETTO:-0500
TZNAME:EST
DTSTART:20231105T060000
END:STANDARD
END:VTIMEZONE
BEGIN:VEVENT
DTSTART;TZID=America/Detroit:20230223T170000
DTEND;TZID=America/Detroit:20230223T190000
DTSTAMP:20260421T193736
CREATED:20230216T151259Z
LAST-MODIFIED:20230216T151339Z
UID:10000882-1677171600-1677178800@detroitartdao.com
SUMMARY:BUILDING IN WEB3
DESCRIPTION:Educating & connecting the community in web3 and blockchain space. Join us for an evening to network with Detroit entrepreneurs\, artists\, businesses and more. Listen in on conversations about current projects that’s utilizing web3 and join in on this months featured workshop! \nPLEASE RSVP HERE: https://www.eventbrite.com/e/building-in-web3-tickets-534655337507 \nLOCATION:  Venture X Detroit – Financial District 220 West Congress St. 2ND Floor Detroit\, MI 48226 \n  \n5-5:30PM: VIP Meet & Greet + Hors d’oeuvres & Sake/Wine \nVIP Ticket: Meet & Greet with Eric Tomaszewski of Verde Capital. Access to a spread of Hors d’oeuvres\, sake\, and wine. VIP ticket holders will also receive $10 worth of Ethereum transferred to their Metamask wallet. \n5:30-6PM: CONVERSATIONS WITH \nRob Konsdorf – Facings (NFT’s) \nBen London -Futr (web3 & music) \nJohn Gulbronson – DPOP Tech (web development) \nNate Talbot – Detroit Blockchain Center (scam alert/safety) \n6-7PM: WORKSHOP – Metamask Digital Wallet Setup\, hosted by Andy Mazzola (Solidity Developer – Teller Finance)\, he will guide us through the process of setting up a Metamask wallet\, how to use it\, & tips on securing it. We recommend you have Metamask wallet app downloaded to your laptop before the event. Please bring your laptops if you are interested in joining this workshop. Getting your Metamask setup will open many doors\, it will not only allow you to make transactions and purchase cryptocurrencies but you can then mint your artwork into NFT’s. \nSponsored By: Venture X\, Detroit Art Dao\, Detroit Ethereum Group\, Macro Visuals Media\, Verde Capital\, Detroit Blockchain Center
URL:https://detroitartdao.com/event/building-in-web3
LOCATION:Venture X\, 220 West Congress St. 2ND Floor\, Detroit\, MI\, 48226
CATEGORIES:Business,Crypto,Finance,Food,Music,Networking,Tech
ATTACH;FMTTYPE=image/jpeg:https://detroitartdao.com/wp-content/uploads/2023/02/My-project-2-1.jpg
GEO:42.3292252;-83.0486813
X-APPLE-STRUCTURED-LOCATION;VALUE=URI;X-ADDRESS=DESCRIPTION:Educating & connecting the community in web3 and blockchain space. Join us for an evening to network with Detroit entrepreneurs artists businesses and more. Listen in on conversations about current projects that’s utilizing web3 and join in on this months featured workshop! \nPLEASE RSVP HERE: https://www.eventbrite.com/e/building-in-web3-tickets-534655337507 \n  Venture X Detroit – Financial District 220 West Congress St. 2ND Floor Detroit MI 48226 \n  \n5-5:30PM: VIP Meet & Greet + Hors d’oeuvres & Sake/Wine \nVIP Ticket: Meet & Greet with Eric Tomaszewski of Verde Capital. Access to a spread of Hors d’oeuvres sake and wine. VIP ticket holders will also receive $10 worth of Ethereum transferred to their Metamask wallet. \n5:30-6PM: CONVERSATIONS WITH \nRob Konsdorf – Facings (NFT’s) \nBen London -Futr (web3 & music) \nJohn Gulbronson – DPOP Tech (web development) \nNate Talbot – Detroit Blockchain Center (scam alert/safety) \n6-7PM: WORKSHOP – Metamask Digital Wallet Setup hosted by Andy Mazzola (Solidity Developer – Teller Finance) he will guide us through the process of setting up a Metamask wallet how to use it & tips on securing it. We recommend you have Metamask wallet app downloaded to your laptop before the event. Please bring your laptops if you are interested in joining this workshop. Getting your Metamask setup will open many doors it will not only allow you to make transactions and purchase cryptocurrencies but you can then mint your artwork into NFT’s. \nSponsored By: Venture X Detroit Art Dao Detroit Ethereum Group Macro Visuals Media Verde Capital Detroit Blockchain Center;X-APPLE-RADIUS=500;X-TITLE=220 West Congress St. 2ND Floor:geo:-83.0486813,42.3292252
END:VEVENT
BEGIN:VEVENT
DTSTART;TZID=America/Detroit:20230128T140000
DTEND;TZID=America/Detroit:20230128T180000
DTSTAMP:20260421T193736
CREATED:20230115T172432Z
LAST-MODIFIED:20230115T172701Z
UID:10000818-1674914400-1674928800@detroitartdao.com
SUMMARY:Metaverse For Music & Movies: How Musicians & Filmmakers Benefit From NFTs
DESCRIPTION:Artists and designers have been utilizing NFTs for years to build engagement\, increase their value\, and reward their supporters for years. \nIt’s time for Musicians and Filmmakers to learn about the largest revolution for creatives since mp3s and streaming! \nDetroit Blockchain Center & DJ Skeez have assembled the strongest panel of builders\, lawyers\, and entrepreneurs already working on these projects to explain NFTs/Web3/DAOs\, explore the potential for Musicians and Filmmakers\, and discuss the roadblocks & obstacles creatives need to avoid. \nCome join us to learn\, ask questions\, and network with others at this free event. \nDoors open at 2pm || Panel and Q&A begin at 2:30pm || Creative Collaborations & Networking begin at 4pm. \nSpeakers include:\nDJ Skeez – NFT Project Community Manager\nRob Kornsdorf – NFT builder/developer\nJesse Cory – NFT Entrepreneur/Artist\nMatt Cote – Entertainment Attorney/Entrepreneur\nModerated by Nate Talbot – Blockchain Educator/Entrepreneur
URL:https://detroitartdao.com/event/metaverse-for-music-movies-how-musicians-filmmakers-benefit-from-nfts
LOCATION:Spotlite Detroit\, 2905 Beaufait Street #4\, Detroit\, MI\, 48207\, United States
CATEGORIES:Business,Crypto,Design,Finance,Music,Networking,Tech
ATTACH;FMTTYPE=image/webp:https://detroitartdao.com/wp-content/uploads/2023/01/600_509793036.webp
GEO:42.3580524;-83.0167091
X-APPLE-STRUCTURED-LOCATION;VALUE=URI;X-ADDRESS=Spotlite Detroit 2905 Beaufait Street #4 Detroit MI 48207 United States;X-APPLE-RADIUS=500;X-TITLE=2905 Beaufait Street #4:geo:-83.0167091,42.3580524
END:VEVENT
BEGIN:VEVENT
DTSTART;TZID=America/Detroit:20230126T170000
DTEND;TZID=America/Detroit:20230126T190000
DTSTAMP:20260421T193736
CREATED:20230110T050933Z
LAST-MODIFIED:20230113T180855Z
UID:10000813-1674752400-1674759600@detroitartdao.com
SUMMARY:BUSINESS & DEFI
DESCRIPTION:Business & Finance in Detroit\nDATE: Thursday\, Jan 26th\, 2023 5-7 PM \nENTRY: Bring your favorite bottle of wine or beer to share. \nLOCATION: VENTURE X\, 220 West Congress St. 2ND Floor\, Detroit\, MI 48226 \nPlease RSVP! \nTOPICS OF DISCUSSION\n\nDecentralized Finance\nCollecting Digital Art & Purchasing NFT’s\nCryptonetworks & empowering independent artists\nEthereum Wallets 101\n\nCONVERSATIONS\n5:00-5:30\nVIP MEET & GREET\, Hors d’oeuvres by Amy Hang (tickets only) \n5:30 – 5:45\nAndy Mazzola – Solidity Developer\, Teller Finance\nEric – DefianceWorks \n5:45 – 6:00\nNate Talbot – Executive Director\, Detroit Blockchain Center \n6:00 – 6:15\nRob McReynolds – CFO\, NFT Detroit \n6:30\nWorkshop 1 – Ethereum Wallets & Ledger 101\nWorkshop 2 – Collecting Digital Art & Purchasing NFT’s\nwith Andy Mazzola & Eric (laptops encouraged) \nLive Art by Kobie Solomon
URL:https://detroitartdao.com/event/business-defi
LOCATION:Venture X\, 220 West Congress St. 2ND Floor\, Detroit\, MI\, 48226
CATEGORIES:Business,Crypto,Finance,Networking,Tech
ATTACH;FMTTYPE=image/jpeg:https://detroitartdao.com/wp-content/uploads/2023/01/BDefi-1.jpg
GEO:42.3292252;-83.0486813
X-APPLE-STRUCTURED-LOCATION;VALUE=URI;X-ADDRESS=DESCRIPTION:Business & Finance in Detroit\nDATE: Thursday Jan 26th 2023 5-7 PM \nENTRY: Bring your favorite bottle of wine or beer to share. \n VENTURE X 220 West Congress St. 2ND Floor Detroit MI 48226 \nPlease RSVP! \nTOPICS OF DISCUSSION\n\nDecentralized Finance\nCollecting Digital Art & Purchasing NFT’s\nCryptonetworks & empowering independent artists\nEthereum Wallets 101\n\nCONVERSATIONS\n5:00-5:30\nVIP MEET & GREET Hors d’oeuvres by Amy Hang (tickets only) \n5:30 – 5:45\nAndy Mazzola – Solidity Developer Teller Finance\nEric – DefianceWorks \n5:45 – 6:00\nNate Talbot – Executive Director Detroit Blockchain Center \n6:00 – 6:15\nRob McReynolds – CFO NFT Detroit \n6:30\nWorkshop 1 – Ethereum Wallets & Ledger 101\nWorkshop 2 – Collecting Digital Art & Purchasing NFT’s\nwith Andy Mazzola & Eric (laptops encouraged) \nLive Art by Kobie Solomon;X-APPLE-RADIUS=500;X-TITLE=220 West Congress St. 2ND Floor:geo:-83.0486813,42.3292252
END:VEVENT
BEGIN:VEVENT
DTSTART;TZID=America/Detroit:20230104T180000
DTEND;TZID=America/Detroit:20230104T210000
DTSTAMP:20260421T193736
CREATED:20221222T061031Z
LAST-MODIFIED:20221222T062928Z
UID:10000419-1672855200-1672866000@detroitartdao.com
SUMMARY:BITCOIN BIRTHDAY BASH
DESCRIPTION:Join us celebrating Bitcoin’s birthday! We will have food\, drinks\, activities to help us fundraise & a lot of networking! \nCome celebrate the anniversary of the release of the first open-source Bitcoin client with food\, drinks\, and the rest of the Detroit crypto and blockchain community! \nFor one night\, Detroit Beer Co. will offer a limited edition beer called “Bitcoin Brew.” One complimentary Bitcoin Beer will be provided for the first 65 RSVP’s (MUST RSVP THROUGH LINK BELOW) and appetizers will be provided (while supplies last)\, compliments of Detroit Blockchain Center and Bitcoin and Beer. \nWe will have trivia\, karaoke and educational booths if you’re interested in learning more about bitcoin!
URL:https://detroitartdao.com/event/bitcoin-birthday-bash
LOCATION:Detroit Beer Company\, 1529 Broadway St\, Detroit\, MI\, 48226\, United States
CATEGORIES:Business,Crypto,Finance,Networking,Tech
GEO:42.3358047;-83.048912
X-APPLE-STRUCTURED-LOCATION;VALUE=URI;X-ADDRESS=Detroit Beer Company 1529 Broadway St Detroit MI 48226 United States;X-APPLE-RADIUS=500;X-TITLE=1529 Broadway St:geo:-83.048912,42.3358047
END:VEVENT
BEGIN:VEVENT
DTSTART;TZID=America/Detroit:20221110T180000
DTEND;TZID=America/Detroit:20221110T200000
DTSTAMP:20260421T193736
CREATED:20221104T200611Z
LAST-MODIFIED:20221104T200612Z
UID:10000404-1668103200-1668110400@detroitartdao.com
SUMMARY:VENTURE FOR AMERICA DEMO DAY: DETROIT WATCH PARTY
DESCRIPTION:Join VFA Detroit for an in-person watch party as they close out the annual Accelerator with a pitch competition featuring the six Fellow-Founded companies in our 2022 cohort! \nAltimetrik Collider is graciously sponsoring the event by hosting us at their space! \nAbout the Accelerator:\nThe Accelerator is a three month program for Fellow-Founded Companies that are pre-Series A and have a minimum viable product. It’s also zero-equity and provides a $2\,500 monthly business stipend\, access to a network of peers\, mentors\, subject-matter-experts\, and investors\, and a chance to win up to $10\,000 in prize money at Demo Day. \nThis year’s Accelerator programming was made possible by the generous support of the Alabama Power Foundation. \nAgenda: \n6:00pm ET – Arrivals and Networking\n6:30pm – Welcome and Accelerator Overview \nLearn more about the journey our Founders took through the Accelerator and hear from Venture For America CEO\, Eric Somerville. \n6:40pm – Company Pitches\nHear from each of our six founders\, as well as Q&A from our judges. \n7:40pm – Judges Deliberation and Audience Vote\nAs our judges deliberate to choose a winner\, the audience will also vote via text for their favorite pitch! \n7:50pm – Winners Announcement\nVenture For America CEO\, Eric Somerville announces our judge’s and audience choice winners. \n8:00pm – Networking and Closing
URL:https://detroitartdao.com/event/venture-for-america-demo-day-detroit-watch-party
LOCATION:Altimetrik Collider\, 1500 Woodward Ave floor 4\, Detroit\, MI\, 48226\, us
CATEGORIES:Business,Finance,Networking,Tech
GEO:42.335205;-83.04912
X-APPLE-STRUCTURED-LOCATION;VALUE=URI;X-ADDRESS=Altimetrik Collider 1500 Woodward Ave floor 4 Detroit MI 48226 us;X-APPLE-RADIUS=500;X-TITLE=1500 Woodward Ave floor 4:geo:-83.04912,42.335205
END:VEVENT
BEGIN:VEVENT
DTSTART;TZID=America/Detroit:20220914T150000
DTEND;TZID=America/Detroit:20220914T160000
DTSTAMP:20260421T193736
CREATED:20220827T232104Z
LAST-MODIFIED:20220827T232104Z
UID:10000357-1663167600-1663171200@detroitartdao.com
SUMMARY:Driving a Business Strategy that Accomplishes the Owner's Personal Goals - Webinar
DESCRIPTION:Attendees of this webinar will learn:\n• The importance of connecting the owner’s personal financial and personal legacy goals to the business strategy • Risk management for ownership inside and outside the business • Governance and management factors to be considered when connecting the personal and financial goals of a privately held organization • And much more \nPresented by: Entrepreneur
URL:https://detroitartdao.com/event/driving-a-business-strategy-that-accomplishes-the-owners-personal-goals-webinar
LOCATION:MI
CATEGORIES:Business,Finance
END:VEVENT
END:VCALENDAR