BEGIN:VCALENDAR
VERSION:2.0
PRODID:-//Discover Detroit Art - ECPv6.0.1//NONSGML v1.0//EN
CALSCALE:GREGORIAN
METHOD:PUBLISH
X-WR-CALNAME:Discover Detroit Art
X-ORIGINAL-URL:https://detroitartdao.com
X-WR-CALDESC:Events for Discover Detroit Art
REFRESH-INTERVAL;VALUE=DURATION:PT1H
X-Robots-Tag:noindex
X-PUBLISHED-TTL:PT1H
BEGIN:VTIMEZONE
TZID:America/Detroit
BEGIN:DAYLIGHT
TZOFFSETFROM:-0500
TZOFFSETTO:-0400
TZNAME:EDT
DTSTART:20220313T070000
END:DAYLIGHT
BEGIN:STANDARD
TZOFFSETFROM:-0400
TZOFFSETTO:-0500
TZNAME:EST
DTSTART:20221106T060000
END:STANDARD
BEGIN:DAYLIGHT
TZOFFSETFROM:-0500
TZOFFSETTO:-0400
TZNAME:EDT
DTSTART:20230312T070000
END:DAYLIGHT
BEGIN:STANDARD
TZOFFSETFROM:-0400
TZOFFSETTO:-0500
TZNAME:EST
DTSTART:20231105T060000
END:STANDARD
END:VTIMEZONE
BEGIN:VEVENT
DTSTART;TZID=America/Detroit:20230613T120000
DTEND;TZID=America/Detroit:20230613T130000
DTSTAMP:20260423T022521
CREATED:20230611T180452Z
LAST-MODIFIED:20230611T180453Z
UID:10001229-1686657600-1686661200@detroitartdao.com
SUMMARY:Tech Tuesday Lunch - June 13th
DESCRIPTION:Let’s grab lunch before getting to some hacking\, and a night of scavenging for fun places to hang out in Capitol Park!
URL:https://detroitartdao.com/event/tech-tuesday-lunch-june-13th
LOCATION:Bamboo\, 1420 Washington Blvd #301\, Detroit\, MI 48226\, Detroit\, MI\, us
CATEGORIES:Food,Networking,Tech
ATTACH;FMTTYPE=image/gif:https://detroitartdao.com/wp-content/uploads/2023/01/nft.gif
GEO:42.334057;-83.050438
X-APPLE-STRUCTURED-LOCATION;VALUE=URI;X-ADDRESS=Bamboo 1420 Washington Blvd #301 Detroit MI 48226 Detroit MI us;X-APPLE-RADIUS=500;X-TITLE=1420 Washington Blvd #301\, Detroit\, MI 48226:geo:-83.050438,42.334057
END:VEVENT
BEGIN:VEVENT
DTSTART;TZID=America/Detroit:20230404T170000
DTEND;TZID=America/Detroit:20230404T190000
DTSTAMP:20260423T022521
CREATED:20230309T181451Z
LAST-MODIFIED:20230309T181451Z
UID:10000917-1680627600-1680634800@detroitartdao.com
SUMMARY:Comerica Hatch Detroit Contest  Top 10 Reveal
DESCRIPTION:Top 10 Reveal | Tuesday\, April 4\n\n\nSmall Businesses. Big impact. \n\n\n\nThe moment we’ve all been waiting for is here! After a rigorous selection process\, the Top 10 semifinalists of the 2023 Comerica Hatch Detroit Contest by TechTown will be announced. Join us\, and be the first to meet the contestants! \n5 – 5:45 p.m. | Sneak Peek Meet & Greet Happy Hour \nThis talk show-style fireside chat is your chance to meet the Top 10 semifinalists and ask questions about their business: how and why they got started\, where and why they want to be in your neighborhood\, and what it would mean if they win. Note: seating capacity is limited. The Meet\, Mix & Mingle Open House will immediately follow. \n6 – 8 p.m. | Meet\, Mix & Mingle Open House \nMix and mingle with the Top 10 semifinalists\, and learn about their businesses. Stop by the Open House anytime; come as you are\, and bring the whole family! \nDetails \nTickets are free with a suggested donation to support Hatch Detroit and TechTown.  The event will feature a cash bar (all drinks $5) and complimentary small bites provided by Hatch alumni businesses. \nABOUT THE CONTEST \nThe Comerica Hatch Detroit Contest by TechTown is a retail competition that gives savvy entrepreneurs the chance to win a $100\,000 cash grant and package of in-kind services to open up their brick-and-mortar storefront in Detroit\, Hamtramck or Highland Park. \nLearn more about the Comerica Hatch Detroit Contest by TechTown at hatchdetroit.com.
URL:https://detroitartdao.com/event/comerica-hatch-detroit-contest-top-10-reveal
LOCATION:TechTown Detroit\, 440 Burroughs Street\, Detroit\, MI\, 48202\, United States
CATEGORIES:Art,Business,Design,Fashion,Finance,Food,Mobility,Music,Networking,Tech
ORGANIZER;CN="TechTown%20Detroit":MAILTO:marketing@techtowndetroit.org
GEO:42.3650544;-83.0730212
X-APPLE-STRUCTURED-LOCATION;VALUE=URI;X-ADDRESS=TechTown Detroit 440 Burroughs Street Detroit MI 48202 United States;X-APPLE-RADIUS=500;X-TITLE=440 Burroughs Street:geo:-83.0730212,42.3650544
END:VEVENT
BEGIN:VEVENT
DTSTART;TZID=America/Detroit:20230402T200000
DTEND;TZID=America/Detroit:20230403T200000
DTSTAMP:20260423T022521
CREATED:20230403T000607Z
LAST-MODIFIED:20230403T000618Z
UID:10000960-1680465600-1680552000@detroitartdao.com
SUMMARY:Maybe Tonight w/ Ladymonix @ MotorCity Wine: 8:00PM-1:00AM
DESCRIPTION:
URL:https://detroitartdao.com/event/maybe-tonight-w-ladymonix-motorcity-wine
LOCATION:MotorCity Wine\, 1949 Michigan Avenue\, Detroit\, MI\, 48216
CATEGORIES:Food,Music
GEO:42.3311806;-83.0730097
X-APPLE-STRUCTURED-LOCATION;VALUE=URI;X-ADDRESS=MotorCity Wine 1949 Michigan Avenue Detroit MI 48216;X-APPLE-RADIUS=500;X-TITLE=1949 Michigan Avenue:geo:-83.0730097,42.3311806
END:VEVENT
BEGIN:VEVENT
DTSTART;TZID=America/Detroit:20230330T170000
DTEND;TZID=America/Detroit:20230330T190000
DTSTAMP:20260423T022521
CREATED:20230309T165458Z
LAST-MODIFIED:20230309T165458Z
UID:10000906-1680195600-1680202800@detroitartdao.com
SUMMARY:Plug and Play Detroit Netwroking
DESCRIPTION:It’s a Michigan Mobility Celebration! A night full of drinks and Penny Red’s to enjoy with corporate partners\, startups\, investors\, and more. This is a great chance to meet with others who occupy the mobility space here in Detroit. \nPlease be sure to RSVP\, and note that complimentary food and drink will be available as supplies last.
URL:https://detroitartdao.com/event/plug-and-play-detroit-netwroking
LOCATION:The Brakeman\, 22 John R Street\, Detroit\, MI\, 48226\, United States
CATEGORIES:AUTOMOTIVE,Business,Food,Mobility,Networking,Tech
GEO:42.335007;-83.04855
X-APPLE-STRUCTURED-LOCATION;VALUE=URI;X-ADDRESS=The Brakeman 22 John R Street Detroit MI 48226 United States;X-APPLE-RADIUS=500;X-TITLE=22 John R Street:geo:-83.04855,42.335007
END:VEVENT
BEGIN:VEVENT
DTSTART;TZID=America/Detroit:20230315T190000
DTEND;TZID=America/Detroit:20230316T000000
DTSTAMP:20260423T022521
CREATED:20230314T021606Z
LAST-MODIFIED:20230314T021606Z
UID:10000921-1678906800-1678924800@detroitartdao.com
SUMMARY:Art Night Detroit at Midnight Temple - Act II
DESCRIPTION:Join us at Midnight Temple in Eastern Market on Wednesday\, March 15th at 7pm for a night to feast in the arts!
URL:https://detroitartdao.com/event/art-night-detroit-at-midnight-temple-act-ii
LOCATION:Midnight Temple\, 2466 Riopelle Street\, Detroit\, MI\, 48207
CATEGORIES:Art,Food,Music
ATTACH;FMTTYPE=image/jpeg:https://detroitartdao.com/wp-content/uploads/2023/02/IMG_5280-scaled-e1677508143977.jpeg
GEO:42.3463247;-83.038309
X-APPLE-STRUCTURED-LOCATION;VALUE=URI;X-ADDRESS=Midnight Temple 2466 Riopelle Street Detroit MI 48207;X-APPLE-RADIUS=500;X-TITLE=2466 Riopelle Street:geo:-83.038309,42.3463247
END:VEVENT
BEGIN:VEVENT
DTSTART;TZID=America/Detroit:20230223T170000
DTEND;TZID=America/Detroit:20230223T190000
DTSTAMP:20260423T022521
CREATED:20230216T151259Z
LAST-MODIFIED:20230216T151339Z
UID:10000882-1677171600-1677178800@detroitartdao.com
SUMMARY:BUILDING IN WEB3
DESCRIPTION:Educating & connecting the community in web3 and blockchain space. Join us for an evening to network with Detroit entrepreneurs\, artists\, businesses and more. Listen in on conversations about current projects that’s utilizing web3 and join in on this months featured workshop! \nPLEASE RSVP HERE: https://www.eventbrite.com/e/building-in-web3-tickets-534655337507 \nLOCATION:  Venture X Detroit – Financial District 220 West Congress St. 2ND Floor Detroit\, MI 48226 \n  \n5-5:30PM: VIP Meet & Greet + Hors d’oeuvres & Sake/Wine \nVIP Ticket: Meet & Greet with Eric Tomaszewski of Verde Capital. Access to a spread of Hors d’oeuvres\, sake\, and wine. VIP ticket holders will also receive $10 worth of Ethereum transferred to their Metamask wallet. \n5:30-6PM: CONVERSATIONS WITH \nRob Konsdorf – Facings (NFT’s) \nBen London -Futr (web3 & music) \nJohn Gulbronson – DPOP Tech (web development) \nNate Talbot – Detroit Blockchain Center (scam alert/safety) \n6-7PM: WORKSHOP – Metamask Digital Wallet Setup\, hosted by Andy Mazzola (Solidity Developer – Teller Finance)\, he will guide us through the process of setting up a Metamask wallet\, how to use it\, & tips on securing it. We recommend you have Metamask wallet app downloaded to your laptop before the event. Please bring your laptops if you are interested in joining this workshop. Getting your Metamask setup will open many doors\, it will not only allow you to make transactions and purchase cryptocurrencies but you can then mint your artwork into NFT’s. \nSponsored By: Venture X\, Detroit Art Dao\, Detroit Ethereum Group\, Macro Visuals Media\, Verde Capital\, Detroit Blockchain Center
URL:https://detroitartdao.com/event/building-in-web3
LOCATION:Venture X\, 220 West Congress St. 2ND Floor\, Detroit\, MI\, 48226
CATEGORIES:Business,Crypto,Finance,Food,Music,Networking,Tech
ATTACH;FMTTYPE=image/jpeg:https://detroitartdao.com/wp-content/uploads/2023/02/My-project-2-1.jpg
GEO:42.3292252;-83.0486813
X-APPLE-STRUCTURED-LOCATION;VALUE=URI;X-ADDRESS=DESCRIPTION:Educating & connecting the community in web3 and blockchain space. Join us for an evening to network with Detroit entrepreneurs artists businesses and more. Listen in on conversations about current projects that’s utilizing web3 and join in on this months featured workshop! \nPLEASE RSVP HERE: https://www.eventbrite.com/e/building-in-web3-tickets-534655337507 \n  Venture X Detroit – Financial District 220 West Congress St. 2ND Floor Detroit MI 48226 \n  \n5-5:30PM: VIP Meet & Greet + Hors d’oeuvres & Sake/Wine \nVIP Ticket: Meet & Greet with Eric Tomaszewski of Verde Capital. Access to a spread of Hors d’oeuvres sake and wine. VIP ticket holders will also receive $10 worth of Ethereum transferred to their Metamask wallet. \n5:30-6PM: CONVERSATIONS WITH \nRob Konsdorf – Facings (NFT’s) \nBen London -Futr (web3 & music) \nJohn Gulbronson – DPOP Tech (web development) \nNate Talbot – Detroit Blockchain Center (scam alert/safety) \n6-7PM: WORKSHOP – Metamask Digital Wallet Setup hosted by Andy Mazzola (Solidity Developer – Teller Finance) he will guide us through the process of setting up a Metamask wallet how to use it & tips on securing it. We recommend you have Metamask wallet app downloaded to your laptop before the event. Please bring your laptops if you are interested in joining this workshop. Getting your Metamask setup will open many doors it will not only allow you to make transactions and purchase cryptocurrencies but you can then mint your artwork into NFT’s. \nSponsored By: Venture X Detroit Art Dao Detroit Ethereum Group Macro Visuals Media Verde Capital Detroit Blockchain Center;X-APPLE-RADIUS=500;X-TITLE=220 West Congress St. 2ND Floor:geo:-83.0486813,42.3292252
END:VEVENT
BEGIN:VEVENT
DTSTART;TZID=America/Detroit:20230221T200000
DTEND;TZID=America/Detroit:20230221T210000
DTSTAMP:20260423T022521
CREATED:20230221T154203Z
LAST-MODIFIED:20230221T154203Z
UID:10000819-1677009600-1677013200@detroitartdao.com
SUMMARY:Dinner w/ Degen Mfers – Part II
DESCRIPTION:Join a group of hungry degen coders and collectors on a journey to explore the local food and art scene. \nCHECKIN FOR A CHANCE TO WIN! \n1 in 5 who check-in to the dinner will have a shot at winning $20! \nGet the 1/1 NFT
URL:https://detroitartdao.com/event/dinner-w-degen-mfers-part-ii
LOCATION:GDS (aka Green Dot Stables)\, 2200 W Lafayette Blvd\, Detroit\, MI\, 48216\, United States
CATEGORIES:Art,Crypto,Food,Networking,Tech
ATTACH;FMTTYPE=image/gif:https://detroitartdao.com/wp-content/uploads/2023/01/nft.gif
GEO:42.3218653;-83.0714861
X-APPLE-STRUCTURED-LOCATION;VALUE=URI;X-ADDRESS=GDS (aka Green Dot Stables) 2200 W Lafayette Blvd Detroit MI 48216 United States;X-APPLE-RADIUS=500;X-TITLE=2200 W Lafayette Blvd:geo:-83.0714861,42.3218653
END:VEVENT
BEGIN:VEVENT
DTSTART;TZID=America/Detroit:20230111T200000
DTEND;TZID=America/Detroit:20230111T210000
DTSTAMP:20260423T022521
CREATED:20230110T201723Z
LAST-MODIFIED:20230110T201723Z
UID:10000814-1673467200-1673470800@detroitartdao.com
SUMMARY:Dinner w/ Degen Mfers
DESCRIPTION:Join a group of hungry degen coders and collectors on a journey to explore the local food and art scene. \nGet the 1/1 NFT
URL:https://detroitartdao.com/event/dinner-w-degen-mfers
LOCATION:Detroit Beer Company\, 1529 Broadway St\, Detroit\, MI\, 48226\, United States
CATEGORIES:Art,Crypto,Food,Networking,Tech
ATTACH;FMTTYPE=image/gif:https://detroitartdao.com/wp-content/uploads/2023/01/nft.gif
GEO:42.3358047;-83.048912
X-APPLE-STRUCTURED-LOCATION;VALUE=URI;X-ADDRESS=Detroit Beer Company 1529 Broadway St Detroit MI 48226 United States;X-APPLE-RADIUS=500;X-TITLE=1529 Broadway St:geo:-83.048912,42.3358047
END:VEVENT
BEGIN:VEVENT
DTSTART;TZID=America/Detroit:20221126T120000
DTEND;TZID=America/Detroit:20221126T180000
DTSTAMP:20260423T022522
CREATED:20221123T214656Z
LAST-MODIFIED:20221123T214734Z
UID:10000416-1669464000-1669485600@detroitartdao.com
SUMMARY:Spot Lite Presents: Small Business Saturday
DESCRIPTION:Come out and celebrate Small Business Saturday at Spot Lite on November 26! Support local businesses and enjoy Music\, Food and good times! 12PM – 6PM \nSave the date and show some love! Get familiar with some of the vendors popping up at Spot Lite: \n✨ Morgan McPeak (@morgan_mcpeak) – “Art for the disappointed idealist .” \n✨ Socotra Island Soaps (@socotraislandsoaps) -“Homemade Soap\, Body Care & Beauty” \n✨ SMPLFD (@smplfd) – “Detroit-based clothing company that strives to deliver sophisticated imagery\, thoughtful design & evidence of semiotics.” \n✨ Veda Hydration (@vedahydration) – “Detroit Based Mobile IV Hydration + Vitamin Therapy”
URL:https://detroitartdao.com/event/spot-lite-presents-small-business-saturday
LOCATION:Spotlite Detroit\, 2905 Beaufait Street #4\, Detroit\, MI\, 48207\, United States
CATEGORIES:Art,Business,Food,Music
ATTACH;FMTTYPE=image/png:https://detroitartdao.com/wp-content/uploads/2022/11/small-business-saturday.png
GEO:42.3580524;-83.0167091
X-APPLE-STRUCTURED-LOCATION;VALUE=URI;X-ADDRESS=Spotlite Detroit 2905 Beaufait Street #4 Detroit MI 48207 United States;X-APPLE-RADIUS=500;X-TITLE=2905 Beaufait Street #4:geo:-83.0167091,42.3580524
END:VEVENT
BEGIN:VEVENT
DTSTART;TZID=America/Detroit:20221028T210000
DTEND;TZID=America/Detroit:20221028T210000
DTSTAMP:20260423T022522
CREATED:20221021T005943Z
LAST-MODIFIED:20221021T005944Z
UID:10000396-1666990800-1666990800@detroitartdao.com
SUMMARY:Scary Garden 2 Presented By Maker's Mark
DESCRIPTION:Scary Garden 2 presented by Maker’s Mark\n+ A Haunted House Experience \n@gardentheaterdetroit\n9pm – 1am \nMusic by RO & Ron Dance\n@makersmark craft cocktails.\nFood\, Music & more \nFREE ADMISSION WITH RSVP\nCostume Mandatory
URL:https://detroitartdao.com/event/scary-garden-2-presented-by-makers-mark
LOCATION:Garden Theater\, 3929 woodward ave\, Detroit\, MI\, 48201
CATEGORIES:Food,Music
GEO:42.3498882;-83.0599224
X-APPLE-STRUCTURED-LOCATION;VALUE=URI;X-ADDRESS=Garden Theater 3929 woodward ave Detroit MI 48201;X-APPLE-RADIUS=500;X-TITLE=3929 woodward ave:geo:-83.0599224,42.3498882
END:VEVENT
BEGIN:VEVENT
DTSTART;TZID=America/Detroit:20220930T190000
DTEND;TZID=America/Detroit:20220930T210000
DTSTAMP:20260423T022522
CREATED:20220813T223009Z
LAST-MODIFIED:20240831T023629Z
UID:10000267-1664564400-1664571600@detroitartdao.com
SUMMARY:Evening of Arts at Hunt Street Station
DESCRIPTION:Evening of Arts. \nStarting off with ‘Secret Passage Dinner’\, a plated 5 course dinner by Amy Hang at 5:30pm.\nLimited seating is available for the dinner (Sold Out). \nEvening of Arts viewing to begin at 7pm. Roam through the building of the historic Hunt Street Station and find a number of artists and their artwork throughout. Connect with like-minded creators in the city and get creative. Charcuterie\, snacks\, and pastries will be provided. \n  \nArt from:\nShingy Pop \nMazySuzan \nMartyna Alexander \nLurk & Destroy \nKeith Bynum \nMearkitty Art \n107Allison \nDaniel Ribar \nAmy Hang \n  \n5:30PM\nSecret Passage Dinner (Sold Out)\n \nFIRST: Lamb Belly Sheng Jian Bao. Havarti. Habanero.\nSECOND: Smoked Pork Belly Croquette. Sesame Mustard.\nTHIRD: Puffed Rice. Sake Miso Salmon. Masago. Wakame.\nFOURTH: Short Rib. Potato Pave. Goat Cheese.\nFIFTH: Thai Iced Tea Panna Cotta. Coconut. Whiskey Caviar.\n7:00PM\nLive flow painting by Mearkitty Art \n8:00PM\nIntroduction to NFT’s  \nProduct Lead\, Benzinga- John Gulbronson\nDetroit Blockchain Center – Nate Talbot\nSolidity Engineer – Andy Mazzola \n+Detroit Ecosystem & Blockchain\n+Market size & growth of NFT’s\n+State of the NFT Ecosystem & NFT Utility\n8:30PM\nNFT Building Workshop. \nImmerse yourself and create visual content with Veronika Gawrys in the Oxford Content Studio. \nSounds by SoFar Sounds \nEvent sponsored by Hunt Street Station & Passage. \nPlease RSVP in the link below!
URL:https://detroitartdao.com/event/evening-of-arts-2023
LOCATION:Hunt Street Station\, 2200 Hunt St\, Detroit\, MI\, 48207\, United States
CATEGORIES:Art,Food,Music,Networking,Tech
GEO:42.350388;-83.03282
X-APPLE-STRUCTURED-LOCATION;VALUE=URI;X-ADDRESS=Hunt Street Station 2200 Hunt St Detroit MI 48207 United States;X-APPLE-RADIUS=500;X-TITLE=2200 Hunt St:geo:-83.03282,42.350388
END:VEVENT
BEGIN:VEVENT
DTSTART;TZID=America/Detroit:20220923T170000
DTEND;TZID=America/Detroit:20220923T180000
DTSTAMP:20260423T022522
CREATED:20220920T210543Z
LAST-MODIFIED:20220920T214047Z
UID:10000372-1663952400-1663956000@detroitartdao.com
SUMMARY:FIRESIDE CHAT PRESENTED BY HUNT STREET STATION
DESCRIPTION:The next addition in our series of Fireside Chats will be this Friday! Join us to get to know and hear from artists participating in our Hunt Street Evening of Arts next Friday. Don’t forget to RSVP!\nFriday\, September 30th\, Evening of Arts at Hunt Street Station RSVP:\nhttps://detroitartdao.com/event/evening-of-arts
URL:https://detroitartdao.com/event/fireside-chat-presented-by-hunt-street-station
LOCATION:Hunt Street Station\, 2200 Hunt St\, Detroit\, MI\, 48207\, United States
CATEGORIES:Art,Crypto,Food,Music,Networking,Tech
ORGANIZER;CN="Hunt%20Street%20Station":MAILTO:info@huntstreetstation.com
GEO:42.350388;-83.03282
X-APPLE-STRUCTURED-LOCATION;VALUE=URI;X-ADDRESS=Hunt Street Station 2200 Hunt St Detroit MI 48207 United States;X-APPLE-RADIUS=500;X-TITLE=2200 Hunt St:geo:-83.03282,42.350388
END:VEVENT
BEGIN:VEVENT
DTSTART;TZID=America/Detroit:20220915T180000
DTEND;TZID=America/Detroit:20220915T230000
DTSTAMP:20260423T022522
CREATED:20220814T084803Z
LAST-MODIFIED:20220912T003826Z
UID:10000321-1663264800-1663282800@detroitartdao.com
SUMMARY:Eastern Market After Dark – By Detroit Design Core
DESCRIPTION:
URL:https://detroitartdao.com/event/eastern-market-after-dark-by-detroit-design-core
LOCATION:Eastern Market\, 2934 Russell\, Detroit\, 48207\, United States
CATEGORIES:Art,Food,Networking
GEO:42.3464643;-83.0397667
X-APPLE-STRUCTURED-LOCATION;VALUE=URI;X-ADDRESS=Eastern Market 2934 Russell Detroit 48207 United States;X-APPLE-RADIUS=500;X-TITLE=2934 Russell:geo:-83.0397667,42.3464643
END:VEVENT
END:VCALENDAR