BEGIN:VCALENDAR
VERSION:2.0
PRODID:-//Discover Detroit Art - ECPv6.0.1//NONSGML v1.0//EN
CALSCALE:GREGORIAN
METHOD:PUBLISH
X-ORIGINAL-URL:https://detroitartdao.com
X-WR-CALDESC:Events for Discover Detroit Art
REFRESH-INTERVAL;VALUE=DURATION:PT1H
X-Robots-Tag:noindex
X-PUBLISHED-TTL:PT1H
BEGIN:VTIMEZONE
TZID:America/Detroit
BEGIN:DAYLIGHT
TZOFFSETFROM:-0500
TZOFFSETTO:-0400
TZNAME:EDT
DTSTART:20260308T070000
END:DAYLIGHT
BEGIN:STANDARD
TZOFFSETFROM:-0400
TZOFFSETTO:-0500
TZNAME:EST
DTSTART:20261101T060000
END:STANDARD
END:VTIMEZONE
BEGIN:VEVENT
DTSTART;TZID=America/Detroit:20260205T180000
DTEND;TZID=America/Detroit:20260205T200000
DTSTAMP:20260420T202438
CREATED:20260106T140251Z
LAST-MODIFIED:20260205T153140Z
UID:10016617-1770314400-1770321600@detroitartdao.com
SUMMARY:Winter Trivia at CHALET 313
DESCRIPTION:Cozy up for Winter Trivia at CHALET 313! Warm up your brain with some cocoa from 6 to 8 p.m. Thursdays\, Jan. 8 through Feb. 19\, on the second floor of CHALET 313.  \n  \nNo registration required—show up solo or with friends and play for a chance to win fun prizes. It’s the perfect midweek break to beat the winter blues! 
URL:https://detroitartdao.com/event/winter-trivia-at-chalet-313-5
LOCATION:CHALET 313\, 800 Woodward Ave\, Detroit\, MI\, 48226
CATEGORIES:Campus Martius,Free Event,Park Events
ATTACH;FMTTYPE=image/jpeg:https://dpop.nyc3.digitaloceanspaces.com/wp-content/uploads/2025/12/09173202/WINTER-Trivia-scaled-DGeVPw.tmp_.jpg
GEO:42.3314078;-83.0465439
X-APPLE-STRUCTURED-LOCATION;VALUE=URI;X-ADDRESS=CHALET 313 800 Woodward Ave Detroit MI 48226;X-APPLE-RADIUS=500;X-TITLE=800 Woodward Ave:geo:-83.0465439,42.3314078
END:VEVENT
END:VCALENDAR