BEGIN:VCALENDAR
VERSION:2.0
PRODID:-//Discover Detroit Art - ECPv6.0.1//NONSGML v1.0//EN
CALSCALE:GREGORIAN
METHOD:PUBLISH
X-WR-CALNAME:Discover Detroit Art
X-ORIGINAL-URL:https://detroitartdao.com
X-WR-CALDESC:Events for Discover Detroit Art
REFRESH-INTERVAL;VALUE=DURATION:PT1H
X-Robots-Tag:noindex
X-PUBLISHED-TTL:PT1H
BEGIN:VTIMEZONE
TZID:America/Detroit
BEGIN:DAYLIGHT
TZOFFSETFROM:-0500
TZOFFSETTO:-0400
TZNAME:EDT
DTSTART:20250309T070000
END:DAYLIGHT
BEGIN:STANDARD
TZOFFSETFROM:-0400
TZOFFSETTO:-0500
TZNAME:EST
DTSTART:20251102T060000
END:STANDARD
END:VTIMEZONE
BEGIN:VEVENT
DTSTART;TZID=America/Detroit:20250710T170000
DTEND;TZID=America/Detroit:20250710T210000
DTSTAMP:20260422T023107
CREATED:20250610T114654Z
LAST-MODIFIED:20250710T120228Z
UID:10013698-1752166800-1752181200@detroitartdao.com
SUMMARY:Bourbon Garden at Grand Circus Park
DESCRIPTION:Spend Thursday nights in the Bourbon Garden at Grand Circus Park. Come enjoy live music featuring a rotation of local Jazz performers\, themed activations\, food bites\, and good vibes in beautiful Grand Circus Park! Bourbon Gardens will be hosted weekly on select Thursdays from 5 p.m. – 9 p.m. Brought to you by the Grand Circus Park Conservancy in collaboration with the Downtown Detroit Partnership. \nEvent Features:\nBourbon Bar – Extensive Bourbon Bar and Cocktails to enjoy in the Bourbon Garden for purchase \nFood Vendors – Local Food Vendors onsite to grab a bite while enjoying good vibes \nLive Music – Free Live Music Each Week featuring a rotation of local Jazz performers
URL:https://detroitartdao.com/event/bourbon-garden-at-grand-circus-park-11
LOCATION:Grand Circus Park\, 101-157 Witherell St\, Detroit\, MI\, United States
CATEGORIES:Grand Circus Park,Park Events
ATTACH;FMTTYPE=image/jpeg:https://dpop.nyc3.digitaloceanspaces.com/wp-content/uploads/2025/06/10074658/b2692b98-baab-43ec-b555-1e8886fc6c03-1-scaled-y2eZVp.tmp_.jpg
GEO:42.3367182;-83.0504011
X-APPLE-STRUCTURED-LOCATION;VALUE=URI;X-ADDRESS=Grand Circus Park 101-157 Witherell St Detroit MI United States;X-APPLE-RADIUS=500;X-TITLE=101-157 Witherell St:geo:-83.0504011,42.3367182
END:VEVENT
BEGIN:VEVENT
DTSTART;TZID=America/Detroit:20250717T170000
DTEND;TZID=America/Detroit:20250717T210000
DTSTAMP:20260422T023107
CREATED:20250622T213249Z
LAST-MODIFIED:20250717T120145Z
UID:10013841-1752771600-1752786000@detroitartdao.com
SUMMARY:Bourbon Garden at Grand Circus Park
DESCRIPTION:Spend Thursday nights in the Bourbon Garden at Grand Circus Park. Come enjoy live music featuring a rotation of local Jazz performers\, themed activations\, food bites\, and good vibes in beautiful Grand Circus Park! Bourbon Gardens will be hosted weekly on select Thursdays from 5 p.m. – 9 p.m. Brought to you by the Grand Circus Park Conservancy in collaboration with the Downtown Detroit Partnership. \nEvent Features:\nBourbon Bar – Extensive Bourbon Bar and Cocktails to enjoy in the Bourbon Garden for purchase \nFood Vendors – Local Food Vendors onsite to grab a bite while enjoying good vibes \nLive Music – Free Live Music Each Week featuring a rotation of local Jazz performers
URL:https://detroitartdao.com/event/bourbon-garden-at-grand-circus-park-12
LOCATION:Grand Circus Park\, 101-157 Witherell St\, Detroit\, MI\, United States
CATEGORIES:Grand Circus Park,Park Events
ATTACH;FMTTYPE=image/jpeg:https://dpop.nyc3.digitaloceanspaces.com/wp-content/uploads/2025/06/10074658/b2692b98-baab-43ec-b555-1e8886fc6c03-1-scaled-y2eZVp.tmp_.jpg
GEO:42.3367182;-83.0504011
X-APPLE-STRUCTURED-LOCATION;VALUE=URI;X-ADDRESS=Grand Circus Park 101-157 Witherell St Detroit MI United States;X-APPLE-RADIUS=500;X-TITLE=101-157 Witherell St:geo:-83.0504011,42.3367182
END:VEVENT
BEGIN:VEVENT
DTSTART;TZID=America/Detroit:20250724T170000
DTEND;TZID=America/Detroit:20250724T210000
DTSTAMP:20260422T023107
CREATED:20250624T214657Z
LAST-MODIFIED:20250724T124741Z
UID:10013878-1753376400-1753390800@detroitartdao.com
SUMMARY:Bourbon Garden at Grand Circus Park
DESCRIPTION:Spend Thursday nights in the Bourbon Garden at Grand Circus Park. Come enjoy live music featuring a rotation of local Jazz performers\, themed activations\, food bites\, and good vibes in beautiful Grand Circus Park! Bourbon Gardens will be hosted weekly on select Thursdays from 5 p.m. – 9 p.m. Brought to you by the Grand Circus Park Conservancy in collaboration with the Downtown Detroit Partnership. \nEvent Features:\nBourbon Bar – Extensive Bourbon Bar and Cocktails to enjoy in the Bourbon Garden for purchase \nFood Vendors – Local Food Vendors onsite to grab a bite while enjoying good vibes \nLive Music – Free Live Music Each Week featuring a rotation of local Jazz performers
URL:https://detroitartdao.com/event/bourbon-garden-at-grand-circus-park-13
LOCATION:Grand Circus Park\, 101-157 Witherell St\, Detroit\, MI\, United States
CATEGORIES:Grand Circus Park,Park Events
ATTACH;FMTTYPE=image/jpeg:https://dpop.nyc3.digitaloceanspaces.com/wp-content/uploads/2025/06/10074658/b2692b98-baab-43ec-b555-1e8886fc6c03-1-scaled-y2eZVp.tmp_.jpg
GEO:42.3367182;-83.0504011
X-APPLE-STRUCTURED-LOCATION;VALUE=URI;X-ADDRESS=Grand Circus Park 101-157 Witherell St Detroit MI United States;X-APPLE-RADIUS=500;X-TITLE=101-157 Witherell St:geo:-83.0504011,42.3367182
END:VEVENT
BEGIN:VEVENT
DTSTART;TZID=America/Detroit:20250726T140000
DTEND;TZID=America/Detroit:20250726T160000
DTSTAMP:20260422T023107
CREATED:20250626T221656Z
LAST-MODIFIED:20250726T131714Z
UID:10013908-1753538400-1753545600@detroitartdao.com
SUMMARY:Pupnic in the Park Presented by Strategic Staffing Solutions
DESCRIPTION:Join us at the Grand Circus Dog Park on Saturday\, July 26\, from 2 to 4 PM for a Pupnic in the Park — a fun-filled afternoon for both pups and people! Enjoy games\, doggie nail grooming by Pet-icured\, giveaways courtesy of Carhartt live music from DJ Skeez. There will be tasty treats for pets from Doggie Social Cafe and sweet treats for pet parents from Adams Ice Cream\, plus a photo op station and more. \nGrand Circus Dog Park events are presented by Strategic Staffing Solutions and supported in part by Premier Pet Supply\, who will be on site with treats\, giveaways\, and prizes for contest winners. It’s the perfect way to soak up the sun with your furry best friend! \n  \nOther dog park events coming up include:   \nAugust 23 – Doggie Pool Paw-ty  \nSeptember 27 – TAILgate  \nOctober 25 – Howl-o-ween 
URL:https://detroitartdao.com/event/pupnic-in-the-park-presented-by-strategic-staffing-solutions
LOCATION:Grand Circus Park\, 101-157 Witherell St\, Detroit\, MI\, United States
CATEGORIES:Community Events,Free Event,Grand Circus Park,Park Events
ATTACH;FMTTYPE=image/webp:https://dpop.nyc3.digitaloceanspaces.com/wp-content/uploads/2025/06/26181700/Pupnic-in-the-Park-scaled-oPrtYm.tmp_.webp
GEO:42.3367182;-83.0504011
X-APPLE-STRUCTURED-LOCATION;VALUE=URI;X-ADDRESS=Grand Circus Park 101-157 Witherell St Detroit MI United States;X-APPLE-RADIUS=500;X-TITLE=101-157 Witherell St:geo:-83.0504011,42.3367182
END:VEVENT
BEGIN:VEVENT
DTSTART;TZID=America/Detroit:20250731T170000
DTEND;TZID=America/Detroit:20250731T210000
DTSTAMP:20260422T023107
CREATED:20250702T080037Z
LAST-MODIFIED:20250731T133149Z
UID:10013993-1753981200-1753995600@detroitartdao.com
SUMMARY:Bourbon Garden at Grand Circus Park
DESCRIPTION:Spend Thursday nights in the Bourbon Garden at Grand Circus Park. Come enjoy live music featuring a rotation of local Jazz performers\, themed activations\, food bites\, and good vibes in beautiful Grand Circus Park! Bourbon Gardens will be hosted weekly on select Thursdays from 5 p.m. – 9 p.m. Brought to you by the Grand Circus Park Conservancy in collaboration with the Downtown Detroit Partnership. \nEvent Features:\nBourbon Bar – Extensive Bourbon Bar and Cocktails to enjoy in the Bourbon Garden for purchase \nFood Vendors – Local Food Vendors onsite to grab a bite while enjoying good vibes \nLive Music – Free Live Music Each Week featuring a rotation of local Jazz performers
URL:https://detroitartdao.com/event/bourbon-garden-at-grand-circus-park-14
LOCATION:Grand Circus Park\, 101-157 Witherell St\, Detroit\, MI\, United States
CATEGORIES:Grand Circus Park,Park Events
ATTACH;FMTTYPE=image/jpeg:https://dpop.nyc3.digitaloceanspaces.com/wp-content/uploads/2025/06/10074658/b2692b98-baab-43ec-b555-1e8886fc6c03-1-scaled-y2eZVp.tmp_.jpg
GEO:42.3367182;-83.0504011
X-APPLE-STRUCTURED-LOCATION;VALUE=URI;X-ADDRESS=Grand Circus Park 101-157 Witherell St Detroit MI United States;X-APPLE-RADIUS=500;X-TITLE=101-157 Witherell St:geo:-83.0504011,42.3367182
END:VEVENT
END:VCALENDAR