BEGIN:VCALENDAR
VERSION:2.0
PRODID:-//Discover Detroit Art - ECPv6.0.1//NONSGML v1.0//EN
CALSCALE:GREGORIAN
METHOD:PUBLISH
X-ORIGINAL-URL:https://detroitartdao.com
X-WR-CALDESC:Events for Discover Detroit Art
REFRESH-INTERVAL;VALUE=DURATION:PT1H
X-Robots-Tag:noindex
X-PUBLISHED-TTL:PT1H
BEGIN:VTIMEZONE
TZID:America/Detroit
BEGIN:DAYLIGHT
TZOFFSETFROM:-0500
TZOFFSETTO:-0400
TZNAME:EDT
DTSTART:20250309T070000
END:DAYLIGHT
BEGIN:STANDARD
TZOFFSETFROM:-0400
TZOFFSETTO:-0500
TZNAME:EST
DTSTART:20251102T060000
END:STANDARD
END:VTIMEZONE
BEGIN:VEVENT
DTSTART;TZID=America/Detroit:20250904T170000
DTEND;TZID=America/Detroit:20250904T210000
DTSTAMP:20260421T194500
CREATED:20250805T140149Z
LAST-MODIFIED:20250904T173228Z
UID:10014568-1757005200-1757019600@detroitartdao.com
SUMMARY:Bourbon Garden at Grand Circus Park
DESCRIPTION:Spend Thursday nights in the Bourbon Garden at Grand Circus Park. Come enjoy live music featuring a rotation of local Jazz performers\, themed activations\, food bites\, and good vibes in beautiful Grand Circus Park! Bourbon Gardens will be hosted weekly on select Thursdays from 5 p.m. – 9 p.m. Brought to you by the Grand Circus Park Conservancy in collaboration with the Downtown Detroit Partnership. \nEvent Features:\nBourbon Bar – Extensive Bourbon Bar and Cocktails to enjoy in the Bourbon Garden for purchase \nFood Vendors – Local Food Vendors onsite to grab a bite while enjoying good vibes \nLive Music – Free Live Music Each Week featuring a rotation of local Jazz performers
URL:https://detroitartdao.com/event/bourbon-garden-at-grand-circus-park-19
LOCATION:Grand Circus Park\, 101-157 Witherell St\, Detroit\, MI\, United States
CATEGORIES:Grand Circus Park,Park Events
ATTACH;FMTTYPE=image/jpeg:https://dpop.nyc3.digitaloceanspaces.com/wp-content/uploads/2025/06/10074658/b2692b98-baab-43ec-b555-1e8886fc6c03-1-scaled-y2eZVp.tmp_.jpg
GEO:42.3367182;-83.0504011
X-APPLE-STRUCTURED-LOCATION;VALUE=URI;X-ADDRESS=Grand Circus Park 101-157 Witherell St Detroit MI United States;X-APPLE-RADIUS=500;X-TITLE=101-157 Witherell St:geo:-83.0504011,42.3367182
END:VEVENT
BEGIN:VEVENT
DTSTART;TZID=America/Detroit:20250911T170000
DTEND;TZID=America/Detroit:20250911T210000
DTSTAMP:20260421T194500
CREATED:20250812T150146Z
LAST-MODIFIED:20250910T173146Z
UID:10014662-1757610000-1757624400@detroitartdao.com
SUMMARY:Bourbon Garden at Grand Circus Park
DESCRIPTION:Spend Thursday nights in the Bourbon Garden at Grand Circus Park. Come enjoy live music featuring a rotation of local Jazz performers\, themed activations\, food bites\, and good vibes in beautiful Grand Circus Park! Bourbon Gardens will be hosted weekly on select Thursdays from 5 p.m. – 9 p.m. Brought to you by the Grand Circus Park Conservancy in collaboration with the Downtown Detroit Partnership. \nEvent Features:\nBourbon Bar – Extensive Bourbon Bar and Cocktails to enjoy in the Bourbon Garden for purchase \nFood Vendors – Local Food Vendors onsite to grab a bite while enjoying good vibes \nLive Music – Free Live Music Each Week featuring a rotation of local Jazz performers
URL:https://detroitartdao.com/event/bourbon-garden-at-grand-circus-park-20
LOCATION:Grand Circus Park\, 101-157 Witherell St\, Detroit\, MI\, United States
CATEGORIES:Grand Circus Park,Park Events
ATTACH;FMTTYPE=image/jpeg:https://dpop.nyc3.digitaloceanspaces.com/wp-content/uploads/2025/06/10074658/b2692b98-baab-43ec-b555-1e8886fc6c03-1-scaled-y2eZVp.tmp_.jpg
GEO:42.3367182;-83.0504011
X-APPLE-STRUCTURED-LOCATION;VALUE=URI;X-ADDRESS=Grand Circus Park 101-157 Witherell St Detroit MI United States;X-APPLE-RADIUS=500;X-TITLE=101-157 Witherell St:geo:-83.0504011,42.3367182
END:VEVENT
BEGIN:VEVENT
DTSTART;TZID=America/Detroit:20250918T170000
DTEND;TZID=America/Detroit:20250918T210000
DTSTAMP:20260421T194500
CREATED:20250819T154703Z
LAST-MODIFIED:20250910T173147Z
UID:10014809-1758214800-1758229200@detroitartdao.com
SUMMARY:Bourbon Garden at Grand Circus Park
DESCRIPTION:Spend Thursday nights in the Bourbon Garden at Grand Circus Park. Come enjoy live music featuring a rotation of local Jazz performers\, themed activations\, food bites\, and good vibes in beautiful Grand Circus Park! Bourbon Gardens will be hosted weekly on select Thursdays from 5 p.m. – 9 p.m. Brought to you by the Grand Circus Park Conservancy in collaboration with the Downtown Detroit Partnership. \nEvent Features:\nBourbon Bar – Extensive Bourbon Bar and Cocktails to enjoy in the Bourbon Garden for purchase \nFood Vendors – Local Food Vendors onsite to grab a bite while enjoying good vibes \nLive Music – Free Live Music Each Week featuring a rotation of local Jazz performers
URL:https://detroitartdao.com/event/bourbon-garden-at-grand-circus-park-21
LOCATION:Grand Circus Park\, 101-157 Witherell St\, Detroit\, MI\, United States
CATEGORIES:Grand Circus Park,Park Events
ATTACH;FMTTYPE=image/jpeg:https://dpop.nyc3.digitaloceanspaces.com/wp-content/uploads/2025/06/10074658/b2692b98-baab-43ec-b555-1e8886fc6c03-1-scaled-y2eZVp.tmp_.jpg
GEO:42.3367182;-83.0504011
X-APPLE-STRUCTURED-LOCATION;VALUE=URI;X-ADDRESS=Grand Circus Park 101-157 Witherell St Detroit MI United States;X-APPLE-RADIUS=500;X-TITLE=101-157 Witherell St:geo:-83.0504011,42.3367182
END:VEVENT
BEGIN:VEVENT
DTSTART;TZID=America/Detroit:20250927T140000
DTEND;TZID=America/Detroit:20250927T160000
DTSTAMP:20260421T194500
CREATED:20250828T163201Z
LAST-MODIFIED:20250910T173145Z
UID:10014976-1758981600-1758988800@detroitartdao.com
SUMMARY:TAILgate Presented by Strategic Staffing Solutions
DESCRIPTION:Which team are you rooting for this season? Show your team spirit at the “TAILgate” in Grand Circus Park on Sept. 27 from 2 to 4 PM\, courtesy of the Downtown Detroit Partnership and partners.  Dress up in your favorite team colors or jerseys – matching looks encouraged for you and your pup! Then enjoy an afternoon of sports-themed games\, hot dogs for people\, bacon treats for pups and a live DJ bringing the hype. Come for the fandom\, stay for the fun and maybe score a prize! Programming highlights for the “TAILgate” at Grand Circus Dog Park include: \n\nFree dog treats and products for sale from Doggie Social Cafe\nRefreshments for people from Busta Dawgs\nDoggie Nail grooming with Pet-Icured\nPhoto Op Station for selfies with furry friends\nFree giveaways and plenty more.\n\nGrand Circus Dog Park events are presented by Strategic Staffing Solutions and supported in part by Michigan Humane and Premier Pet Supply\, who will be on site with giveaways\, treats and prizes for our contest winners. \n  \n\nvar exampleCallback=function(){console.log(‘Order complete!’);};window.EBWidgets.createWidget({widgetType:’checkout’\,eventId:’1399506614959′\,iframeContainerId:’eventbrite-widget-container-1399506614959′\,iframeContainerHeight:425\,onOrderComplete:exampleCallback}); \nOther dog park events coming up include:   \nOctober 25 – Howl-o-ween 
URL:https://detroitartdao.com/event/tailgate-presented-by-strategic-staffing-solutions
LOCATION:Grand Circus Park\, 101-157 Witherell St\, Detroit\, MI\, United States
CATEGORIES:Community Events,Free Event,Grand Circus Park,Park Events
ATTACH;FMTTYPE=image/jpeg:https://dpop.nyc3.digitaloceanspaces.com/wp-content/uploads/2025/08/28123212/TAILgate-2-scaled-tcxX87.tmp_.jpg
GEO:42.3367182;-83.0504011
X-APPLE-STRUCTURED-LOCATION;VALUE=URI;X-ADDRESS=Grand Circus Park 101-157 Witherell St Detroit MI United States;X-APPLE-RADIUS=500;X-TITLE=101-157 Witherell St:geo:-83.0504011,42.3367182
END:VEVENT
END:VCALENDAR