BEGIN:VCALENDAR
VERSION:2.0
PRODID:-//Discover Detroit Art - ECPv6.0.1//NONSGML v1.0//EN
CALSCALE:GREGORIAN
METHOD:PUBLISH
X-ORIGINAL-URL:https://detroitartdao.com
X-WR-CALDESC:Events for Discover Detroit Art
REFRESH-INTERVAL;VALUE=DURATION:PT1H
X-Robots-Tag:noindex
X-PUBLISHED-TTL:PT1H
BEGIN:VTIMEZONE
TZID:America/Detroit
BEGIN:DAYLIGHT
TZOFFSETFROM:-0500
TZOFFSETTO:-0400
TZNAME:EDT
DTSTART:20250309T070000
END:DAYLIGHT
BEGIN:STANDARD
TZOFFSETFROM:-0400
TZOFFSETTO:-0500
TZNAME:EST
DTSTART:20251102T060000
END:STANDARD
END:VTIMEZONE
BEGIN:VEVENT
DTSTART;TZID=America/Detroit:20251025T140000
DTEND;TZID=America/Detroit:20251025T160000
DTSTAMP:20260421T004628
CREATED:20250928T111847Z
LAST-MODIFIED:20251025T133135Z
UID:10015409-1761400800-1761408000@detroitartdao.com
SUMMARY:Howl-O-Ween Presented by Strategic Staffing Solutions 
DESCRIPTION:Get ready for a frightfully fun afternoon at the 12th annual Howl-O-Ween Costume Party at Grand Circus Dog Park on Saturday\, Oct. 25 from 2 to 4 PM. Dress you and your pup to impress for a chance to win prizes in various costume categories. The event will also feature Halloween-themed games\, gifts for dogs\, treats for their humans and a DJ spinning festive beats – it’s sure to be a howling good time! Programming highlights for “Howl-O-Ween” at Grand Circus Dog Park include: \n\nA full furry friend and parent costume contest from 2:30 – 3:30 p.m.\, including the chance to win prizes in the following categories:\n\nBest in Show\nBest Duo/Family\nFunniest\nMost Creative\nTeenie Weenie Award\nSpots are limited and may fill up quickly—we recommend signing up early to secure your spot! Register here: https://forms.gle/KDCpSCEoToBNRche7\n\n\nDJ Invisible spinning up tracks live\nFree dog treats and products for sale from Doggie Social Cafe\nDoggie Nail grooming with Pet-Icured\nPhoto Op Station for selfies with furry friends\nFree giveaways\, including Carhartt dog swag and plenty more.\n\nGrand Circus Dog Park events are presented by Strategic Staffing Solutions and supported in part by Michigan Humane and Premier Pet Supply\, who will be on site with giveaways\, treats and prizes for our contest winners. \n  \n\nvar exampleCallback=function(){console.log(‘Order complete!’);};window.EBWidgets.createWidget({widgetType:’checkout’\,eventId:’1399520546629′\,iframeContainerId:’eventbrite-widget-container-1399520546629′\,iframeContainerHeight:425\,onOrderComplete:exampleCallback});
URL:https://detroitartdao.com/event/howl-o-ween-presented-by-strategic-staffing-solutions
LOCATION:Grand Circus Park\, 101-157 Witherell St\, Detroit\, MI\, United States
CATEGORIES:Community Events,Free Event,Grand Circus Park,Park Events
ATTACH;FMTTYPE=image/jpeg:https://dpop.nyc3.digitaloceanspaces.com/wp-content/uploads/2025/09/28071851/HowlOWeen-2-scaled-Bd7YXm.tmp_.jpg
GEO:42.3367182;-83.0504011
X-APPLE-STRUCTURED-LOCATION;VALUE=URI;X-ADDRESS=Grand Circus Park 101-157 Witherell St Detroit MI United States;X-APPLE-RADIUS=500;X-TITLE=101-157 Witherell St:geo:-83.0504011,42.3367182
END:VEVENT
END:VCALENDAR