BEGIN:VCALENDAR
VERSION:2.0
PRODID:-//Discover Detroit Art - ECPv6.0.1//NONSGML v1.0//EN
CALSCALE:GREGORIAN
METHOD:PUBLISH
X-WR-CALNAME:Discover Detroit Art
X-ORIGINAL-URL:https://detroitartdao.com
X-WR-CALDESC:Events for Discover Detroit Art
REFRESH-INTERVAL;VALUE=DURATION:PT1H
X-Robots-Tag:noindex
X-PUBLISHED-TTL:PT1H
BEGIN:VTIMEZONE
TZID:America/Detroit
BEGIN:DAYLIGHT
TZOFFSETFROM:-0500
TZOFFSETTO:-0400
TZNAME:EDT
DTSTART:20230312T070000
END:DAYLIGHT
BEGIN:STANDARD
TZOFFSETFROM:-0400
TZOFFSETTO:-0500
TZNAME:EST
DTSTART:20231105T060000
END:STANDARD
END:VTIMEZONE
BEGIN:VEVENT
DTSTART;TZID=America/Detroit:20231215T180000
DTEND;TZID=America/Detroit:20231215T230000
DTSTAMP:20260422T142158
CREATED:20231115T194645Z
LAST-MODIFIED:20231215T213141Z
UID:10002912-1702663200-1702681200@detroitartdao.com
SUMMARY:Holiday Carriage Rides in Downtown Detroit
DESCRIPTION:Experience the magic of Downtown Detroit from inside an enchanted horse-drawn carriage. Carriage rides take passengers on a journey through the bustling city. With the dramatic backdrop of the city skyline and Detroit’s Christmas Tree\, these charming tours are a wonderful way to embrace holiday cheer. \nSchedule/Times: \n-Every Friday and Saturday • November 18 – December 30 • 6 pm – 11 pm \n-New Year’s Eve Carriage Rides: December 31 • 6 pm – 11 pm \nPricing Info:\n-Rides Per Person: $15\n-Private Group Rides: $50\n-Cash Only\n-Tickets can be purchased at the time of the ride on a first come first serve basis.
URL:https://detroitartdao.com/event/holiday-carriage-rides-in-downtown-detroit-8
LOCATION:Woodward Esplanade\, 600 Woodward Ave\, Detroit\, Michigan\, 48226
CATEGORIES:Holiday Carriage Rides,Park Events,Woodward Esplanade
ATTACH;FMTTYPE=image/webp:https://dpop.nyc3.digitaloceanspaces.com/wp-content/uploads/2023/10/24151656/V.Kamenitzer-SouthernSpiritsWeekend2016-IMG_0531-scaled-eboRqm.tmp_.webp
GEO:42.3304865;-83.0454931
X-APPLE-STRUCTURED-LOCATION;VALUE=URI;X-ADDRESS=Woodward Esplanade 600 Woodward Ave Detroit Michigan 48226;X-APPLE-RADIUS=500;X-TITLE=600 Woodward Ave:geo:-83.0454931,42.3304865
END:VEVENT
BEGIN:VEVENT
DTSTART;TZID=America/Detroit:20231209T180000
DTEND;TZID=America/Detroit:20231209T230000
DTSTAMP:20260422T142158
CREATED:20231109T194640Z
LAST-MODIFIED:20231209T210244Z
UID:10002870-1702144800-1702162800@detroitartdao.com
SUMMARY:Holiday Carriage Rides in Downtown Detroit
DESCRIPTION:Experience the magic of Downtown Detroit from inside an enchanted horse-drawn carriage. Carriage rides take passengers on a journey through the bustling city. With the dramatic backdrop of the city skyline and Detroit’s Christmas Tree\, these charming tours are a wonderful way to embrace holiday cheer. \nSchedule/Times \n-Every Friday and Saturday • November 18 – December 30 • 6 pm – 11 pm \n-New Year’s Eve Carriage Rides: December 31 • 6 pm – 11 pm \nPricing Info:\n-Rides Per Person: $10\n-Private Group Rides: $40\n-Tickets can be purchased at the time of the ride on a first come first serve basis.
URL:https://detroitartdao.com/event/holiday-carriage-rides-in-downtown-detroit-7
LOCATION:Woodward Esplanade\, 600 Woodward Ave\, Detroit\, Michigan\, 48226
CATEGORIES:Holiday Carriage Rides,Park Events,Woodward Esplanade
ATTACH;FMTTYPE=image/webp:https://dpop.nyc3.digitaloceanspaces.com/wp-content/uploads/2023/10/24151656/V.Kamenitzer-SouthernSpiritsWeekend2016-IMG_0531-scaled-eboRqm.tmp_.webp
GEO:42.3304865;-83.0454931
X-APPLE-STRUCTURED-LOCATION;VALUE=URI;X-ADDRESS=Woodward Esplanade 600 Woodward Ave Detroit Michigan 48226;X-APPLE-RADIUS=500;X-TITLE=600 Woodward Ave:geo:-83.0454931,42.3304865
END:VEVENT
BEGIN:VEVENT
DTSTART;TZID=America/Detroit:20231208T180000
DTEND;TZID=America/Detroit:20231208T230000
DTSTAMP:20260422T142158
CREATED:20231108T194643Z
LAST-MODIFIED:20231208T210142Z
UID:10002833-1702058400-1702076400@detroitartdao.com
SUMMARY:Holiday Carriage Rides in Downtown Detroit
DESCRIPTION:Experience the magic of Downtown Detroit from inside an enchanted horse-drawn carriage. Carriage rides take passengers on a journey through the bustling city. With the dramatic backdrop of the city skyline and Detroit’s Christmas Tree\, these charming tours are a wonderful way to embrace holiday cheer. \nSchedule/Times \n-Every Friday and Saturday • November 18 – December 30 • 6 pm – 11 pm \n-New Year’s Eve Carriage Rides: December 31 • 6 pm – 11 pm \nPricing Info:\n-Rides Per Person: $10\n-Private Group Rides: $40\n-Tickets can be purchased at the time of the ride on a first come first serve basis.
URL:https://detroitartdao.com/event/holiday-carriage-rides-in-downtown-detroit-6
LOCATION:Woodward Esplanade\, 600 Woodward Ave\, Detroit\, Michigan\, 48226
CATEGORIES:Holiday Carriage Rides,Park Events,Woodward Esplanade
ATTACH;FMTTYPE=image/webp:https://dpop.nyc3.digitaloceanspaces.com/wp-content/uploads/2023/10/24151656/V.Kamenitzer-SouthernSpiritsWeekend2016-IMG_0531-scaled-eboRqm.tmp_.webp
GEO:42.3304865;-83.0454931
X-APPLE-STRUCTURED-LOCATION;VALUE=URI;X-ADDRESS=Woodward Esplanade 600 Woodward Ave Detroit Michigan 48226;X-APPLE-RADIUS=500;X-TITLE=600 Woodward Ave:geo:-83.0454931,42.3304865
END:VEVENT
BEGIN:VEVENT
DTSTART;TZID=America/Detroit:20231202T180000
DTEND;TZID=America/Detroit:20231202T230000
DTSTAMP:20260422T142158
CREATED:20231102T193140Z
LAST-MODIFIED:20231202T204641Z
UID:10002811-1701540000-1701558000@detroitartdao.com
SUMMARY:Holiday Carriage Rides in Downtown Detroit
DESCRIPTION:Experience the magic of Downtown Detroit from inside an enchanted horse-drawn carriage. Carriage rides take passengers on a journey through the bustling city. With the dramatic backdrop of the city skyline and Detroit’s Christmas Tree\, these charming tours are a wonderful way to embrace holiday cheer. \nSchedule/Times \n-Every Friday and Saturday • November 18 – December 30 • 6 pm – 11 pm \n-New Year’s Eve Carriage Rides: December 31 • 6 pm – 11 pm \nPricing Info:\n-Rides Per Person: $10\n-Private Group Rides: $40\n-Tickets can be purchased at the time of the ride on a first come first serve basis.
URL:https://detroitartdao.com/event/holiday-carriage-rides-in-downtown-detroit-5
LOCATION:Woodward Esplanade\, 600 Woodward Ave\, Detroit\, Michigan\, 48226
CATEGORIES:Holiday Carriage Rides,Park Events,Woodward Esplanade
ATTACH;FMTTYPE=image/webp:https://dpop.nyc3.digitaloceanspaces.com/wp-content/uploads/2023/10/24151656/V.Kamenitzer-SouthernSpiritsWeekend2016-IMG_0531-scaled-eboRqm.tmp_.webp
GEO:42.3304865;-83.0454931
X-APPLE-STRUCTURED-LOCATION;VALUE=URI;X-ADDRESS=Woodward Esplanade 600 Woodward Ave Detroit Michigan 48226;X-APPLE-RADIUS=500;X-TITLE=600 Woodward Ave:geo:-83.0454931,42.3304865
END:VEVENT
BEGIN:VEVENT
DTSTART;TZID=America/Detroit:20231201T180000
DTEND;TZID=America/Detroit:20231201T230000
DTSTAMP:20260422T142158
CREATED:20231101T191649Z
LAST-MODIFIED:20231201T203144Z
UID:10002805-1701453600-1701471600@detroitartdao.com
SUMMARY:Holiday Carriage Rides in Downtown Detroit
DESCRIPTION:Experience the magic of Downtown Detroit from inside an enchanted horse-drawn carriage. Carriage rides take passengers on a journey through the bustling city. With the dramatic backdrop of the city skyline and Detroit’s Christmas Tree\, these charming tours are a wonderful way to embrace holiday cheer. \nSchedule/Times \n-Every Friday and Saturday • November 18 – December 30 • 6 pm – 11 pm \n-New Year’s Eve Carriage Rides: December 31 • 6 pm – 11 pm \nPricing Info:\n-Rides Per Person: $10\n-Private Group Rides: $40\n-Tickets can be purchased at the time of the ride on a first come first serve basis.
URL:https://detroitartdao.com/event/holiday-carriage-rides-in-downtown-detroit-4
LOCATION:Woodward Esplanade\, 600 Woodward Ave\, Detroit\, Michigan\, 48226
CATEGORIES:Holiday Carriage Rides,Park Events,Woodward Esplanade
ATTACH;FMTTYPE=image/webp:https://dpop.nyc3.digitaloceanspaces.com/wp-content/uploads/2023/10/24151656/V.Kamenitzer-SouthernSpiritsWeekend2016-IMG_0531-scaled-eboRqm.tmp_.webp
GEO:42.3304865;-83.0454931
X-APPLE-STRUCTURED-LOCATION;VALUE=URI;X-ADDRESS=Woodward Esplanade 600 Woodward Ave Detroit Michigan 48226;X-APPLE-RADIUS=500;X-TITLE=600 Woodward Ave:geo:-83.0454931,42.3304865
END:VEVENT
BEGIN:VEVENT
DTSTART;TZID=America/Detroit:20231125T180000
DTEND;TZID=America/Detroit:20231125T230000
DTSTAMP:20260422T142158
CREATED:20231026T191702Z
LAST-MODIFIED:20231125T201641Z
UID:10002745-1700935200-1700953200@detroitartdao.com
SUMMARY:Holiday Carriage Rides in Downtown Detroit
DESCRIPTION:Experience the magic of Downtown Detroit from inside an enchanted horse-drawn carriage. Carriage rides take passengers on a journey through the bustling city. With the dramatic backdrop of the city skyline and Detroit’s Christmas Tree\, these charming tours are a wonderful way to embrace holiday cheer. \nSchedule/Times \n-Every Friday and Saturday • November 18 – December 30 • 6 pm – 11 pm \n-New Year’s Eve Carriage Rides: December 31 • 6 pm – 11 pm \nPricing Info:\n-Rides Per Person: $10\n-Private Group Rides: $40\n-Tickets can be purchased at the time of the ride on a first come first serve basis.
URL:https://detroitartdao.com/event/holiday-carriage-rides-in-downtown-detroit-3
LOCATION:Woodward Esplanade\, 600 Woodward Ave\, Detroit\, Michigan\, 48226
CATEGORIES:Holiday Carriage Rides,Park Events,Woodward Esplanade
ATTACH;FMTTYPE=image/webp:https://dpop.nyc3.digitaloceanspaces.com/wp-content/uploads/2023/10/24151656/V.Kamenitzer-SouthernSpiritsWeekend2016-IMG_0531-scaled-eboRqm.tmp_.webp
GEO:42.3304865;-83.0454931
X-APPLE-STRUCTURED-LOCATION;VALUE=URI;X-ADDRESS=Woodward Esplanade 600 Woodward Ave Detroit Michigan 48226;X-APPLE-RADIUS=500;X-TITLE=600 Woodward Ave:geo:-83.0454931,42.3304865
END:VEVENT
BEGIN:VEVENT
DTSTART;TZID=America/Detroit:20231124T180000
DTEND;TZID=America/Detroit:20231124T230000
DTSTAMP:20260422T142158
CREATED:20231025T191640Z
LAST-MODIFIED:20231124T201643Z
UID:10002742-1700848800-1700866800@detroitartdao.com
SUMMARY:Holiday Carriage Rides in Downtown Detroit
DESCRIPTION:Experience the magic of Downtown Detroit from inside an enchanted horse-drawn carriage. Carriage rides take passengers on a journey through the bustling city. With the dramatic backdrop of the city skyline and Detroit’s Christmas Tree\, these charming tours are a wonderful way to embrace holiday cheer. \nSchedule/Times \n-Every Friday and Saturday • November 18 – December 30 • 6 pm – 11 pm \n-New Year’s Eve Carriage Rides: December 31 • 6 pm – 11 pm \nPricing Info:\n-Rides Per Person: $10\n-Private Group Rides: $40\n-Tickets can be purchased at the time of the ride on a first come first serve basis.
URL:https://detroitartdao.com/event/holiday-carriage-rides-in-downtown-detroit-2
LOCATION:Woodward Esplanade\, 600 Woodward Ave\, Detroit\, Michigan\, 48226
CATEGORIES:Holiday Carriage Rides,Park Events,Woodward Esplanade
ATTACH;FMTTYPE=image/webp:https://dpop.nyc3.digitaloceanspaces.com/wp-content/uploads/2023/10/24151656/V.Kamenitzer-SouthernSpiritsWeekend2016-IMG_0531-scaled-eboRqm.tmp_.webp
GEO:42.3304865;-83.0454931
X-APPLE-STRUCTURED-LOCATION;VALUE=URI;X-ADDRESS=Woodward Esplanade 600 Woodward Ave Detroit Michigan 48226;X-APPLE-RADIUS=500;X-TITLE=600 Woodward Ave:geo:-83.0454931,42.3304865
END:VEVENT
BEGIN:VEVENT
DTSTART;TZID=America/Detroit:20231118T180000
DTEND;TZID=America/Detroit:20231118T230000
DTSTAMP:20260422T142158
CREATED:20231024T191652Z
LAST-MODIFIED:20231118T201724Z
UID:10002692-1700330400-1700348400@detroitartdao.com
SUMMARY:Holiday Carriage Rides in Downtown Detroit
DESCRIPTION:Experience the magic of Downtown Detroit from inside an enchanted horse-drawn carriage. Carriage rides take passengers on a journey through the bustling city. With the dramatic backdrop of the city skyline and Detroit’s Christmas Tree\, these charming tours are a wonderful way to embrace holiday cheer. \nSchedule/Times \n-Every Friday and Saturday • November 18 – December 30 • 6 pm – 11 pm \n-New Year’s Eve Carriage Rides: December 31 • 6 pm – 11 pm \nPricing Info:\n-Rides Per Person: $10\n-Private Group Rides: $40\n-Tickets can be purchased at the time of the ride on a first come first serve basis.
URL:https://detroitartdao.com/event/holiday-carriage-rides-in-downtown-detroit
LOCATION:Woodward Esplanade\, 600 Woodward Ave\, Detroit\, Michigan\, 48226
CATEGORIES:Holiday Carriage Rides,Park Events,Woodward Esplanade
ATTACH;FMTTYPE=image/webp:https://dpop.nyc3.digitaloceanspaces.com/wp-content/uploads/2023/10/24151656/V.Kamenitzer-SouthernSpiritsWeekend2016-IMG_0531-scaled-eboRqm.tmp_.webp
GEO:42.3304865;-83.0454931
X-APPLE-STRUCTURED-LOCATION;VALUE=URI;X-ADDRESS=Woodward Esplanade 600 Woodward Ave Detroit Michigan 48226;X-APPLE-RADIUS=500;X-TITLE=600 Woodward Ave:geo:-83.0454931,42.3304865
END:VEVENT
END:VCALENDAR