BEGIN:VCALENDAR
VERSION:2.0
PRODID:-//Discover Detroit Art - ECPv6.0.1//NONSGML v1.0//EN
CALSCALE:GREGORIAN
METHOD:PUBLISH
X-WR-CALNAME:Discover Detroit Art
X-ORIGINAL-URL:https://detroitartdao.com
X-WR-CALDESC:Events for Discover Detroit Art
REFRESH-INTERVAL;VALUE=DURATION:PT1H
X-Robots-Tag:noindex
X-PUBLISHED-TTL:PT1H
BEGIN:VTIMEZONE
TZID:America/Detroit
BEGIN:DAYLIGHT
TZOFFSETFROM:-0500
TZOFFSETTO:-0400
TZNAME:EDT
DTSTART:20230312T070000
END:DAYLIGHT
BEGIN:STANDARD
TZOFFSETFROM:-0400
TZOFFSETTO:-0500
TZNAME:EST
DTSTART:20231105T060000
END:STANDARD
END:VTIMEZONE
BEGIN:VEVENT
DTSTART;TZID=America/Detroit:20230913T100000
DTEND;TZID=America/Detroit:20231024T200000
DTSTAMP:20260421T004601
CREATED:20230830T154914Z
LAST-MODIFIED:20230830T154914Z
UID:10001978-1694599200-1698177600@detroitartdao.com
SUMMARY:North American International Auto Show
DESCRIPTION:Experience the world-famous Detroit Auto Show with your friends and family. Over 20+ attractions\, events\, and shows all about vehicles and the ever-growing technology behind them.
URL:https://detroitartdao.com/event/north-american-international-auto-show
LOCATION:Huntington Place\, 1 Washington Blvd\, Detroit\, MI\, 48226\, us
CATEGORIES:AUTOMOTIVE,Mobility,Networking,Tech
GEO:42.32662;-83.04942
X-APPLE-STRUCTURED-LOCATION;VALUE=URI;X-ADDRESS=Huntington Place 1 Washington Blvd Detroit MI 48226 us;X-APPLE-RADIUS=500;X-TITLE=1 Washington Blvd:geo:-83.04942,42.32662
END:VEVENT
BEGIN:VEVENT
DTSTART;TZID=America/Detroit:20231009T080000
DTEND;TZID=America/Detroit:20231012T170000
DTSTAMP:20260421T004601
CREATED:20231002T050501Z
LAST-MODIFIED:20231002T050501Z
UID:10002405-1696838400-1697130000@detroitartdao.com
SUMMARY:Michigan Tech Week
DESCRIPTION:Michigan Tech Week is bringing the biggest celebration of the state’s tech and entrepreneur ecosystems to the biggest venue we could find: The Big House. Join us for this four-day celebration highlighting the ingenuity at the core of the Great Lake State. Whether you’re a business\, in business\, a student\, an investor\, or just have a passionate interest\, we welcome you to this one-of-a-kind educational networking event. \nMichigan Tech Week has brought together an incredible variety of speakers from across the nation\, speaking on everything from AI\, to SportsTech\, to mobility. All with a high-growth lens and the opportunity for networking and closer connection. \nOctober 9 & 10\, 9am-5pm ET | The Big House\nOctober 11 & 12\, 9am-5pm ET | Venue by 4M \nCatch this year’s 70+ speakers!\nDoors open at 8:00 AM\nCo-working space available onsite
URL:https://detroitartdao.com/event/michigan-tech-week-2
LOCATION:The Big House\, 2548 Grand River Avenue\, Detroit\, MI
CATEGORIES:Business,Networking,Tech
GEO:42.2660981;-83.7484659
X-APPLE-STRUCTURED-LOCATION;VALUE=URI;X-ADDRESS=The Big House 2548 Grand River Avenue Detroit MI;X-APPLE-RADIUS=500;X-TITLE=2548 Grand River Avenue:geo:-83.7484659,42.2660981
END:VEVENT
BEGIN:VEVENT
DTSTART;TZID=America/Detroit:20231012T163000
DTEND;TZID=America/Detroit:20231014T180000
DTSTAMP:20260421T004601
CREATED:20231009T161022Z
LAST-MODIFIED:20231009T161022Z
UID:10002490-1697128200-1697306400@detroitartdao.com
SUMMARY:Black Tech Weekend
DESCRIPTION:Black Tech Week is back and headed to Detroit\, MI\nOctober 12-14\, 2023 to present its first Black Tech Weekend- the abbreviated and highly anticipated spin-off of the main conference where founders\, innovators and creatives of color will experience the same incredible content\, connection and energy they have come to expect from the brand.
URL:https://detroitartdao.com/event/black-tech-weekend
LOCATION:New Lab
CATEGORIES:Business,Networking
GEO:42.3283354;-83.0755441
END:VEVENT
BEGIN:VEVENT
DTSTART;TZID=America/Detroit:20231013T170000
DTEND;TZID=America/Detroit:20231013T190000
DTSTAMP:20260421T004601
CREATED:20231009T160602Z
LAST-MODIFIED:20231009T160603Z
UID:10002489-1697216400-1697223600@detroitartdao.com
SUMMARY:Bentai by Art Clvb
DESCRIPTION:Art Clvb is thrilled to announce our forthcoming inaugural group show in Detroit opening October 13th at @newlab Detroit \n29 Artists from Detroit\, Chicago & NY \nOpening reception Oct.13th 5-7pm \nfeatured artists:\n@martyna_alexander\n@amandamichellebarker\n@kaleighblevinsart\n@b3th_art\n@dustincook_\n@c.d_dawson\n@jondeboer\n@sam.dienst\n@yeageredwards\n@feigleylee_studio\n@weiyanggao_studio\n@griffingoodman\n@art_ticus\n@polin_huang_art\n@____mooner____\n@julianjones.studios\n@donkilpatrick_artist\n@frank.gl\n@ashleymarieart\n@natalie.njo\n@jaime.pattison\n@michaelpolakowski\n@trey_pls\n@faysanders_\n@lindsay_splichal\n@blahbert\n@cherrytungart\n@bobby_lv\n@milicazekic_
URL:https://detroitartdao.com/event/bentai-by-art-clvb
LOCATION:Newlab at Michigan Central\, 2050 15th Street\, Detroit\, MI\, 48216
CATEGORIES:Art,Networking
GEO:42.3286509;-83.0760223
X-APPLE-STRUCTURED-LOCATION;VALUE=URI;X-ADDRESS=Newlab at Michigan Central 2050 15th Street Detroit MI 48216;X-APPLE-RADIUS=500;X-TITLE=2050 15th Street:geo:-83.0760223,42.3286509
END:VEVENT
BEGIN:VEVENT
DTSTART;TZID=America/Detroit:20231024T183000
DTEND;TZID=America/Detroit:20231024T210000
DTSTAMP:20260421T004601
CREATED:20231009T153701Z
LAST-MODIFIED:20231009T153701Z
UID:10002487-1698172200-1698181200@detroitartdao.com
SUMMARY:Offchain Detroit
DESCRIPTION:Next OffChain Detroit gathering is Tuesday\, October 24th at Jolly Pumpkin (419 S Main St\, Royal Oak\, MI\, 48067) from 6:30 p.m. to 9:00 pm. Come mingle with other Web3 professionals and enthusiasts. There is no entrance charge and attendees pay for their own drinks/food. \nIf you attend the event\, you can look for Trip\, the founder of OffChain Detroit\, when you arrive: https://www.linkedin.com/in/tripdixon \nYou can join the OffChain Detroit WhatsApp group to stay in touch: https://chat.whatsapp.com/KqnBVRqg2xW77W91fKID9Y. \nYou can see more about the OffChain Global Community at: http://offchain.social
URL:https://detroitartdao.com/event/offchain-detroit-2
LOCATION:Jolly Pumpkin (Royal Oak)\, 419 South Main Street\, Royal Oak\, MI\, 48067\, United States
CATEGORIES:Finance,Networking,Tech,WEB3
GEO:42.4865737;-83.1439019
X-APPLE-STRUCTURED-LOCATION;VALUE=URI;X-ADDRESS=Jolly Pumpkin (Royal Oak) 419 South Main Street Royal Oak MI 48067 United States;X-APPLE-RADIUS=500;X-TITLE=419 South Main Street:geo:-83.1439019,42.4865737
END:VEVENT
END:VCALENDAR