BEGIN:VCALENDAR
VERSION:2.0
PRODID:-//Discover Detroit Art - ECPv6.0.1//NONSGML v1.0//EN
CALSCALE:GREGORIAN
METHOD:PUBLISH
X-ORIGINAL-URL:https://detroitartdao.com
X-WR-CALDESC:Events for Discover Detroit Art
REFRESH-INTERVAL;VALUE=DURATION:PT1H
X-Robots-Tag:noindex
X-PUBLISHED-TTL:PT1H
BEGIN:VTIMEZONE
TZID:America/Detroit
BEGIN:DAYLIGHT
TZOFFSETFROM:-0500
TZOFFSETTO:-0400
TZNAME:EDT
DTSTART:20230312T070000
END:DAYLIGHT
BEGIN:STANDARD
TZOFFSETFROM:-0400
TZOFFSETTO:-0500
TZNAME:EST
DTSTART:20231105T060000
END:STANDARD
END:VTIMEZONE
BEGIN:VEVENT
DTSTART;TZID=America/Detroit:20231122T200000
DTEND;TZID=America/Detroit:20231122T230000
DTSTAMP:20260420T065006
CREATED:20231120T210016Z
LAST-MODIFIED:20231122T021332Z
UID:10002964-1700683200-1700694000@detroitartdao.com
SUMMARY:Bitcoin & Beer
DESCRIPTION:Networking at Detroit Beer Company every Wednesday. \nCurious or want to learn more about the web3\, blockchain and crypto space? Come have a beer and meet like minded entrepreneurs and tech processionals that’s in the space from Detroit!
URL:https://detroitartdao.com/event/bitcoin-beer-6
LOCATION:Detroit Beer Company\, 1529 Broadway St\, Detroit\, MI\, 48226\, United States
CATEGORIES:Holiday Raffle,Networking,Tech
ATTACH;FMTTYPE=image/png:https://dpop.nyc3.digitaloceanspaces.com/wp-content/uploads/2023/11/20160011/redwingsgiveaway.png
GEO:42.3358047;-83.048912
X-APPLE-STRUCTURED-LOCATION;VALUE=URI;X-ADDRESS=Detroit Beer Company 1529 Broadway St Detroit MI 48226 United States;X-APPLE-RADIUS=500;X-TITLE=1529 Broadway St:geo:-83.048912,42.3358047
END:VEVENT
BEGIN:VEVENT
DTSTART;TZID=America/Detroit:20231129T140000
DTEND;TZID=America/Detroit:20231129T170000
DTSTAMP:20260420T065006
CREATED:20231123T014236Z
LAST-MODIFIED:20231122T204733Z
UID:10002996-1701266400-1701277200@detroitartdao.com
SUMMARY:Art for Palestine
DESCRIPTION:Join us for round 2 of our sign-art making event! Paints & materials supplied. There will be plenty of templates to choose from or create your own custom design. Music will be provided by Freecheh. Suggested donation of $5 to help with the cost of supplies if possible.
URL:https://detroitartdao.com/event/art-for-palestine
LOCATION:Spot Lite\, 2905 Beaufait\, Detroit\, MI\, 48207
CATEGORIES:Art,Music,Networking
GEO:42.3580524;-83.0167091
X-APPLE-STRUCTURED-LOCATION;VALUE=URI;X-ADDRESS=Spot Lite 2905 Beaufait Detroit MI 48207;X-APPLE-RADIUS=500;X-TITLE=2905 Beaufait:geo:-83.0167091,42.3580524
END:VEVENT
BEGIN:VEVENT
DTSTART;TZID=America/Detroit:20231129T200000
DTEND;TZID=America/Detroit:20231129T230000
DTSTAMP:20260420T065006
CREATED:20231122T021925Z
LAST-MODIFIED:20231122T021925Z
UID:10002975-1701288000-1701298800@detroitartdao.com
SUMMARY:Bitcoin & Beer
DESCRIPTION:Networking at Detroit Beer Company every Wednesday. \nCurious or want to learn more about the web3\, blockchain and crypto space? Come have a beer and meet like minded entrepreneurs and tech processionals that’s in the space from Detroit!
URL:https://detroitartdao.com/event/bitcoin-beer-7
LOCATION:Detroit Beer Company\, 1529 Broadway St\, Detroit\, MI\, 48226\, United States
CATEGORIES:Holiday Raffle,Networking,Tech
ATTACH;FMTTYPE=image/png:https://dpop.nyc3.digitaloceanspaces.com/wp-content/uploads/2023/11/20160011/redwingsgiveaway.png
GEO:42.3358047;-83.048912
X-APPLE-STRUCTURED-LOCATION;VALUE=URI;X-ADDRESS=Detroit Beer Company 1529 Broadway St Detroit MI 48226 United States;X-APPLE-RADIUS=500;X-TITLE=1529 Broadway St:geo:-83.048912,42.3358047
END:VEVENT
BEGIN:VEVENT
DTSTART;TZID=America/Detroit:20231130T010000
DTEND;TZID=America/Detroit:20231130T070000
DTSTAMP:20260420T065006
CREATED:20231121T045332Z
LAST-MODIFIED:20231228T075749Z
UID:10002966-1701306000-1701327600@detroitartdao.com
SUMMARY:Art Night Detroit x Spotlite Detroit
DESCRIPTION:Join us for an evening dedicated to the Arts & Community at Detroit’s preeminent home of culture & nightlife. As always art supplies will be provided but it’s highly encouraged to bring a creative project to work on during the event\, also make sure to tag the group drawing! We’ll be featuring a very special custom apparel pop-up from Art Night Alumni and Spotlite employee Gio aka @_billydagoat! Also enjoy an eclectic mix of talented DJ’s spinning all night. Tunes provided by @Yeriko_dj\, @Nathankarinen\, @_Pettycash\, @DjPalmwine\, @XtrMayo\, @Nuntheless\, @Raedylex\, @50s.pink\, & @ReemDetroit. This event will be free for everyone with the option to donate to a great cause. All general donations and portions of art sales will be donated to the Center for Arab American Philanthropy\, a national institution of ACCESS\, for Gaza relief efforts
URL:https://detroitartdao.com/event/art-night-detroit-x-spotlite-detroit
LOCATION:Spot Lite\, 2905 Beaufait\, Detroit\, MI\, 48207
CATEGORIES:Art,Holiday Raffle,Music,Networking
GEO:42.3580524;-83.0167091
X-APPLE-STRUCTURED-LOCATION;VALUE=URI;X-ADDRESS=Spot Lite 2905 Beaufait Detroit MI 48207;X-APPLE-RADIUS=500;X-TITLE=2905 Beaufait:geo:-83.0167091,42.3580524
END:VEVENT
END:VCALENDAR