BEGIN:VCALENDAR
VERSION:2.0
PRODID:-//Discover Detroit Art - ECPv6.0.1//NONSGML v1.0//EN
CALSCALE:GREGORIAN
METHOD:PUBLISH
X-ORIGINAL-URL:https://detroitartdao.com
X-WR-CALDESC:Events for Discover Detroit Art
REFRESH-INTERVAL;VALUE=DURATION:PT1H
X-Robots-Tag:noindex
X-PUBLISHED-TTL:PT1H
BEGIN:VTIMEZONE
TZID:America/Detroit
BEGIN:DAYLIGHT
TZOFFSETFROM:-0500
TZOFFSETTO:-0400
TZNAME:EDT
DTSTART:20230312T070000
END:DAYLIGHT
BEGIN:STANDARD
TZOFFSETFROM:-0400
TZOFFSETTO:-0500
TZNAME:EST
DTSTART:20231105T060000
END:STANDARD
END:VTIMEZONE
BEGIN:VEVENT
DTSTART;TZID=America/Detroit:20231202T090000
DTEND;TZID=America/Detroit:20231202T170000
DTSTAMP:20260422T095416
CREATED:20231002T051614Z
LAST-MODIFIED:20231202T083132Z
UID:10002408-1701507600-1701536400@detroitartdao.com
SUMMARY:Michigan DevFest 2023
DESCRIPTION:Michigan DevFest is a community organized developer conference run by the Detroit and Ann Arbor GDGs with talks on a wide variety of tech.\n\n\nThe Detroit and Ann Arbor Google Developer Groups (GDG) are teaming up once again to bring you the 9th Michigan DevFest on Dec 2\, 2023 at the Little Caesar’s Global Resource Center. \nWith our 9th DevFest\, we aim to put together a great day of networking and knowledge sharing for all involved. \nDoors will open at 8am and the event will conclude at 4:30pm. Breakfast and lunch will be provided. Additional event details are available on our Event Page.  \nWe have different pricing levels for our tickets: Normal\, and Last Minute. Purchase your tickets early to save money and help us know how many attendees we will have. \nThis years sponsors include Google\, Little Caesars. Contact us if your organization would like to join the list. \nMichigan DevFest attendees agree to follow the Code of Conduct \nSee you there!
URL:https://detroitartdao.com/event/michigan-devfest-2023
LOCATION:Little Caesars Global Resource Center\, 2125 Woodward Avenue\, Detroit\, MI\, 48201\, United States
CATEGORIES:Holiday Raffle,Networking,Tech
ATTACH;FMTTYPE=image/jpeg:https://dpop.nyc3.digitaloceanspaces.com/wp-content/uploads/2023/10/02011615/ddcbf1bb906da6da04be15b5da4e2183.jpg
GEO:42.3377818;-83.0524545
X-APPLE-STRUCTURED-LOCATION;VALUE=URI;X-ADDRESS=Little Caesars Global Resource Center 2125 Woodward Avenue Detroit MI 48201 United States;X-APPLE-RADIUS=500;X-TITLE=2125 Woodward Avenue:geo:-83.0524545,42.3377818
END:VEVENT
BEGIN:VEVENT
DTSTART;TZID=America/Detroit:20231206T200000
DTEND;TZID=America/Detroit:20231206T230000
DTSTAMP:20260422T095416
CREATED:20231122T021937Z
LAST-MODIFIED:20231122T021937Z
UID:10002976-1701892800-1701903600@detroitartdao.com
SUMMARY:Bitcoin & Beer
DESCRIPTION:Networking at Detroit Beer Company every Wednesday. \nCurious or want to learn more about the web3\, blockchain and crypto space? Come have a beer and meet like minded entrepreneurs and tech processionals that’s in the space from Detroit!
URL:https://detroitartdao.com/event/bitcoin-beer-8
LOCATION:Detroit Beer Company\, 1529 Broadway St\, Detroit\, MI\, 48226\, United States
CATEGORIES:Holiday Raffle,Networking,Tech
ATTACH;FMTTYPE=image/png:https://dpop.nyc3.digitaloceanspaces.com/wp-content/uploads/2023/11/20160011/redwingsgiveaway.png
GEO:42.3358047;-83.048912
X-APPLE-STRUCTURED-LOCATION;VALUE=URI;X-ADDRESS=Detroit Beer Company 1529 Broadway St Detroit MI 48226 United States;X-APPLE-RADIUS=500;X-TITLE=1529 Broadway St:geo:-83.048912,42.3358047
END:VEVENT
BEGIN:VEVENT
DTSTART;TZID=America/Detroit:20231213T170000
DTEND;TZID=America/Detroit:20231213T200000
DTSTAMP:20260422T095416
CREATED:20231117T080150Z
LAST-MODIFIED:20231213T214638Z
UID:10002951-1702486800-1702497600@detroitartdao.com
SUMMARY:UNLOCKING THE FUTURE OF FINTECH
DESCRIPTION:Explore the Future of FinTech & Decentralized Finance\n\n\nMICHIGAN ETHEREUM GROUP PRESENTS: UNLOCKING THE FUTURE OF FINTECH \nExplore the Future of FinTech & Decentralized Finance\, uncover strategies in the finance world\, and delve into the vibrant Detroit Blockchain Community. Experience new opportunities\, network with industry leaders\, and chart a course for your financial future. \nFuture of Fintech & Decentralized Finance \, with Holly Weckler of Detroit Blockchain Center & Andy Mazzola of Teller Finance \nInvesting with AI\, with Michael Polk\, Founder of Stock Pal \nDemo’s by Indie Future & MI Lighting Rod \nNetworking Happy Hour + Refreshments & Snacks
URL:https://detroitartdao.com/event/unlocking-the-future-of-fintech
LOCATION:Chroma\, 2937 E Grand Blvd\, Detroit\, MI\, 48202\, us
CATEGORIES:Networking,Tech,WEB3
ATTACH;FMTTYPE=image/jpeg:https://dpop.nyc3.digitaloceanspaces.com/wp-content/uploads/2023/11/17030151/5f0a70cd5c95c9fcf293630bd1ef735c.jpg
GEO:42.372;-83.067474
X-APPLE-STRUCTURED-LOCATION;VALUE=URI;X-ADDRESS=Chroma 2937 E Grand Blvd Detroit MI 48202 us;X-APPLE-RADIUS=500;X-TITLE=2937 E Grand Blvd:geo:-83.067474,42.372
END:VEVENT
BEGIN:VEVENT
DTSTART;TZID=America/Detroit:20231213T200000
DTEND;TZID=America/Detroit:20231213T230000
DTSTAMP:20260422T095416
CREATED:20231122T021949Z
LAST-MODIFIED:20231122T021949Z
UID:10002977-1702497600-1702508400@detroitartdao.com
SUMMARY:Bitcoin & Beer
DESCRIPTION:Networking at Detroit Beer Company every Wednesday. \nCurious or want to learn more about the web3\, blockchain and crypto space? Come have a beer and meet like minded entrepreneurs and tech processionals that’s in the space from Detroit!
URL:https://detroitartdao.com/event/bitcoin-beer-9
LOCATION:Detroit Beer Company\, 1529 Broadway St\, Detroit\, MI\, 48226\, United States
CATEGORIES:Holiday Raffle,Networking,Tech
ATTACH;FMTTYPE=image/png:https://dpop.nyc3.digitaloceanspaces.com/wp-content/uploads/2023/11/20160011/redwingsgiveaway.png
GEO:42.3358047;-83.048912
X-APPLE-STRUCTURED-LOCATION;VALUE=URI;X-ADDRESS=Detroit Beer Company 1529 Broadway St Detroit MI 48226 United States;X-APPLE-RADIUS=500;X-TITLE=1529 Broadway St:geo:-83.048912,42.3358047
END:VEVENT
BEGIN:VEVENT
DTSTART;TZID=America/Detroit:20231220T200000
DTEND;TZID=America/Detroit:20231220T230000
DTSTAMP:20260422T095416
CREATED:20231122T021959Z
LAST-MODIFIED:20231122T021959Z
UID:10002978-1703102400-1703113200@detroitartdao.com
SUMMARY:Bitcoin & Beer
DESCRIPTION:Networking at Detroit Beer Company every Wednesday. \nCurious or want to learn more about the web3\, blockchain and crypto space? Come have a beer and meet like minded entrepreneurs and tech processionals that’s in the space from Detroit!
URL:https://detroitartdao.com/event/bitcoin-beer-10
LOCATION:Detroit Beer Company\, 1529 Broadway St\, Detroit\, MI\, 48226\, United States
CATEGORIES:Holiday Raffle,Networking,Tech
ATTACH;FMTTYPE=image/png:https://dpop.nyc3.digitaloceanspaces.com/wp-content/uploads/2023/11/20160011/redwingsgiveaway.png
GEO:42.3358047;-83.048912
X-APPLE-STRUCTURED-LOCATION;VALUE=URI;X-ADDRESS=Detroit Beer Company 1529 Broadway St Detroit MI 48226 United States;X-APPLE-RADIUS=500;X-TITLE=1529 Broadway St:geo:-83.048912,42.3358047
END:VEVENT
BEGIN:VEVENT
DTSTART;TZID=America/Detroit:20231227T200000
DTEND;TZID=America/Detroit:20231227T230000
DTSTAMP:20260422T095416
CREATED:20231122T022009Z
LAST-MODIFIED:20231122T022009Z
UID:10002979-1703707200-1703718000@detroitartdao.com
SUMMARY:Bitcoin & Beer
DESCRIPTION:Networking at Detroit Beer Company every Wednesday. \nCurious or want to learn more about the web3\, blockchain and crypto space? Come have a beer and meet like minded entrepreneurs and tech processionals that’s in the space from Detroit!
URL:https://detroitartdao.com/event/bitcoin-beer-11
LOCATION:Detroit Beer Company\, 1529 Broadway St\, Detroit\, MI\, 48226\, United States
CATEGORIES:Holiday Raffle,Networking,Tech
ATTACH;FMTTYPE=image/png:https://dpop.nyc3.digitaloceanspaces.com/wp-content/uploads/2023/11/20160011/redwingsgiveaway.png
GEO:42.3358047;-83.048912
X-APPLE-STRUCTURED-LOCATION;VALUE=URI;X-ADDRESS=Detroit Beer Company 1529 Broadway St Detroit MI 48226 United States;X-APPLE-RADIUS=500;X-TITLE=1529 Broadway St:geo:-83.048912,42.3358047
END:VEVENT
END:VCALENDAR