BEGIN:VCALENDAR
VERSION:2.0
PRODID:-//Discover Detroit Art - ECPv6.0.1//NONSGML v1.0//EN
CALSCALE:GREGORIAN
METHOD:PUBLISH
X-WR-CALNAME:Discover Detroit Art
X-ORIGINAL-URL:https://detroitartdao.com
X-WR-CALDESC:Events for Discover Detroit Art
REFRESH-INTERVAL;VALUE=DURATION:PT1H
X-Robots-Tag:noindex
X-PUBLISHED-TTL:PT1H
BEGIN:VTIMEZONE
TZID:America/Detroit
BEGIN:DAYLIGHT
TZOFFSETFROM:-0500
TZOFFSETTO:-0400
TZNAME:EDT
DTSTART:20230312T070000
END:DAYLIGHT
BEGIN:STANDARD
TZOFFSETFROM:-0400
TZOFFSETTO:-0500
TZNAME:EST
DTSTART:20231105T060000
END:STANDARD
END:VTIMEZONE
BEGIN:VEVENT
DTSTART;TZID=America/Detroit:20231028T140000
DTEND;TZID=America/Detroit:20231028T160000
DTSTAMP:20260423T231431
CREATED:20230928T173137Z
LAST-MODIFIED:20231028T191654Z
UID:10002355-1698501600-1698508800@detroitartdao.com
SUMMARY:Howl-O-Ween Costume Contest Presented by Strategic Staffing Solutions
DESCRIPTION:From silly to scary\, the 10th annual Grand Circus Dog Park Halloween Costume Party is certain to be a howling good time. Join us on Oct. 28 at Grand Circus Park from 2-4 PM. Owners are encouraged to dress their pets to impress for a chance to win a prize in one of these categories: Best Costume\, Scariest Costume\, Most Creative Costume\, and the Best Pet & Parent combination. The annual event will also feature Halloween Themed games and gifts for dogs as well as treats for their parents and DJ spinning tracks. \nAll of this year’s Grand Circus Dog Park events are presented by Strategic Staffing Solutions and supported in part by Michigan Humane and Premier Pet Supply who will be on site with giveaways\, treats and prizes for our contest winners.
URL:https://detroitartdao.com/event/howl-o-ween-costume-contest-presented-by-strategic-staffing-solutions
LOCATION:Grand Circus Park\, 101-157 Witherell St\, Detroit\, MI\, United States
CATEGORIES:Grand Circus Park,Park Events
ATTACH;FMTTYPE=image/jpeg:https://dpop.nyc3.digitaloceanspaces.com/wp-content/uploads/2023/09/28133150/Howloween-scaled-HRC3sm.tmp_.jpg
GEO:42.3367182;-83.0504011
X-APPLE-STRUCTURED-LOCATION;VALUE=URI;X-ADDRESS=Grand Circus Park 101-157 Witherell St Detroit MI United States;X-APPLE-RADIUS=500;X-TITLE=101-157 Witherell St:geo:-83.0504011,42.3367182
END:VEVENT
BEGIN:VEVENT
DTSTART;TZID=America/Detroit:20231028T180000
DTEND;TZID=America/Detroit:20231028T200000
DTSTAMP:20260423T231431
CREATED:20231010T183152Z
LAST-MODIFIED:20231028T191654Z
UID:10002502-1698516000-1698523200@detroitartdao.com
SUMMARY:The Nightmare Before Christmas 30th Anniversary Movie Night
DESCRIPTION:Are you ready for a night of spooky Halloween fun? All of you goblins and ghosts are invited to join us on Friday\, Oct. 27 and Saturday\, Oct. 28 in Beacon Park’s heated tent for the 30th anniversary screening of the Tim Burton classic\, The Nightmare Before Christmas! \n  \nDuring this family-favorite movie night\, guests can enjoy delicious popcorn from our local vendor and refreshing cocktails\, mocktails and craft beer from Lumen Detroit. \n  \nSing along with the Pumpkin King Jack Skellington and get in the Halloween spirit as Jack spreads the joy of Christmas across the land in a frighteningly fun way. \n  \nThis event is FREE and open to the public. \nKey Programming Elements: \n– Popcorn Vendor \n– Heated Tent \n– Lumen cocktails and beer \nThe Nightmare Before Christmas 30th Anniversary Movie Night is presented by DTE Beacon Park Foundation and programmed by the Downtown Detroit Partnership.
URL:https://detroitartdao.com/event/nightmare-before-christmas-30th-anniversary-screening-2
LOCATION:Beacon Park\, 1901 Grand River Ave\, Detroit\, MI\, 48226\, United States
CATEGORIES:Beacon Park,Park Events
ATTACH;FMTTYPE=image/webp:https://dpop.nyc3.digitaloceanspaces.com/wp-content/uploads/2023/10/17150153/TNBC_FB_SocialPost_2.0-scaled-utspRt.tmp_.webp
GEO:42.3345108;-83.054971
X-APPLE-STRUCTURED-LOCATION;VALUE=URI;X-ADDRESS=Beacon Park 1901 Grand River Ave Detroit MI 48226 United States;X-APPLE-RADIUS=500;X-TITLE=1901 Grand River Ave:geo:-83.054971,42.3345108
END:VEVENT
END:VCALENDAR