BEGIN:VCALENDAR
VERSION:2.0
PRODID:-//Discover Detroit Art - ECPv6.0.1//NONSGML v1.0//EN
CALSCALE:GREGORIAN
METHOD:PUBLISH
X-WR-CALNAME:Discover Detroit Art
X-ORIGINAL-URL:https://detroitartdao.com
X-WR-CALDESC:Events for Discover Detroit Art
REFRESH-INTERVAL;VALUE=DURATION:PT1H
X-Robots-Tag:noindex
X-PUBLISHED-TTL:PT1H
BEGIN:VTIMEZONE
TZID:America/Detroit
BEGIN:DAYLIGHT
TZOFFSETFROM:-0500
TZOFFSETTO:-0400
TZNAME:EDT
DTSTART:20240310T070000
END:DAYLIGHT
BEGIN:STANDARD
TZOFFSETFROM:-0400
TZOFFSETTO:-0500
TZNAME:EST
DTSTART:20241103T060000
END:STANDARD
END:VTIMEZONE
BEGIN:VEVENT
DTSTART;VALUE=DATE:20240113
DTEND;VALUE=DATE:20240114
DTSTAMP:20260422T181542
CREATED:20240109T221639Z
LAST-MODIFIED:20240113T221714Z
UID:10007945-1705104000-1705190399@detroitartdao.com
SUMMARY:Downtown Detroit Markets & The Cadillac Lodge
DESCRIPTION:Cadillac Square is the spot to shop this holiday season. Whether you’re window shopping or on a spree\, you can find locally made\, one-of-a-kind gifts from a collection of curated Detroit vendors offering specialty apparel\, accessories\, jewelry\, bath products\, home décor\, children’s toys\, pet goods\, books\, snacks and more in this outdoor marketplace. \nCadillac Square is also home to the Cadillac Lodge. The warm\, cozy and family-friendly gathering space offers an assortment of festive beverages\, toasty treats and more for all to enjoy\, in the comfort and style of a ski lodge setting.   \n  \nDowntown Detroit Markets Hours: \nMonday – Wednesday: Closed\nThursday: 11AM – 7PM\nFriday & Saturday: 11AM – 9PM\nSundays: 11AM – 7PM \n  \nCadillac Lodge Hours:\nMonday – Tuesday: Closed\nWednesday\,Thursday\, Sunday: 11AM – 8PM\nFriday & Saturday: 11AM – 11PM \n  \nDowntown Detroit Market Vendors:\nBags to Butterflies– Fashion with a social mission\, Bags to Butterflies puts the “purpose” in “repurpose.” The brand empowers and trains formerly incarcerated women to craft luxurious\, sustainable bags out of repurposed wood. The cross-bodies\, handbags and other accessories reflect the stories and transformations of the women who skillfully handcraft them. \nTwo Stix 5 Stones– With a focus on texture and color\, Two Stix 5 Stones specializes in funky-chic knitwear for people and pets. Each freehand design uses the highest-quality and ethically sourced wool\, cashmere\, silk\, merino\, cotton\, rayon and alpaca. The hand-crafted knitted accessories include hats\, shawls\, headbands\, gloves\, mittens\, scarves and pet sweaters. Two Stix 5 Stones has been featured by Detroit Institute of Arts as part of the “30 Americans” exhibition. \nHalie & Co.– Using solid gold and sterling silver\, designer Halie Conyers handcrafts high-quality (and budget-friendly) jewelry such as rings\, necklaces\, earrings\, and—if you’re not afraid of commitment—permanent bracelets sized and welded to fit each customer. But it doesn’t stop at jewelry and gemstones…Halie & Co. also offers hand-poured candles\, diffusers\, and other home décor. \nThe Brave Wimp– The Brave Wimp is here to help you find pride in being YOU! Their handmade\, eco-conscious\, pop art wearables and home goods incorporate empowering messages and imagery to celebrate diversity\, inclusivity and community. From graphic T-shirts\, to handcrafted wood jewelry and all-natural candles\, some of the messages include: “Empowered Women Empower the World\,” “There is Power in Kindness\,” and “Be Kind. Be Brave. Be You.” \nAriya’s Apparel and Accessories– Ariya’s Apparel and Accessories is a boutique that caters to women 35+ with modest and modern fashion. With a personal desire to dress demure\, yet stylish\, owner Akeya Muhammad carefully curates each item including dresses\, tops\, bottoms\, sets\, outerwear\, scarves\, jewelry and handbags. Her goal is to provide her humble\, haute designs to women across the country. \nASTOURI– Born out of the love of where we live\, ASTOURI apparel and accessories features iconic and artistically licensed photography. With a focus on community pride\, femininity and functional style\, more than 90% of ASTOURI products\, including scarves\, eye masks\, skirts\, ponchos\, kimonos\, dusters\, dresses\, sweatshirts\, wraps and shawls are made in the U.S. by female-owned-and-operated manufacturers. \nVerbatim-– Inspired by poetry\, art and style\, Verbatim’s apparel is designed to validate the Black and female experience\, educate others\, start conversations\, and break barriers—all while keeping customers looking fresh. The Royal T collection includes T-shirts and sweatshirts with empowering messages such as\, “…I am worthy to be loved\,” “Ballroom history is Black history\,” and “Compromise…for what?” The brand also sells beanies\, scarves and other accessories. \nMine.” She also sells merchandise including socks\, lunchboxes\, pajamas\, backpacks\, tote bags\, T-shirts and puzzles that are all custom-made and gender neutral. \nJanna Kay Charcuterie Boards and Boxes– Whether it’s a full spread or a charcuterie box to-go\, Janna Kay Charcuterie Boards and Boxes is a one-stop shop for hosting an event. The catering company serves both private and corporate clients and sells charcuterie accessories\, stemware and other home goods necessary for entertaining as the host(ess) with the most(est). \nFOLK– Located in historic Corktown\, FOLK offers biodynamic wines\, specialty coffee\, catering and a private event space. FOLK sources from minority creators and spotlights high-quality food\, beverages and giftable items such as candles\, beanies\, tote bags\, books\, tableware\, linens\, jams\, honey\, oils\, cookies\, chocolates and treat nuts. \nWaffle Cabin– If you have a sweet tooth\, this one’s for you! Waffle Cabin is a food truck that specializes in (you guessed it!) authentic made-to-order Belgian dessert waffles with toppings including chocolate\, caramel\, ice cream\, marshmallows\, cookies\, candy and more. They will also have soda and water for sale\, along with waffle swag like stickers and T-shirts. The delightful aroma of the fresh waffles\, however\, comes free! \nOpal Grove Games– Do you want to play a game? Well\, Opal Grove Games has just about every type of game imaginable\, with a mission to build the most fun\, inclusive and inventive board game store ever. They carry party games\, board games\, card games\, tactics games\, role-playing games and all the necessary accessories. Additionally\, owners Aisha Blake and Ben Lippi love teaching\, and offer gaming workshops and open game nights. \nSpeedcult– A metal art fabrication company\, Speedcult has been licensed with Ford\, General Motors and Fiat Chrysler Automobiles (FCA) to create home\, garage and business décor using their official logos. They also specialize in original art featuring skulls\, critters\, monsters\, aliens\, hot rod and rat rod lingo\, all things Detroit and far beyond. In addition to the metal art\, the shop also sells T-shirts\, blankets\, hats and beer koozies. \nRosemarine Textiles– With sustainability at the forefront of everything they do\, Rosemarine Textiles is a home goods and accessories brand. All their products are created in their Detroit studio using natural fibers\, low-waste production methods\, food waste materials\, plant dyes and love. Some of their items include velvet throw pillows\, silk scrunchies and ribbons\, cotton socks and bandanas\, linens\, bucket hats\, clothing and more. \n 
URL:https://detroitartdao.com/event/downtown-detroit-markets-the-cadillac-lodge-49
LOCATION:MI
CATEGORIES:Cadillac Square,Park Events
ATTACH;FMTTYPE=image/jpeg:https://dpop.nyc3.digitaloceanspaces.com/wp-content/uploads/2023/10/24151649/Downtown-Detroit-Markets-scaled-tBRnMF.tmp_.jpg
END:VEVENT
END:VCALENDAR