BEGIN:VCALENDAR
VERSION:2.0
PRODID:-//Discover Detroit Art - ECPv6.0.1//NONSGML v1.0//EN
CALSCALE:GREGORIAN
METHOD:PUBLISH
X-WR-CALNAME:Discover Detroit Art
X-ORIGINAL-URL:https://detroitartdao.com
X-WR-CALDESC:Events for Discover Detroit Art
REFRESH-INTERVAL;VALUE=DURATION:PT1H
X-Robots-Tag:noindex
X-PUBLISHED-TTL:PT1H
BEGIN:VTIMEZONE
TZID:America/Detroit
BEGIN:DAYLIGHT
TZOFFSETFROM:-0500
TZOFFSETTO:-0400
TZNAME:EDT
DTSTART:20240310T070000
END:DAYLIGHT
BEGIN:STANDARD
TZOFFSETFROM:-0400
TZOFFSETTO:-0500
TZNAME:EST
DTSTART:20241103T060000
END:STANDARD
END:VTIMEZONE
BEGIN:VEVENT
DTSTART;TZID=America/Detroit:20240214T180000
DTEND;TZID=America/Detroit:20240214T210000
DTSTAMP:20260422T211659
CREATED:20240131T231637Z
LAST-MODIFIED:20240214T113137Z
UID:10008128-1707933600-1707944400@detroitartdao.com
SUMMARY:Sweetheart Skate
DESCRIPTION:Love will be in the air at Campus Martius Park this Valentine’s Day. Treat your special someone to a night under the lights during the Sweetheart Skate on Feb. 14 at The Rink at Campus Martius Park presented by Visit Detroit. Starting at 6 p.m. and lasting until 9 p.m.\, The Rink will dial up the romance and fun with themed lighting as well as feel-good ballads and classic love songs playing overhead. All are welcome to join this unique celebration of love in the heart of downtown Detroit. \nSkaters will also have a chance to win tickets to upcoming shows courtesy of Broadway in Detroit! So\, grab a significant other\, grab your gal pals\, or come by yourself! We will see you at Campus Martius Park on Feb. 14th. \n  \nRINK PRICING:\nADULT ADMISSION………………………..$12 \nCHILD ADMISSION………………………….$9 \nACTIVE MILITARY…………………………..$8 \nFIRST RESPONDER…………………………$8 \n59+ SENIORS………………………………….$9 \nSKATE RENTAL………………………………$6 \nPre-purchase tickets at:  downtowndetroit.org/experience-downtown/things-to-do/the-rink/\nFOR QUESTIONS OR GROUP RATES CALL 313.963.9393 \n 
URL:https://detroitartdao.com/event/sweetheart-skate
LOCATION:Campus Martius
CATEGORIES:Campus Martius,Park Events
ATTACH;FMTTYPE=image/jpeg:https://dpop.nyc3.digitaloceanspaces.com/wp-content/uploads/2024/01/31181643/Koss_DDP_Sweatheart_Skate_20200215_Selections_Web-5-lxa7lY.tmp_.jpg
GEO:42.3315634;-83.0468355
END:VEVENT
END:VCALENDAR