BEGIN:VCALENDAR
VERSION:2.0
PRODID:-//Discover Detroit Art - ECPv6.0.1//NONSGML v1.0//EN
CALSCALE:GREGORIAN
METHOD:PUBLISH
X-ORIGINAL-URL:https://detroitartdao.com
X-WR-CALDESC:Events for Discover Detroit Art
REFRESH-INTERVAL;VALUE=DURATION:PT1H
X-Robots-Tag:noindex
X-PUBLISHED-TTL:PT1H
BEGIN:VTIMEZONE
TZID:America/Detroit
BEGIN:DAYLIGHT
TZOFFSETFROM:-0500
TZOFFSETTO:-0400
TZNAME:EDT
DTSTART:20260308T070000
END:DAYLIGHT
BEGIN:STANDARD
TZOFFSETFROM:-0400
TZOFFSETTO:-0500
TZNAME:EST
DTSTART:20261101T060000
END:STANDARD
END:VTIMEZONE
BEGIN:VEVENT
DTSTART;VALUE=DATE:20260104
DTEND;VALUE=DATE:20260105
DTSTAMP:20260422T202334
CREATED:20251205T214709Z
LAST-MODIFIED:20260104T140137Z
UID:10016367-1767484800-1767571199@detroitartdao.com
SUMMARY:Downtown Detroit Markets & The Cadillac Lodge
DESCRIPTION:Cadillac Square is the spot to shop this holiday season. Whether you are browsing or on a gift-hunting spree\, discover locally made\, one-of-a-kind treasures from a curated collection of Detroit vendors. Find specialty apparel\, accessories\, jewelry\, bath and skincare products\, unique home décor\, children’s toys\, pet goods\, books\, snacks and more\, all crafted with care and perfect for holiday gifting.  \n  \nDowntown Detroit Market Vendors:  \n-Asher & Arnold  \n-Bespoke By Feldman  \n-Big Mitten Linocuts  \n-Bleu Bowtique  \n-BrownieDr  \n-Detroit Can Company  \n-Fat George’s  \n-Inkcourage  \n-Lady Barkleys   \n-Love Travels Imports  \n-Mimidae Beverage Co.  \n-Not Sorry Goods  \n-Opal Grove Games  \n-Scentana Candle Co  \n-SkinCare SocialClub  \n-The Coloring Museum   \n-Waffle Cabin  \n-Yarn Nerds  \n  \nMarket Hours of operation:  \nMonday & Tuesday: Closed\, except for 12/15\, 12/16\, 12/22\, & 12/23 \nWednesday & Thursday: 11 am – 8 pm  \nFriday & Saturday: 11 am – 10 pm  \nSunday: 11 am – 7 pm  \n  \nMarket Holiday hours:  \nThanksgiving Day: Optional hours of 8am – 3pm  \nChristmas Eve: 11 am – 4pm  \nChristmas Day: Closed  \nNew Year’s Eve: 11 am – 10 pm  \nNew Year’s Day: Closed  \n  \n \n  \nCadillac Square is also home to the Cadillac Lodge\, operated by Continental. This cozy winter retreat will be open through Jan. 4\, 2026. It offers a warm\, family-friendly atmosphere where guests can enjoy sliders\, nachos\, a new kids’ menu and other festive favorites\, creating the perfect spot to gather\, relax and make memories this holiday season.  \nCadillac Lodge Days of Operation:\nMonday – Tuesday: Closed (except OPEN on 12/15\, 12/16\, 12/22\, 12/23 – 11a-8p)\nWednesday – Thursday: 11a – 8p\nFriday – Saturday: 11a – 11p\nSunday: 11a – 9p\n  \nCadillac Lodge Holiday Hours:\nThanksgiving: 8a – 2p\nChristmas Eve: 11a – 4p\nChristmas Day: CLOSED\nNew Year’s Eve: 11a – 10p  \nNew Year’s Day: 11a — 10p  \n  \nFor more information or specfics for the Downtown Detroit Markets and/or Cadillac Lodge visit: https://www.deckedoutdetroit.com/
URL:https://detroitartdao.com/event/downtown-detroit-markets-the-cadillac-lodge-157
LOCATION:Cadillac Square\, 662 Woodward Ave\, Detroit\, MI\, 48226\, United States
CATEGORIES:Cadillac Square,Park Events
ATTACH;FMTTYPE=image/jpeg:https://dpop.nyc3.digitaloceanspaces.com/wp-content/uploads/2025/11/06094648/Markets-scaled-9csl2m.tmp_.jpg
GEO:42.331269;-83.0458993
X-APPLE-STRUCTURED-LOCATION;VALUE=URI;X-ADDRESS=Cadillac Square 662 Woodward Ave Detroit MI 48226 United States;X-APPLE-RADIUS=500;X-TITLE=662 Woodward Ave:geo:-83.0458993,42.331269
END:VEVENT
BEGIN:VEVENT
DTSTART;TZID=America/Detroit:20260104T060000
DTEND;TZID=America/Detroit:20260104T220000
DTSTAMP:20260422T202334
CREATED:20251205T214820Z
LAST-MODIFIED:20260104T140138Z
UID:10016368-1767506400-1767564000@detroitartdao.com
SUMMARY:Candyland at Beacon Park
DESCRIPTION:Starting Nov. 21 through Jan. 20\, step into the magical world of Candyland! From 6 a.m. to 10 p.m. daily\, experience larger-than-life light installations\, a giant gingerbread house and whimsical holiday figures — it’s a glowing wonderland right in the heart of the city.  \n  \nWith multiple photo-worthy winter backdrops\, we encourage visitors to take photos and share them on social media! Make sure to tag Beacon Park using @beaconparkdetroit so we can all enjoy the holiday season together.  \nThis installation is FREE and open to the public.  \n  \nHOLIDAY LIGHTING FEATURES  \n– Giant-sized Gingerbread House  \n– Full-size Gingerbread Men  \n– Walk through Candy Cane Arch  \n– Large Candy Canes\, Cupcakes and Candy Swirls  \n– Walkthrough Snowflake  \n– Seasonal and Holiday-Themed Photo Display Areas  \n– LED Light Canopy  \n– Themed Pole Décor  \n  \nEnjoy the view with seasonal cuisine and cocktails by making a reservation at Lumen Detroit.   \nLocated right beside the Candyland display\, it offers private seating and cozy dining options.  \n  \nMake a reservation at Lumen Detroit: https://bit.ly/4n08KEU   \n  \nFor more information about Beacon Park and Lumen restaurant\, please visit:  \nwww.DTEBeaconPark.com or www.LumenDetroit.com  \n  \nCandyland at Beacon Park is made possible by the DTE Beacon Park Foundation and programmed by The Downtown Detroit Partnership.
URL:https://detroitartdao.com/event/candyland-at-beacon-park-45
LOCATION:Beacon Park\, 1901 Grand River Ave\, Detroit\, MI\, 48226\, United States
CATEGORIES:Beacon Park,Free Event,Park Events
ATTACH;FMTTYPE=image/jpeg:https://dpop.nyc3.digitaloceanspaces.com/wp-content/uploads/2025/11/06094713/Candyland-scaled-W1wenw.tmp_.jpg
GEO:42.3345108;-83.054971
X-APPLE-STRUCTURED-LOCATION;VALUE=URI;X-ADDRESS=Beacon Park 1901 Grand River Ave Detroit MI 48226 United States;X-APPLE-RADIUS=500;X-TITLE=1901 Grand River Ave:geo:-83.054971,42.3345108
END:VEVENT
END:VCALENDAR