BEGIN:VCALENDAR
VERSION:2.0
PRODID:-//Discover Detroit Art - ECPv6.0.1//NONSGML v1.0//EN
CALSCALE:GREGORIAN
METHOD:PUBLISH
X-WR-CALNAME:Discover Detroit Art
X-ORIGINAL-URL:https://detroitartdao.com
X-WR-CALDESC:Events for Discover Detroit Art
REFRESH-INTERVAL;VALUE=DURATION:PT1H
X-Robots-Tag:noindex
X-PUBLISHED-TTL:PT1H
BEGIN:VTIMEZONE
TZID:America/Detroit
BEGIN:DAYLIGHT
TZOFFSETFROM:-0500
TZOFFSETTO:-0400
TZNAME:EDT
DTSTART:20260308T070000
END:DAYLIGHT
BEGIN:STANDARD
TZOFFSETFROM:-0400
TZOFFSETTO:-0500
TZNAME:EST
DTSTART:20261101T060000
END:STANDARD
END:VTIMEZONE
BEGIN:VEVENT
DTSTART;TZID=America/Detroit:20260214T180000
DTEND;TZID=America/Detroit:20260214T210000
DTSTAMP:20260421T115514
CREATED:20260115T143313Z
LAST-MODIFIED:20260214T160136Z
UID:10016734-1771092000-1771102800@detroitartdao.com
SUMMARY:Valentine’s Day Sweetheart Skate
DESCRIPTION:Fall in love with Downtown Detroit this Valentine’s Day during our Sweetheart Skate presented by Bank of America on Feb. 14 from 6 to 9 p.m. at The Rink at Campus Martius Park presented by Lexus. Glide hand in hand under twinkling lights\, sway to feel good love songs spun by DJ Stacyé J and make memories at USA Today 10Best’s No. 1 rink in the U.S. for two years in a row. Plus\, enjoy chances to score giveaways that might make your night even sweeter\, including a complimentary hot cocoa voucher courtesy of Bank of America and concert tickets courtesy of Live Nation. Giveaway prizes include a pair of tickets to see Miguel: CAOS Tour at FOX Theatre on Feb. 26\, Demi Lovato: It’s Not That Deep Tour at Little Caesars Arena on April 29 and Josh Groban with special guest Jennifer Hudson at Little Caesars Arena on June 25. Whether you’re skating with your sweetheart\, your bestie or your whole crew\, everyone’s invited to share the love in the heart of downtown Detroit. \n\nvar exampleCallback=function(){console.log(‘Order complete!’)};window.EBWidgets.createWidget({widgetType:’checkout’\,eventId:’1981862503097′\,iframeContainerId:’eventbrite-widget-container-1981862503097′\,iframeContainerHeight:425\,onOrderComplete:exampleCallback}); \n  \nSee pricing and get tickets in advance at: DowntownDetroit.org/TheRink
URL:https://detroitartdao.com/event/valentines-day-sweetheart-skate-2
LOCATION:Campus Martius Park
CATEGORIES:Campus Martius,Park Events
ATTACH;FMTTYPE=image/png:https://dpop.nyc3.digitaloceanspaces.com/wp-content/uploads/2026/01/30101711/Sweetheart-Skate_1920x1080.v2-1-Dujied.tmp_.png
GEO:42.3314128;-83.0465629
END:VEVENT
END:VCALENDAR