BEGIN:VCALENDAR
VERSION:2.0
PRODID:-//Discover Detroit Art - ECPv6.0.1//NONSGML v1.0//EN
CALSCALE:GREGORIAN
METHOD:PUBLISH
X-ORIGINAL-URL:https://detroitartdao.com
X-WR-CALDESC:Events for Discover Detroit Art
REFRESH-INTERVAL;VALUE=DURATION:PT1H
X-Robots-Tag:noindex
X-PUBLISHED-TTL:PT1H
BEGIN:VTIMEZONE
TZID:America/Detroit
BEGIN:DAYLIGHT
TZOFFSETFROM:-0500
TZOFFSETTO:-0400
TZNAME:EDT
DTSTART:20230312T070000
END:DAYLIGHT
BEGIN:STANDARD
TZOFFSETFROM:-0400
TZOFFSETTO:-0500
TZNAME:EST
DTSTART:20231105T060000
END:STANDARD
BEGIN:DAYLIGHT
TZOFFSETFROM:-0500
TZOFFSETTO:-0400
TZNAME:EDT
DTSTART:20240310T070000
END:DAYLIGHT
BEGIN:STANDARD
TZOFFSETFROM:-0400
TZOFFSETTO:-0500
TZNAME:EST
DTSTART:20241103T060000
END:STANDARD
BEGIN:DAYLIGHT
TZOFFSETFROM:-0500
TZOFFSETTO:-0400
TZNAME:EDT
DTSTART:20250309T070000
END:DAYLIGHT
BEGIN:STANDARD
TZOFFSETFROM:-0400
TZOFFSETTO:-0500
TZNAME:EST
DTSTART:20251102T060000
END:STANDARD
END:VTIMEZONE
BEGIN:VEVENT
DTSTART;TZID=America/Detroit:20250428T120000
DTEND;TZID=America/Detroit:20250428T160000
DTSTAMP:20260423T002909
CREATED:20250125T023146Z
LAST-MODIFIED:20250428T194635Z
UID:10011959-1745841600-1745856000@detroitartdao.com
SUMMARY:Maptime Winter 2025
DESCRIPTION:Join a community of learners making maps together. Students\, faculty\, and community members welcome! Free coffee & snacks.
URL:https://detroitartdao.com/event/maptime-winter-2025-14
LOCATION:Prentis Building\, 5201 Cass Avenue\, Detroit\, MI\, 48202\, United States
CATEGORIES:Real Estate
ATTACH;FMTTYPE=image/jpeg:https://dpop.nyc3.digitaloceanspaces.com/wp-content/uploads/2025/01/24213144/40fd096604cec522a201abcdf95df20a-1.jpg
GEO:42.3579922;-83.0682345
X-APPLE-STRUCTURED-LOCATION;VALUE=URI;X-ADDRESS=Prentis Building 5201 Cass Avenue Detroit MI 48202 United States;X-APPLE-RADIUS=500;X-TITLE=5201 Cass Avenue:geo:-83.0682345,42.3579922
END:VEVENT
BEGIN:VEVENT
DTSTART;TZID=America/Detroit:20250421T120000
DTEND;TZID=America/Detroit:20250421T160000
DTSTAMP:20260423T002909
CREATED:20250125T023145Z
LAST-MODIFIED:20250421T184634Z
UID:10011958-1745236800-1745251200@detroitartdao.com
SUMMARY:Maptime Winter 2025
DESCRIPTION:Join a community of learners making maps together. Students\, faculty\, and community members welcome! Free coffee & snacks.
URL:https://detroitartdao.com/event/maptime-winter-2025-13
LOCATION:Prentis Building\, 5201 Cass Avenue\, Detroit\, MI\, 48202\, United States
CATEGORIES:Real Estate
ATTACH;FMTTYPE=image/jpeg:https://dpop.nyc3.digitaloceanspaces.com/wp-content/uploads/2025/01/24213144/40fd096604cec522a201abcdf95df20a-1.jpg
GEO:42.3579922;-83.0682345
X-APPLE-STRUCTURED-LOCATION;VALUE=URI;X-ADDRESS=Prentis Building 5201 Cass Avenue Detroit MI 48202 United States;X-APPLE-RADIUS=500;X-TITLE=5201 Cass Avenue:geo:-83.0682345,42.3579922
END:VEVENT
BEGIN:VEVENT
DTSTART;TZID=America/Detroit:20250414T120000
DTEND;TZID=America/Detroit:20250414T160000
DTSTAMP:20260423T002909
CREATED:20250125T023145Z
LAST-MODIFIED:20250414T181632Z
UID:10011957-1744632000-1744646400@detroitartdao.com
SUMMARY:Maptime Winter 2025
DESCRIPTION:Join a community of learners making maps together. Students\, faculty\, and community members welcome! Free coffee & snacks.
URL:https://detroitartdao.com/event/maptime-winter-2025-12
LOCATION:Prentis Building\, 5201 Cass Avenue\, Detroit\, MI\, 48202\, United States
CATEGORIES:Real Estate
ATTACH;FMTTYPE=image/jpeg:https://dpop.nyc3.digitaloceanspaces.com/wp-content/uploads/2025/01/24213144/40fd096604cec522a201abcdf95df20a-1.jpg
GEO:42.3579922;-83.0682345
X-APPLE-STRUCTURED-LOCATION;VALUE=URI;X-ADDRESS=Prentis Building 5201 Cass Avenue Detroit MI 48202 United States;X-APPLE-RADIUS=500;X-TITLE=5201 Cass Avenue:geo:-83.0682345,42.3579922
END:VEVENT
BEGIN:VEVENT
DTSTART;TZID=America/Detroit:20250411T123000
DTEND;TZID=America/Detroit:20250411T133000
DTSTAMP:20260423T002909
CREATED:20250328T144635Z
LAST-MODIFIED:20250411T180137Z
UID:10012543-1744374600-1744378200@detroitartdao.com
SUMMARY:Data Forum: SOTC by the Numbers
DESCRIPTION:Join us for our Data Forum where we will explore themes from the Mayor’s State of the City address and the data points within them\n\n\nData Forum: State of the City by the Numbers \nWelcome to our Data Forum where we willexplore themes from the Mayor’s State of the City address and the data points within them. Join us online for lunch-and-learn filled with insightful discussions\, tips\, and tricks on all things related to the data. \nWe’ll be joined by the Detroit Next podcast team\, Bryce Huffman and Malachi Barrett\, both from Bridge Detroit and Data Analyst\, Ted Tansley. \nDon’t miss out on this opportunity to connect with fellow data enthusiasts and expand your knowledge.
URL:https://detroitartdao.com/event/data-forum-sotc-by-the-numbers
LOCATION:MI
CATEGORIES:Real Estate
ATTACH;FMTTYPE=image/jpeg:https://dpop.nyc3.digitaloceanspaces.com/wp-content/uploads/2025/03/28104636/068495f3c443ca850a6631d4c87d7efc.jpg
END:VEVENT
BEGIN:VEVENT
DTSTART;TZID=America/Detroit:20250407T120000
DTEND;TZID=America/Detroit:20250407T160000
DTSTAMP:20260423T002909
CREATED:20250125T023145Z
LAST-MODIFIED:20250407T171638Z
UID:10011956-1744027200-1744041600@detroitartdao.com
SUMMARY:Maptime Winter 2025
DESCRIPTION:Join a community of learners making maps together. Students\, faculty\, and community members welcome! Free coffee & snacks.
URL:https://detroitartdao.com/event/maptime-winter-2025-11
LOCATION:Prentis Building\, 5201 Cass Avenue\, Detroit\, MI\, 48202\, United States
CATEGORIES:Real Estate
ATTACH;FMTTYPE=image/jpeg:https://dpop.nyc3.digitaloceanspaces.com/wp-content/uploads/2025/01/24213144/40fd096604cec522a201abcdf95df20a-1.jpg
GEO:42.3579922;-83.0682345
X-APPLE-STRUCTURED-LOCATION;VALUE=URI;X-ADDRESS=Prentis Building 5201 Cass Avenue Detroit MI 48202 United States;X-APPLE-RADIUS=500;X-TITLE=5201 Cass Avenue:geo:-83.0682345,42.3579922
END:VEVENT
BEGIN:VEVENT
DTSTART;TZID=America/Detroit:20250331T120000
DTEND;TZID=America/Detroit:20250331T160000
DTSTAMP:20260423T002909
CREATED:20250125T023145Z
LAST-MODIFIED:20250331T150140Z
UID:10011955-1743422400-1743436800@detroitartdao.com
SUMMARY:Maptime Winter 2025
DESCRIPTION:Join a community of learners making maps together. Students\, faculty\, and community members welcome! Free coffee & snacks.
URL:https://detroitartdao.com/event/maptime-winter-2025-10
LOCATION:Prentis Building\, 5201 Cass Avenue\, Detroit\, MI\, 48202\, United States
CATEGORIES:Real Estate
ATTACH;FMTTYPE=image/jpeg:https://dpop.nyc3.digitaloceanspaces.com/wp-content/uploads/2025/01/24213144/40fd096604cec522a201abcdf95df20a-1.jpg
GEO:42.3579922;-83.0682345
X-APPLE-STRUCTURED-LOCATION;VALUE=URI;X-ADDRESS=Prentis Building 5201 Cass Avenue Detroit MI 48202 United States;X-APPLE-RADIUS=500;X-TITLE=5201 Cass Avenue:geo:-83.0682345,42.3579922
END:VEVENT
BEGIN:VEVENT
DTSTART;TZID=America/Detroit:20250326T120000
DTEND;TZID=America/Detroit:20250326T140000
DTSTAMP:20260423T002909
CREATED:20250308T110143Z
LAST-MODIFIED:20250326T144640Z
UID:10012374-1742990400-1742997600@detroitartdao.com
SUMMARY:AAG Maptime
DESCRIPTION:In town for AAG 2025? Join our community of map makers. Students\, faculty\, and community members welcome! Free coffee & snacks.
URL:https://detroitartdao.com/event/aag-maptime-2
LOCATION:Prentis Building\, 5201 Cass Avenue\, Detroit\, MI\, 48202\, United States
CATEGORIES:Real Estate
ATTACH;FMTTYPE=image/jpeg:https://dpop.nyc3.digitaloceanspaces.com/wp-content/uploads/2025/03/08060142/654d08a45332c96483468c69513b3e56.jpg
GEO:42.3579922;-83.0682345
X-APPLE-STRUCTURED-LOCATION;VALUE=URI;X-ADDRESS=Prentis Building 5201 Cass Avenue Detroit MI 48202 United States;X-APPLE-RADIUS=500;X-TITLE=5201 Cass Avenue:geo:-83.0682345,42.3579922
END:VEVENT
BEGIN:VEVENT
DTSTART;TZID=America/Detroit:20250324T120000
DTEND;TZID=America/Detroit:20250325T020000
DTSTAMP:20260423T002909
CREATED:20250308T110141Z
LAST-MODIFIED:20250324T133140Z
UID:10012373-1742817600-1742868000@detroitartdao.com
SUMMARY:AAG Maptime
DESCRIPTION:In town for AAG 2025? Join our community of map makers. Students\, faculty\, and community members welcome! Free coffee & snacks.
URL:https://detroitartdao.com/event/aag-maptime
LOCATION:Prentis Building\, 5201 Cass Avenue\, Detroit\, MI\, 48202\, United States
CATEGORIES:Real Estate
ATTACH;FMTTYPE=image/jpeg:https://dpop.nyc3.digitaloceanspaces.com/wp-content/uploads/2025/03/08060142/654d08a45332c96483468c69513b3e56.jpg
GEO:42.3579922;-83.0682345
X-APPLE-STRUCTURED-LOCATION;VALUE=URI;X-ADDRESS=Prentis Building 5201 Cass Avenue Detroit MI 48202 United States;X-APPLE-RADIUS=500;X-TITLE=5201 Cass Avenue:geo:-83.0682345,42.3579922
END:VEVENT
BEGIN:VEVENT
DTSTART;TZID=America/Detroit:20250324T120000
DTEND;TZID=America/Detroit:20250324T160000
DTSTAMP:20260423T002909
CREATED:20250125T023144Z
LAST-MODIFIED:20250324T133138Z
UID:10011954-1742817600-1742832000@detroitartdao.com
SUMMARY:Maptime Winter 2025
DESCRIPTION:Join a community of learners making maps together. Students\, faculty\, and community members welcome! Free coffee & snacks.
URL:https://detroitartdao.com/event/maptime-winter-2025-9
LOCATION:Prentis Building\, 5201 Cass Avenue\, Detroit\, MI\, 48202\, United States
CATEGORIES:Real Estate
ATTACH;FMTTYPE=image/jpeg:https://dpop.nyc3.digitaloceanspaces.com/wp-content/uploads/2025/01/24213144/40fd096604cec522a201abcdf95df20a-1.jpg
GEO:42.3579922;-83.0682345
X-APPLE-STRUCTURED-LOCATION;VALUE=URI;X-ADDRESS=Prentis Building 5201 Cass Avenue Detroit MI 48202 United States;X-APPLE-RADIUS=500;X-TITLE=5201 Cass Avenue:geo:-83.0682345,42.3579922
END:VEVENT
BEGIN:VEVENT
DTSTART;TZID=America/Detroit:20250317T120000
DTEND;TZID=America/Detroit:20250317T160000
DTSTAMP:20260423T002909
CREATED:20250125T023144Z
LAST-MODIFIED:20250317T123139Z
UID:10011953-1742212800-1742227200@detroitartdao.com
SUMMARY:Maptime Winter 2025
DESCRIPTION:Join a community of learners making maps together. Students\, faculty\, and community members welcome! Free coffee & snacks.
URL:https://detroitartdao.com/event/maptime-winter-2025-8
LOCATION:Prentis Building\, 5201 Cass Avenue\, Detroit\, MI\, 48202\, United States
CATEGORIES:Real Estate
ATTACH;FMTTYPE=image/jpeg:https://dpop.nyc3.digitaloceanspaces.com/wp-content/uploads/2025/01/24213144/40fd096604cec522a201abcdf95df20a-1.jpg
GEO:42.3579922;-83.0682345
X-APPLE-STRUCTURED-LOCATION;VALUE=URI;X-ADDRESS=Prentis Building 5201 Cass Avenue Detroit MI 48202 United States;X-APPLE-RADIUS=500;X-TITLE=5201 Cass Avenue:geo:-83.0682345,42.3579922
END:VEVENT
BEGIN:VEVENT
DTSTART;TZID=America/Detroit:20250314T123000
DTEND;TZID=America/Detroit:20250314T133000
DTSTAMP:20260423T002909
CREATED:20250307T110140Z
LAST-MODIFIED:20250314T120138Z
UID:10012372-1741955400-1741959000@detroitartdao.com
SUMMARY:Data Forum: Air Quality Tracking
DESCRIPTION:Join us for our Data Forum where we will dig into the air quality data and community efforts to address\n\n\nData Forum: Air Quality Tracking \nWelcome to our Data Forum where we will explore the air quality data and community efforts to address the impacts. Join us online for lunch-and-learn filled with insightful discussions\, tips\, and tricks on all things related to foreclosure data. \nWe’ll be joined by owner of Darren Riley from JustAir Co\, Nina Ignaczak working with Planet Detroit\, and Jeff Gearhart from the Ecology Center. \nDon’t miss out on this opportunity to connect with fellow data enthusiasts and expand your knowledge in this critical area.
URL:https://detroitartdao.com/event/data-forum-air-quality-tracking
LOCATION:MI
CATEGORIES:Real Estate
ATTACH;FMTTYPE=image/jpeg:https://dpop.nyc3.digitaloceanspaces.com/wp-content/uploads/2025/03/07060141/a5a2e7ff5f90c0255ac291595a58b678.jpg
END:VEVENT
BEGIN:VEVENT
DTSTART;TZID=America/Detroit:20250310T120000
DTEND;TZID=America/Detroit:20250310T160000
DTSTAMP:20260423T002909
CREATED:20250125T023144Z
LAST-MODIFIED:20250310T110140Z
UID:10011952-1741608000-1741622400@detroitartdao.com
SUMMARY:Maptime Winter 2025
DESCRIPTION:Join a community of learners making maps together. Students\, faculty\, and community members welcome! Free coffee & snacks.
URL:https://detroitartdao.com/event/maptime-winter-2025-7
LOCATION:Prentis Building\, 5201 Cass Avenue\, Detroit\, MI\, 48202\, United States
CATEGORIES:Real Estate
ATTACH;FMTTYPE=image/jpeg:https://dpop.nyc3.digitaloceanspaces.com/wp-content/uploads/2025/01/24213144/40fd096604cec522a201abcdf95df20a-1.jpg
GEO:42.3579922;-83.0682345
X-APPLE-STRUCTURED-LOCATION;VALUE=URI;X-ADDRESS=Prentis Building 5201 Cass Avenue Detroit MI 48202 United States;X-APPLE-RADIUS=500;X-TITLE=5201 Cass Avenue:geo:-83.0682345,42.3579922
END:VEVENT
BEGIN:VEVENT
DTSTART;TZID=America/Detroit:20250303T120000
DTEND;TZID=America/Detroit:20250303T160000
DTSTAMP:20260423T002909
CREATED:20250125T023144Z
LAST-MODIFIED:20250303T103144Z
UID:10011951-1741003200-1741017600@detroitartdao.com
SUMMARY:Maptime Winter 2025
DESCRIPTION:Join a community of learners making maps together. Students\, faculty\, and community members welcome! Free coffee & snacks.
URL:https://detroitartdao.com/event/maptime-winter-2025-6
LOCATION:Prentis Building\, 5201 Cass Avenue\, Detroit\, MI\, 48202\, United States
CATEGORIES:Real Estate
ATTACH;FMTTYPE=image/jpeg:https://dpop.nyc3.digitaloceanspaces.com/wp-content/uploads/2025/01/24213144/40fd096604cec522a201abcdf95df20a-1.jpg
GEO:42.3579922;-83.0682345
X-APPLE-STRUCTURED-LOCATION;VALUE=URI;X-ADDRESS=Prentis Building 5201 Cass Avenue Detroit MI 48202 United States;X-APPLE-RADIUS=500;X-TITLE=5201 Cass Avenue:geo:-83.0682345,42.3579922
END:VEVENT
BEGIN:VEVENT
DTSTART;TZID=America/Detroit:20250228T123000
DTEND;TZID=America/Detroit:20250228T133000
DTSTAMP:20260423T002909
CREATED:20250213T080137Z
LAST-MODIFIED:20250228T094650Z
UID:10012163-1740745800-1740749400@detroitartdao.com
SUMMARY:Data Forum: Foreclosure and Tax Windfalls
DESCRIPTION:Join us for our Data Forum where we will dig into the Wayne County Tax Foreclosure Auction and community efforts to address\n\n\nData Forum: Foreclosure and Tax Windfalls \nWelcome to our Data Forum where we will explore the Wayne County Tax Foreclosure Auction and community efforts to address the impacts. Join us online for lunch-and-learn filled with insightful discussions\, tips\, and tricks on all things related to foreclosure data. \nWe’ll be joined by owner of Alex Alsup\, who has mapped out the windfall profit potential\, Shiva Shahmir working with Outlier Media to spread the word about tax windfalls\, and Donovan McCarty from the Detroit Justice Center to share more on policy around tax foreclosure profits.  \nDon’t miss out on this opportunity to connect with fellow data enthusiasts and expand your knowledge in this critical area.
URL:https://detroitartdao.com/event/data-forum-foreclosure-and-tax-windfalls
LOCATION:MI
CATEGORIES:Real Estate
ATTACH;FMTTYPE=image/jpeg:https://dpop.nyc3.digitaloceanspaces.com/wp-content/uploads/2025/02/13030139/e5e425c117d5f679b4bc24a8f78aef6d.jpg
END:VEVENT
BEGIN:VEVENT
DTSTART;TZID=America/Detroit:20250224T120000
DTEND;TZID=America/Detroit:20250224T160000
DTSTAMP:20260423T002909
CREATED:20250125T023144Z
LAST-MODIFIED:20250224T091637Z
UID:10011950-1740398400-1740412800@detroitartdao.com
SUMMARY:Maptime Winter 2025
DESCRIPTION:Join a community of learners making maps together. Students\, faculty\, and community members welcome! Free coffee & snacks.
URL:https://detroitartdao.com/event/maptime-winter-2025-5
LOCATION:Prentis Building\, 5201 Cass Avenue\, Detroit\, MI\, 48202\, United States
CATEGORIES:Real Estate
ATTACH;FMTTYPE=image/jpeg:https://dpop.nyc3.digitaloceanspaces.com/wp-content/uploads/2025/01/24213144/40fd096604cec522a201abcdf95df20a-1.jpg
GEO:42.3579922;-83.0682345
X-APPLE-STRUCTURED-LOCATION;VALUE=URI;X-ADDRESS=Prentis Building 5201 Cass Avenue Detroit MI 48202 United States;X-APPLE-RADIUS=500;X-TITLE=5201 Cass Avenue:geo:-83.0682345,42.3579922
END:VEVENT
BEGIN:VEVENT
DTSTART;TZID=America/Detroit:20250217T120000
DTEND;TZID=America/Detroit:20250217T160000
DTSTAMP:20260423T002909
CREATED:20250125T023143Z
LAST-MODIFIED:20250217T081639Z
UID:10011949-1739793600-1739808000@detroitartdao.com
SUMMARY:Maptime Winter 2025
DESCRIPTION:Join a community of learners making maps together. Students\, faculty\, and community members welcome! Free coffee & snacks.
URL:https://detroitartdao.com/event/maptime-winter-2025-4
LOCATION:Prentis Building\, 5201 Cass Avenue\, Detroit\, MI\, 48202\, United States
CATEGORIES:Real Estate
ATTACH;FMTTYPE=image/jpeg:https://dpop.nyc3.digitaloceanspaces.com/wp-content/uploads/2025/01/24213144/40fd096604cec522a201abcdf95df20a-1.jpg
GEO:42.3579922;-83.0682345
X-APPLE-STRUCTURED-LOCATION;VALUE=URI;X-ADDRESS=Prentis Building 5201 Cass Avenue Detroit MI 48202 United States;X-APPLE-RADIUS=500;X-TITLE=5201 Cass Avenue:geo:-83.0682345,42.3579922
END:VEVENT
BEGIN:VEVENT
DTSTART;TZID=America/Detroit:20250210T120000
DTEND;TZID=America/Detroit:20250210T160000
DTSTAMP:20260423T002909
CREATED:20250125T023143Z
LAST-MODIFIED:20250210T063138Z
UID:10011948-1739188800-1739203200@detroitartdao.com
SUMMARY:Maptime Winter 2025
DESCRIPTION:Join a community of learners making maps together. Students\, faculty\, and community members welcome! Free coffee & snacks.
URL:https://detroitartdao.com/event/maptime-winter-2025-3
LOCATION:Prentis Building\, 5201 Cass Avenue\, Detroit\, MI\, 48202\, United States
CATEGORIES:Real Estate
ATTACH;FMTTYPE=image/jpeg:https://dpop.nyc3.digitaloceanspaces.com/wp-content/uploads/2025/01/24213144/40fd096604cec522a201abcdf95df20a-1.jpg
GEO:42.3579922;-83.0682345
X-APPLE-STRUCTURED-LOCATION;VALUE=URI;X-ADDRESS=Prentis Building 5201 Cass Avenue Detroit MI 48202 United States;X-APPLE-RADIUS=500;X-TITLE=5201 Cass Avenue:geo:-83.0682345,42.3579922
END:VEVENT
BEGIN:VEVENT
DTSTART;TZID=America/Detroit:20250203T120000
DTEND;TZID=America/Detroit:20250203T160000
DTSTAMP:20260423T002909
CREATED:20250125T023143Z
LAST-MODIFIED:20250203T033142Z
UID:10011947-1738584000-1738598400@detroitartdao.com
SUMMARY:Maptime Winter 2025
DESCRIPTION:Join a community of learners making maps together. Students\, faculty\, and community members welcome! Free coffee & snacks.
URL:https://detroitartdao.com/event/maptime-winter-2025-2
LOCATION:Prentis Building\, 5201 Cass Avenue\, Detroit\, MI\, 48202\, United States
CATEGORIES:Real Estate
ATTACH;FMTTYPE=image/jpeg:https://dpop.nyc3.digitaloceanspaces.com/wp-content/uploads/2025/01/24213144/40fd096604cec522a201abcdf95df20a-1.jpg
GEO:42.3579922;-83.0682345
X-APPLE-STRUCTURED-LOCATION;VALUE=URI;X-ADDRESS=Prentis Building 5201 Cass Avenue Detroit MI 48202 United States;X-APPLE-RADIUS=500;X-TITLE=5201 Cass Avenue:geo:-83.0682345,42.3579922
END:VEVENT
BEGIN:VEVENT
DTSTART;TZID=America/Detroit:20250127T120000
DTEND;TZID=America/Detroit:20250127T160000
DTSTAMP:20260423T002909
CREATED:20250125T023141Z
LAST-MODIFIED:20250127T024643Z
UID:10011946-1737979200-1737993600@detroitartdao.com
SUMMARY:Maptime Winter 2025
DESCRIPTION:Join a community of learners making maps together. Students\, faculty\, and community members welcome! Free coffee & snacks.
URL:https://detroitartdao.com/event/maptime-winter-2025
LOCATION:Prentis Building\, 5201 Cass Avenue\, Detroit\, MI\, 48202\, United States
CATEGORIES:Real Estate
ATTACH;FMTTYPE=image/jpeg:https://dpop.nyc3.digitaloceanspaces.com/wp-content/uploads/2025/01/24213144/40fd096604cec522a201abcdf95df20a-1.jpg
GEO:42.3579922;-83.0682345
X-APPLE-STRUCTURED-LOCATION;VALUE=URI;X-ADDRESS=Prentis Building 5201 Cass Avenue Detroit MI 48202 United States;X-APPLE-RADIUS=500;X-TITLE=5201 Cass Avenue:geo:-83.0682345,42.3579922
END:VEVENT
BEGIN:VEVENT
DTSTART;TZID=America/Detroit:20250117T123000
DTEND;TZID=America/Detroit:20250117T133000
DTSTAMP:20260423T002909
CREATED:20241230T201638Z
LAST-MODIFIED:20250117T004137Z
UID:10011720-1737117000-1737120600@detroitartdao.com
SUMMARY:Data Forum: Coffee Shops and Places
DESCRIPTION:Join us for our Data Forum where we will dig into coffee shops and places to get coffee from new cafes to panaderias.\n\n\nData Forum: Coffee Shops and Places \nWelcome to our Data Forum where we will dig into coffee shops and places to get coffee from new cafes to panaderias. Join us online for lunch-and-learn filled with insightful discussions\, tips\, and tricks on all things related to coffee data. \nWe’ll be joined by owner of Sepia Coffee Project\, Martell Mason\, coffee-beat reporter extraordinaire Jena Brooker at BridgeDetroit\, and me\, annual mapper of coffee shop changes! \nDon’t miss out on this opportunity to connect with fellow data enthusiasts and expand your knowledge in this exciting field.
URL:https://detroitartdao.com/event/data-forum-coffee-shops-and-places
LOCATION:MI
CATEGORIES:Real Estate
ATTACH;FMTTYPE=image/jpeg:https://dpop.nyc3.digitaloceanspaces.com/wp-content/uploads/2024/12/30151639/82de4cd7e39cc5134bc5f631a5433f68.jpg
END:VEVENT
BEGIN:VEVENT
DTSTART;TZID=America/Detroit:20241213T123000
DTEND;TZID=America/Detroit:20241213T133000
DTSTAMP:20260423T002909
CREATED:20241210T165136Z
LAST-MODIFIED:20241210T165136Z
UID:10011647-1734093000-1734096600@detroitartdao.com
SUMMARY:Data Forum: Property and Parcels
DESCRIPTION:Join us at the Data Forum to dig into the nuances of property data and parcels\, ownership and speculation.\n\n\nData Forum: Property and Parcels \nWelcome to our Data Forum where we will explore a new category of data each month. This month we will be focused on proeprty data\, the relaunch of Property Praxis\, and the important details when trying to utilize parcel data. \nWe’ll be joined by Chase Cantrell of Building Community Value\, Joshua Akers\, instigator of Property Praxis\, and Aaron Mondry from Outlier Media writing on the “speculators of Detroit.” \nDon’t miss out on this opportunity to connect with fellow data enthusiasts and expand your knowledge in this exciting field. Register now and secure your spot!
URL:https://detroitartdao.com/event/data-forum-property-and-parcels-2
LOCATION:MI
CATEGORIES:Real Estate
ATTACH;FMTTYPE=image/jpeg:https://dpop.nyc3.digitaloceanspaces.com/wp-content/uploads/2024/12/10115137/2188959e92cc61a238809fb3b0dc1e5a-1.jpg
END:VEVENT
BEGIN:VEVENT
DTSTART;TZID=America/Detroit:20241213T123000
DTEND;TZID=America/Detroit:20241213T133000
DTSTAMP:20260423T002909
CREATED:20241210T165136Z
LAST-MODIFIED:20241213T172133Z
UID:10011646-1734093000-1734096600@detroitartdao.com
SUMMARY:Data Forum: Property and Parcels
DESCRIPTION:Join us at the Data Forum to dig into the nuances of property data and parcels\, ownership and speculation.\n\n\nData Forum: Property and Parcels \nWelcome to our Data Forum where we will explore a new category of data each month. This month we will be focused on proeprty data\, the relaunch of Property Praxis\, and the important details when trying to utilize parcel data. \nWe’ll be joined by Chase Cantrell of Building Community Value\, Joshua Akers\, instigator of Property Praxis\, and Aaron Mondry from Outlier Media writing on the “speculators of Detroit.” \nDon’t miss out on this opportunity to connect with fellow data enthusiasts and expand your knowledge in this exciting field. Register now and secure your spot!
URL:https://detroitartdao.com/event/data-forum-property-and-parcels
LOCATION:MI
CATEGORIES:Real Estate
ATTACH;FMTTYPE=image/jpeg:https://dpop.nyc3.digitaloceanspaces.com/wp-content/uploads/2024/12/10115137/2188959e92cc61a238809fb3b0dc1e5a-1.jpg
END:VEVENT
BEGIN:VEVENT
DTSTART;TZID=America/Detroit:20230412T173000
DTEND;TZID=America/Detroit:20230412T203000
DTSTAMP:20260423T002909
CREATED:20230411T153055Z
LAST-MODIFIED:20230411T153055Z
UID:10000979-1681320600-1681331400@detroitartdao.com
SUMMARY:TENT EVENTS - Panel Discussion
DESCRIPTION:Who ? TENT Group is a networking group comprised of local metro-Detroit professionals across different industries including design\, real estate\, finance and law\, with the goal of providing exceptional services and bringing together industry professionals. \nWhat is TENTWORKING? TENT is hosting a networking event and panel discussion for small businesses in the metro-Detroit area. The panel discussion will feature TENT professionals as they discus……. \nThis networking event will start at 5:30pm\, with the panel discussion beginning at 6:00pm. Come join us on April 12th to connect with others and to learn something new. Attendees will get a chance to win 2 tickets to the Detroit Tigers game. \nCheck out and connect with our TENT Panelists via LinkedIn: \nTENT Group \nZachary Lennon\, X-Identity \nMike McCracken\, Guardian Design Build \nMark Lagana\, Berkshire Hathaway Kee Realty \nBill Eisminger\, Midtown Home Mortgage \nAnthony Jabbour\, Jabbour Law \nEric Weisgerber\, Morgan Stanley
URL:https://detroitartdao.com/event/tent-events-panel-discussion
LOCATION:WeWork Downtown Detroit\, 19 Clifford Stree\, Detroit\, MI\, 48226\, United States
CATEGORIES:Business,Design,Finance,Law,Networking,Real Estate,Tech
GEO:42.3643751;-83.0718773
X-APPLE-STRUCTURED-LOCATION;VALUE=URI;X-ADDRESS=WeWork Downtown Detroit 19 Clifford Stree Detroit MI 48226 United States;X-APPLE-RADIUS=500;X-TITLE=19 Clifford Stree:geo:-83.0718773,42.3643751
END:VEVENT
BEGIN:VEVENT
DTSTART;TZID=America/Detroit:20230401T120000
DTEND;TZID=America/Detroit:20230401T140000
DTSTAMP:20260423T002909
CREATED:20230401T050609Z
LAST-MODIFIED:20230401T050610Z
UID:10000958-1680350400-1680357600@detroitartdao.com
SUMMARY:Coffee\, Conversation\, Loans and Homes
DESCRIPTION:When you get tired of paying someone ELSE’S mortgage ( aka – renting)\, you start dreaming about a home of your own. But getting started can feel like a chore. We’ve made it fun! Enjoy great company and refreshments while getting your real estate questions answered in a laid- back environment. \nMortgage loan officer Marlena Tabor from Superior Bank\, Kheareh McCullough from Berkshire Hathaway HomeServices The Loft Warehouse\, and Robert Johnson from Real Estate Title will be on hand to chat and give great advice no matter where you are in the process. \nWhile you’re there\, enjoy the immersive experience of the Developer Lounge and gallery\, where Detroit’s most exciting new residential developments are showcased in a multi-media format. Learn what’s new and next for the city\, and what might be in store for you\, this year.
URL:https://detroitartdao.com/event/coffee-conversation-loans-and-homes
LOCATION:Berkshire Hathaway HomeServices | The Loft Warehouse\, 3434 Russell Street #STE 101\, Detroit\, MI
CATEGORIES:Business,Networking,Real Estate
GEO:42.3505792;-83.0431644
X-APPLE-STRUCTURED-LOCATION;VALUE=URI;X-ADDRESS=Berkshire Hathaway HomeServices | The Loft Warehouse 3434 Russell Street #STE 101 Detroit MI;X-APPLE-RADIUS=500;X-TITLE=3434 Russell Street #STE 101:geo:-83.0431644,42.3505792
END:VEVENT
END:VCALENDAR