BEGIN:VCALENDAR
VERSION:2.0
PRODID:-//Discover Detroit Art - ECPv6.0.1//NONSGML v1.0//EN
CALSCALE:GREGORIAN
METHOD:PUBLISH
X-WR-CALNAME:Discover Detroit Art
X-ORIGINAL-URL:https://detroitartdao.com
X-WR-CALDESC:Events for Discover Detroit Art
REFRESH-INTERVAL;VALUE=DURATION:PT1H
X-Robots-Tag:noindex
X-PUBLISHED-TTL:PT1H
BEGIN:VTIMEZONE
TZID:America/Detroit
BEGIN:DAYLIGHT
TZOFFSETFROM:-0500
TZOFFSETTO:-0400
TZNAME:EDT
DTSTART:20250309T070000
END:DAYLIGHT
BEGIN:STANDARD
TZOFFSETFROM:-0400
TZOFFSETTO:-0500
TZNAME:EST
DTSTART:20251102T060000
END:STANDARD
END:VTIMEZONE
BEGIN:VEVENT
DTSTART;VALUE=DATE:20251214
DTEND;VALUE=DATE:20251215
DTSTAMP:20260420T183852
CREATED:20251201T210347Z
LAST-MODIFIED:20251214T234642Z
UID:10016305-1765670400-1765756799@detroitartdao.com
SUMMARY:Downtown Detroit 25 Days of December
DESCRIPTION:Enjoy the Holidays and Support and Shop Small This Season!\n\n\n\n\nWe’ve been working on something uniquely Detroit for the holiday season to support Downtown business owners. 25 Days of December kicks off Saturday\, Nov. 29 and runs through Tuesday\, Dec. 23\, to encourage patrons to shop local. Thank you to all the local shops\, restaurants\, and cafés who agreed to participate. We look forward to seeing this campaign come to life and bring traffic to Downtown Detroit! \n\nCLICK HERE TO LEARN MORE \n\nWhy It Matters\nWhen you shop\, dine\, and discover in Downtown Detroit\, you are: \n\nSupporting local businesses and local jobs\nStrengthening a vibrant\, walkable\, one-of-a-kind downtown\nHelping your favorite Detroit spots stay strong all year long\nAnd making memories that feel like home for the holidays\n\n\n\nYour Chance to Win!\n\n\n\n\nEnter for a chance to win one of three grand prizes through the Holiday Adventure Card\nEnjoy weekly prize opportunities as part of the Character Sighting & Photo Contest\n4 weeks\, 3 winners (1 grand prize)\, unique Downtown experiences!
URL:https://detroitartdao.com/event/downtown-detroit-25-days-of-december-18
LOCATION:Campus Martius Park
CATEGORIES:Campus Martius,Community Events,Free Event,Park Events,Small Business Event
ATTACH;FMTTYPE=image/jpeg:https://dpop.nyc3.digitaloceanspaces.com/wp-content/uploads/2025/12/01160143/DDP-Stamps-and-wording-16x9-Slide_QR-Code_72DPI-nzcSt1.tmp_.jpg
GEO:42.3314128;-83.0465629
END:VEVENT
END:VCALENDAR