BEGIN:VCALENDAR
VERSION:2.0
PRODID:-//Discover Detroit Art - ECPv6.0.1//NONSGML v1.0//EN
CALSCALE:GREGORIAN
METHOD:PUBLISH
X-ORIGINAL-URL:https://detroitartdao.com
X-WR-CALDESC:Events for Discover Detroit Art
REFRESH-INTERVAL;VALUE=DURATION:PT1H
X-Robots-Tag:noindex
X-PUBLISHED-TTL:PT1H
BEGIN:VTIMEZONE
TZID:America/Detroit
BEGIN:DAYLIGHT
TZOFFSETFROM:-0500
TZOFFSETTO:-0400
TZNAME:EDT
DTSTART:20240310T070000
END:DAYLIGHT
BEGIN:STANDARD
TZOFFSETFROM:-0400
TZOFFSETTO:-0500
TZNAME:EST
DTSTART:20241103T060000
END:STANDARD
END:VTIMEZONE
BEGIN:VEVENT
DTSTART;TZID=America/Detroit:20240401T190000
DTEND;TZID=America/Detroit:20240401T220000
DTSTAMP:20260425T192852
CREATED:20231228T074342Z
LAST-MODIFIED:20231228T074342Z
UID:10003830-1711998000-1712008800@detroitartdao.com
SUMMARY:🏒 Detroit Red Wings @ Tampa Bay Lightning
DESCRIPTION:GameCenter Link – https://www.nhl.com/gamecenter/det-vs-tbl/2024/04/01/2023021184\nShare – https://rokt.ca/zyD4O\nYou may manage your calendar subscription by following – https://nhl.roktcalendar.com/preferences/5b0a476b-dd70-4a5d-8ac5-9706d7e240dc\nPowered by Rokt Calendar
URL:https://detroitartdao.com/event/%f0%9f%8f%92-detroit-red-wings-tampa-bay-lightning
LOCATION:Amalie Arena
CATEGORIES:Sports
END:VEVENT
BEGIN:VEVENT
DTSTART;TZID=America/Detroit:20240405T190000
DTEND;TZID=America/Detroit:20240405T220000
DTSTAMP:20260425T192852
CREATED:20231228T074342Z
LAST-MODIFIED:20231228T074342Z
UID:10003831-1712343600-1712354400@detroitartdao.com
SUMMARY:🏒 New York Rangers @ Detroit Red Wings
DESCRIPTION:GameCenter Link – https://www.nhl.com/gamecenter/nyr-vs-det/2024/04/05/2023021213\nShare – https://rokt.ca/zyD4O\nYou may manage your calendar subscription by following – https://nhl.roktcalendar.com/preferences/5b0a476b-dd70-4a5d-8ac5-9706d7e240dc\nPowered by Rokt Calendar
URL:https://detroitartdao.com/event/%f0%9f%8f%92-new-york-rangers-detroit-red-wings
LOCATION:Little Caesars Arena\, 2645 Woodward Avenue\, Detroit\, MI\, 48201
CATEGORIES:Sports
GEO:42.3419612;-83.0549598
X-APPLE-STRUCTURED-LOCATION;VALUE=URI;X-ADDRESS=Little Caesars Arena 2645 Woodward Avenue Detroit MI 48201;X-APPLE-RADIUS=500;X-TITLE=2645 Woodward Avenue:geo:-83.0549598,42.3419612
END:VEVENT
BEGIN:VEVENT
DTSTART;TZID=America/Detroit:20240407T130000
DTEND;TZID=America/Detroit:20240407T160000
DTSTAMP:20260425T192852
CREATED:20231228T074342Z
LAST-MODIFIED:20231228T074342Z
UID:10003832-1712494800-1712505600@detroitartdao.com
SUMMARY:🏒 Buffalo Sabres @ Detroit Red Wings
DESCRIPTION:GameCenter Link – https://www.nhl.com/gamecenter/buf-vs-det/2024/04/07/2023021228\nShare – https://rokt.ca/zyD4O\nYou may manage your calendar subscription by following – https://nhl.roktcalendar.com/preferences/5b0a476b-dd70-4a5d-8ac5-9706d7e240dc\nPowered by Rokt Calendar
URL:https://detroitartdao.com/event/%f0%9f%8f%92-buffalo-sabres-detroit-red-wings-2
LOCATION:Little Caesars Arena\, 2645 Woodward Avenue\, Detroit\, MI\, 48201
CATEGORIES:Sports
GEO:42.3419612;-83.0549598
X-APPLE-STRUCTURED-LOCATION;VALUE=URI;X-ADDRESS=Little Caesars Arena 2645 Woodward Avenue Detroit MI 48201;X-APPLE-RADIUS=500;X-TITLE=2645 Woodward Avenue:geo:-83.0549598,42.3419612
END:VEVENT
BEGIN:VEVENT
DTSTART;TZID=America/Detroit:20240409T190000
DTEND;TZID=America/Detroit:20240409T220000
DTSTAMP:20260425T192852
CREATED:20231228T074342Z
LAST-MODIFIED:20231228T074342Z
UID:10003833-1712689200-1712700000@detroitartdao.com
SUMMARY:🏒 Washington Capitals @ Detroit Red Wings
DESCRIPTION:GameCenter Link – https://www.nhl.com/gamecenter/wsh-vs-det/2024/04/09/2023021240\nShare – https://rokt.ca/zyD4O\nYou may manage your calendar subscription by following – https://nhl.roktcalendar.com/preferences/5b0a476b-dd70-4a5d-8ac5-9706d7e240dc\nPowered by Rokt Calendar
URL:https://detroitartdao.com/event/%f0%9f%8f%92-washington-capitals-detroit-red-wings-2
LOCATION:Little Caesars Arena\, 2645 Woodward Avenue\, Detroit\, MI\, 48201
CATEGORIES:Sports
GEO:42.3419612;-83.0549598
X-APPLE-STRUCTURED-LOCATION;VALUE=URI;X-ADDRESS=Little Caesars Arena 2645 Woodward Avenue Detroit MI 48201;X-APPLE-RADIUS=500;X-TITLE=2645 Woodward Avenue:geo:-83.0549598,42.3419612
END:VEVENT
BEGIN:VEVENT
DTSTART;TZID=America/Detroit:20240411T190000
DTEND;TZID=America/Detroit:20240411T220000
DTSTAMP:20260425T192852
CREATED:20231228T074342Z
LAST-MODIFIED:20231228T074342Z
UID:10003834-1712862000-1712872800@detroitartdao.com
SUMMARY:🏒 Detroit Red Wings @ Pittsburgh Penguins
DESCRIPTION:GameCenter Link – https://www.nhl.com/gamecenter/det-vs-pit/2024/04/11/2023021258\nShare – https://rokt.ca/zyD4O\nYou may manage your calendar subscription by following – https://nhl.roktcalendar.com/preferences/5b0a476b-dd70-4a5d-8ac5-9706d7e240dc\nPowered by Rokt Calendar
URL:https://detroitartdao.com/event/%f0%9f%8f%92-detroit-red-wings-pittsburgh-penguins-2
LOCATION:PPG Paints Arena
CATEGORIES:Sports
END:VEVENT
BEGIN:VEVENT
DTSTART;TZID=America/Detroit:20240413T190000
DTEND;TZID=America/Detroit:20240413T220000
DTSTAMP:20260425T192852
CREATED:20231228T074342Z
LAST-MODIFIED:20231228T074342Z
UID:10003835-1713034800-1713045600@detroitartdao.com
SUMMARY:🏒 Detroit Red Wings @ Toronto Maple Leafs
DESCRIPTION:GameCenter Link – https://www.nhl.com/gamecenter/det-vs-tor/2024/04/13/2023021277\nShare – https://rokt.ca/zyD4O\nYou may manage your calendar subscription by following – https://nhl.roktcalendar.com/preferences/5b0a476b-dd70-4a5d-8ac5-9706d7e240dc\nPowered by Rokt Calendar
URL:https://detroitartdao.com/event/%f0%9f%8f%92-detroit-red-wings-toronto-maple-leafs-3
LOCATION:Scotiabank Arena
CATEGORIES:Sports
END:VEVENT
BEGIN:VEVENT
DTSTART;TZID=America/Detroit:20240415T190000
DTEND;TZID=America/Detroit:20240415T220000
DTSTAMP:20260425T192852
CREATED:20231228T074343Z
LAST-MODIFIED:20231228T074343Z
UID:10003836-1713207600-1713218400@detroitartdao.com
SUMMARY:🏒 Montréal Canadiens @ Detroit Red Wings
DESCRIPTION:GameCenter Link – https://www.nhl.com/gamecenter/mtl-vs-det/2024/04/15/2023021287\nShare – https://rokt.ca/zyD4O\nYou may manage your calendar subscription by following – https://nhl.roktcalendar.com/preferences/5b0a476b-dd70-4a5d-8ac5-9706d7e240dc\nPowered by Rokt Calendar
URL:https://detroitartdao.com/event/%f0%9f%8f%92-montreal-canadiens-detroit-red-wings
LOCATION:Little Caesars Arena\, 2645 Woodward Avenue\, Detroit\, MI\, 48201
CATEGORIES:Sports
GEO:42.3419612;-83.0549598
X-APPLE-STRUCTURED-LOCATION;VALUE=URI;X-ADDRESS=Little Caesars Arena 2645 Woodward Avenue Detroit MI 48201;X-APPLE-RADIUS=500;X-TITLE=2645 Woodward Avenue:geo:-83.0549598,42.3419612
END:VEVENT
BEGIN:VEVENT
DTSTART;TZID=America/Detroit:20240416T190000
DTEND;TZID=America/Detroit:20240416T220000
DTSTAMP:20260425T192852
CREATED:20231228T074343Z
LAST-MODIFIED:20231228T074343Z
UID:10003837-1713294000-1713304800@detroitartdao.com
SUMMARY:🏒 Detroit Red Wings @ Montréal Canadiens
DESCRIPTION:GameCenter Link – https://www.nhl.com/gamecenter/det-vs-mtl/2024/04/16/2023021298\nShare – https://rokt.ca/zyD4O\nYou may manage your calendar subscription by following – https://nhl.roktcalendar.com/preferences/5b0a476b-dd70-4a5d-8ac5-9706d7e240dc\nPowered by Rokt Calendar
URL:https://detroitartdao.com/event/%f0%9f%8f%92-detroit-red-wings-montreal-canadiens
LOCATION:Centre Bell
CATEGORIES:Sports
END:VEVENT
END:VCALENDAR