BEGIN:VCALENDAR
VERSION:2.0
PRODID:-//Discover Detroit Art - ECPv6.0.1//NONSGML v1.0//EN
CALSCALE:GREGORIAN
METHOD:PUBLISH
X-ORIGINAL-URL:https://detroitartdao.com
X-WR-CALDESC:Events for Discover Detroit Art
REFRESH-INTERVAL;VALUE=DURATION:PT1H
X-Robots-Tag:noindex
X-PUBLISHED-TTL:PT1H
BEGIN:VTIMEZONE
TZID:America/Detroit
BEGIN:DAYLIGHT
TZOFFSETFROM:-0500
TZOFFSETTO:-0400
TZNAME:EDT
DTSTART:20250309T070000
END:DAYLIGHT
BEGIN:STANDARD
TZOFFSETFROM:-0400
TZOFFSETTO:-0500
TZNAME:EST
DTSTART:20251102T060000
END:STANDARD
END:VTIMEZONE
BEGIN:VEVENT
DTSTART;TZID=America/Detroit:20250813T183000
DTEND;TZID=America/Detroit:20250813T203000
DTSTAMP:20260421T002311
CREATED:20250701T234644Z
LAST-MODIFIED:20250813T024641Z
UID:10013981-1755109800-1755117000@detroitartdao.com
SUMMARY:DNewTech- Aug 2025 **Meeting at Bamboo Royal Oak**
DESCRIPTION:**NOTICE: This month we will be meeting at Bamboo Royal Oak!** \n**Hello DNT community!**\nJoin us for our DNewTech ONSITE meetup!! (Wednesdays; 6:30-8:00p EST)\nHope to see you soon! **Please RSVP** – Let’s *get inspired and get going!* \n**📟New Slack Channel created\, join us** [Here](http://clicks.meetup.com/ls/click?upn=u001.NY3oBFzZ5LJDG7YcnfSAKi6Ghao2E4FzNTPLLl5ZeDRRLZHmrQHg3k57whkv6UrNBWPJA-2BOl-2FSBn1Kff-2BPpdQVf8g-2BxbY5VSyb6QfLSbtO9ycdHxhUh4ujH5C9BB3nq7O44O_MeI91GuZiYRPQkwDTcrvsdJXGZArOxB0tTC-2BP9WEklVdwvbpiphQa5ziYMCfm8ztpz615W-2F9mM28BuGTWj747pEfaaiHAIlM9fAzMIF2ZG1c2q673eCTxBqCbqCpypOh72bLSj-2F-2FHQE7d2gkgL9HZIxW-2FVlBUqa8jDKXy4ccFACwzqI2TQKg0w6mYFTL1FA2CPVqCMlsEd4GwiIarjsWRy3ZVXKtd-2FFecE6hho35xupYwqwfe5KcPgMc5YOzXe4EctS6IS8nPNoUhV-2FSqTijWkS0OzuTosZhWBizbNFkQdT3B0NT6rn5q23E7UlDosopJ-2FLxpMSWh4b1UqqooZyuXr-2Bsv55UVoy6QCJaZLmCZb8-2Fl2Mv444Ayr9-2BQkTej3sVNg4tGaVs5COYkqOOAYoXqF3XyyoexeY-2FXDZUe5i6jQ9rrza2RbX7AghGN0dKvZ64CcGdh3mBIQH70NJVazT2HhGVOteK9S8-2FHWWUC-2FSPQeKbUNKAabeion32Y0KQQfPnvJa-2FwV-2BjmZQIchnvvHbeY6w-2FwF1nMS7gJI3HyGBT36BbX68t4tkXH5WUnxwOFAmQgA73f5boW3Uo7SPiopcNg3cJaVEemHW8m0nY6YEa3Zte8L4L8ebSW2WCdj41FuL-2FoJ0EtBeFuhTxPdjfSdrLow-3D-3D)!\n**📝 Complete our 2-min Innovation Pulse Survey:** [Click here!](http://clicks.meetup.com/ls/click?upn=u001.NY3oBFzZ5LJDG7YcnfSAKj4zWXZeKDZJdsr36-2FdgY4DLTwmUKIwIh0saCZCF7xUB5uWv_MeI91GuZiYRPQkwDTcrvsdJXGZArOxB0tTC-2BP9WEklVdwvbpiphQa5ziYMCfm8ztpz615W-2F9mM28BuGTWj747pEfaaiHAIlM9fAzMIF2ZG1c2q673eCTxBqCbqCpypOh72bLSj-2F-2FHQE7d2gkgL9HZIxW-2FVlBUqa8jDKXy4ccFACwzqI2TQKg0w6mYFTL1FA2CPVqCMlsEd4GwiIarjsWRy3ZVXKtd-2FFecE6hho35xupYwqwfe5KcPgMc5YOzXe4EctS6IS8nPNoUhV-2FSqTijWkS0OzuTosZhWBizbNFkQdT3B0NT6rn5q23E7UlDosopJ-2FLxpMSWh4b1UqqooZyuXr-2Bsv55UVoy6QCJaZLmCZb8-2Fl2Mv444Ayr9-2BQkTej3sVNg4tGaVs5COYkqOOAYoXqF3XyyoexeY-2FXDZUe5i6jQ9rrza2RbX7AghGN0dKvZ64CcGdh3mBIQH70NJVazT2HhGVOteK9S8-2FHWWUC-2FSPQeKbUNKAabeion32Y0KQQfPnvJa-2FwV-2BjmZQIchnvvHbeY7F8ETY894JSvRoh1bmrZ-2FLn2q4j8cCx07LhiH2-2BV8UiP4jHdPWUlgAOEAP9nYuimERZoLOVX1ibTN19NgaiTwTjgFL-2BsPPkgrDdKO1pHcxOm4UzJGJTei77GHJ40UL-2FPg-3D-3D) \n**Our monthly meeting format:**\nThe format of the event is as follows: \n* 6:30 – 7 pm: Networking and drinks\n* 7 PM: **Presentations**. Up to 7 Minutes Presentation followed by some time for questions after each presentation\n* Event will end with some time for community announcements \n**Community announcement:** Welcome Back! We hope to see you all at Bamboo Detroit! \n***We welcome our featured entrepreneurs for an evening of pitch presentations\, community conversation\, and networking.*** \n**Presenters:**\n[HandiDOSE](https://www.linkedin.com/in/pkpowell/): HandiDOSE is redefining self-injection with advanced auto-injectors and on-body wearable devices engineered for high-viscosity drugs\, superior comfort\, and intuitive use alongside our strong product branding. Headquartered in Michigan and led by a seasoned technical founder\, HandiDOSE™ is addressing the rapidly expanding $70B+ global self-administration market. As biologics and self-care surge\, our patient-first platform empowers our partners to improve outcomes and gain market share. \n[Haptix Flow](https://haptixlabs.com/products/hand-built-haptix-flow-v1): Haptix Flow is the first wrist-worn device that not only monitors stress but actively corrects it in real time via targeted bilateral haptic pulses. Current prototypes deliver Calm\, Focus\, and Excite modes; upcoming releases add Deep Sleep and enhanced biometrics for precision nervous-system tuning. Early users report rapid relaxation\, sharper focus\, and deeper sleep—proof that this pocket-sized reset button elevates everyday well-being and productivity. \n**If you wish to present in the future\, Please email us at**\ndetroitnewtech@gmail.com
URL:https://detroitartdao.com/event/dnewtech-june-2025-meeting-at-bamboo-royal-oak
LOCATION:Bamboo Royal Oak\, 220 S. Main Street \,\, Royal Oak\, MI\, 48067\, US
CATEGORIES:Tech
ATTACH;FMTTYPE=image/jpeg:https://dpop.nyc3.digitaloceanspaces.com/wp-content/uploads/2025/07/26203130/1024x576-fOOM4T.tmp_.jpg
GEO:42.48831;-83.144585
X-APPLE-STRUCTURED-LOCATION;VALUE=URI;X-ADDRESS=Bamboo Royal Oak 220 S. Main Street  Royal Oak MI 48067 US;X-APPLE-RADIUS=500;X-TITLE=220 S. Main Street \,:geo:-83.144585,42.48831
END:VEVENT
BEGIN:VEVENT
DTSTART;TZID=America/Detroit:20250821T170000
DTEND;TZID=America/Detroit:20250821T200000
DTSTAMP:20260421T002311
CREATED:20250418T194637Z
LAST-MODIFIED:20250821T141630Z
UID:10012758-1755795600-1755806400@detroitartdao.com
SUMMARY:IT Networking @ Detroit Shipping Company
DESCRIPTION:No agenda. No speakers. No cover charge. Ever. Just networking with IT professionals. Plain and simple. \nIT in The D was started by IT professionals for IT professionals. We didn’t like any other group out there\, so we started our own! At our events\, you might meet tech recruiters\, developers\, salespeople\, network admins\, web designers\, or senior-level management. \nCome on out\, bring some business cards (or don’t—it’s OK) and meet some like-minded people in the Metro Detroit area. You could meet a life-long friend\, a new business partner\, or no one at all… it’s what you make of them that makes these events great. \n*We are networking Detroit one beer at a time.*
URL:https://detroitartdao.com/event/it-networking-detroit-shipping-company-6
LOCATION:Detroit Shipping Company\, 474 Peterboro\, Detroit\, MI\, 48201\, us
CATEGORIES:Tech
ATTACH;FMTTYPE=image/jpeg:https://dpop.nyc3.digitaloceanspaces.com/wp-content/uploads/2025/02/20113652/1024x576-mvwFEA.tmp_.jpg
GEO:42.344227;-83.06156
X-APPLE-STRUCTURED-LOCATION;VALUE=URI;X-ADDRESS=Detroit Shipping Company 474 Peterboro Detroit MI 48201 us;X-APPLE-RADIUS=500;X-TITLE=474 Peterboro:geo:-83.06156,42.344227
END:VEVENT
BEGIN:VEVENT
DTSTART;TZID=America/Detroit:20250822T180000
DTEND;TZID=America/Detroit:20250822T220000
DTSTAMP:20260421T002311
CREATED:20250812T021632Z
LAST-MODIFIED:20250822T033134Z
UID:10014661-1755885600-1755900000@detroitartdao.com
SUMMARY:Unlock The Block - Big Sean performs live!
DESCRIPTION:You’re invited to the **biggest crypto party of the year\,** and you do **not** want to miss this. \n[Please note: You must RSVP on our partner’s Luma event page for your ticket](https://lu.ma/tvdiwrum) \n**Stand With Crypto** is throwing a free block party like no other — packed with live music\, great food\, and unstoppable energy — all celebrating one message: Michigan’s crypto community is growing and here to stay. \n**Here’s what’s waiting for you:** \n* Detroit native & **hip-hop icon Big Sean\,** performing live just for us\n* Hear from city officials and **state lawmakers**\n* Enjoy food & drink\, a Crypto Carnival\, an NFT Gallery\, interactive Graffiti\, and more\n* Connect with fellow crypto advocates and enthusiasts from across the state \nDate: **Friday August 22nd**\, 6-10PM\nFor location in Detroit\, RSVP at this [link](https://lu.ma/tvdiwrum). \n**Limited space for this legendary night!**\n**[RSVP on our partner’s Luma event page for tickets](https://lu.ma/tvdiwrum)**
URL:https://detroitartdao.com/event/unlock-the-block
LOCATION:MI
CATEGORIES:Tech
ATTACH;FMTTYPE=image/jpeg:https://dpop.nyc3.digitaloceanspaces.com/wp-content/uploads/2025/08/11221633/1024x576-jtzP5B.tmp_.jpg
END:VEVENT
END:VCALENDAR