BEGIN:VCALENDAR
VERSION:2.0
PRODID:-//Discover Detroit Art - ECPv6.0.1//NONSGML v1.0//EN
CALSCALE:GREGORIAN
METHOD:PUBLISH
X-WR-CALNAME:Discover Detroit Art
X-ORIGINAL-URL:https://detroitartdao.com
X-WR-CALDESC:Events for Discover Detroit Art
REFRESH-INTERVAL;VALUE=DURATION:PT1H
X-Robots-Tag:noindex
X-PUBLISHED-TTL:PT1H
BEGIN:VTIMEZONE
TZID:America/Detroit
BEGIN:DAYLIGHT
TZOFFSETFROM:-0500
TZOFFSETTO:-0400
TZNAME:EDT
DTSTART:20250309T070000
END:DAYLIGHT
BEGIN:STANDARD
TZOFFSETFROM:-0400
TZOFFSETTO:-0500
TZNAME:EST
DTSTART:20251102T060000
END:STANDARD
END:VTIMEZONE
BEGIN:VEVENT
DTSTART;TZID=America/Detroit:20250903T170000
DTEND;TZID=America/Detroit:20250903T200000
DTSTAMP:20260421T015553
CREATED:20250807T134636Z
LAST-MODIFIED:20250903T144630Z
UID:10014596-1756918800-1756929600@detroitartdao.com
SUMMARY:IT Networking @ Mothfire Brewing Co\, Ann Arbor
DESCRIPTION:***The Ann Arbor chapter returns!*** \nNo agenda. No speakers. No cover charge. Ever. Just networking with IT professionals. Plain and simple. \nIT in The D was started by IT professionals for IT professionals. We didn’t like any other group out there\, so we started our own! At our events\, you might meet tech recruiters\, developers\, salespeople\, network admins\, web designers\, or senior-level management. \nCome on out\, bring some business cards (or don’t—it’s OK) and meet some like-minded people in the Metro Detroit area. You could meet a life-long friend\, a new business partner\, or no one at all… it’s what you make of them that makes these events great. \n*We are networking Detroit one beer at a time.*
URL:https://detroitartdao.com/event/it-networking-mothfire-brewing-co-ann-arbor
LOCATION:Mothfire Brewing Co.\, 713 W. Ellsworth Rd\, Ann Arbor\, MI\, 48108\, us
CATEGORIES:Tech
ATTACH;FMTTYPE=image/jpeg:https://dpop.nyc3.digitaloceanspaces.com/wp-content/uploads/2025/02/20113652/1024x576-mvwFEA.tmp_.jpg
GEO:42.228912;-83.74173
X-APPLE-STRUCTURED-LOCATION;VALUE=URI;X-ADDRESS=Mothfire Brewing Co. 713 W. Ellsworth Rd Ann Arbor MI 48108 us;X-APPLE-RADIUS=500;X-TITLE=713 W. Ellsworth Rd:geo:-83.74173,42.228912
END:VEVENT
BEGIN:VEVENT
DTSTART;TZID=America/Detroit:20250910T183000
DTEND;TZID=America/Detroit:20250910T203000
DTSTAMP:20260421T015553
CREATED:20250818T033132Z
LAST-MODIFIED:20250910T063132Z
UID:10014802-1757529000-1757536200@detroitartdao.com
SUMMARY:DNewTech- September 2025
DESCRIPTION:**Notice! Our event will now take place on the 2nd Wednesday of the month.**\n**Also\, our new host will be Tech Town Detroit!** \n**📟New Slack Channel created\, join us** [Here](https://join.slack.com/t/dnewtech/shared_invite/zt-37kwjt5c5-wrOXvdcUf_Mbx5L9PCCsZA)\n**📝 Complete our 2-min Innovation Pulse Survey:** [Click here!](http://clicks.meetup.com/ls/click?upn=u001.NY3oBFzZ5LJDG7YcnfSAKj4zWXZeKDZJdsr36-2FdgY4DLTwmUKIwIh0saCZCF7xUB5uWv_MeI91GuZiYRPQkwDTcrvsdJXGZArOxB0tTC-2BP9WEklVdwvbpiphQa5ziYMCfm8ztpz615W-2F9mM28BuGTWj747pEfaaiHAIlM9fAzMIF2ZG1c2q673eCTxBqCbqCpypOh72bLSj-2F-2FHQE7d2gkgL9HZIxW-2FVlBUqa8jDKXy4ccFACwzqI2TQKg0w6mYFTL1FA2CPVqCMlsEd4GwiIarjsWRy3ZVXKtd-2FFecE6hho35xupYwqwfe5KcPgMc5YOzXe4EctS6IS8nPNoUhV-2FSqTijWkS0OzuTosZhWBizbNFkQdT3B0NT6rn5q23E7UlDosopJ-2FLxpMSWh4b1UqqooZyuXr-2Bsv55UVoy6QCJaZLmCZb8-2Fl2Mv444Ayr9-2BQkTej3sVNg4tGaVs5COYkqOOAYoXqF3XyyoexeY-2FXDZUe5i6jQ9rrza2RbX7AghGN0dKvZ64CcGdh3mBIQH70NJVazT2HhGVOteK9S8-2FHWWUC-2FSPQeKbUNKAabeion32Y0KQQfPnvJa-2FwV-2BjmZQIchnvvHbeY7F8ETY894JSvRoh1bmrZ-2FLn2q4j8cCx07LhiH2-2BV8UiP4jHdPWUlgAOEAP9nYuimERZoLOVX1ibTN19NgaiTwTjgFL-2BsPPkgrDdKO1pHcxOm4UzJGJTei77GHJ40UL-2FPg-3D-3D) \n**Hello DNT community!**\nJoin us for our DNT ONSITE meetup!! (Wednesdays; 6:30-8:00p EST)\nHope to see you soon! **Please RSVP** – Let’s *get inspired and get going!* \n**Our monthly meeting format:**\nThe format of the event is as follows: \n* 6:30 – 7 pm: Networking and drinks\n* 7 PM; **Presentations**. Up to 7 Minutes Presentation followed by some time for questions after each presentation\n* Event will end with some time for community announcements \n**Community announcement:** Welcome Back! We hope to see you all at our new meeting location in Tech Town Detroit! \n***We welcome our featured entrepreneurs for an evening of pitch presentations\, community conversation\, and networking.*** \n**Presenters: TBA** \n**If you wish to present in the future contact us at:**\ndetroitnewtech@gmail.com
URL:https://detroitartdao.com/event/dnewtech-september-2025-2
LOCATION:Tech Town Detroit\, 440 Burroughs St\, Detroit\, MI\, 48202\, us
CATEGORIES:Tech
ATTACH;FMTTYPE=image/jpeg:https://dpop.nyc3.digitaloceanspaces.com/wp-content/uploads/2025/08/17233133/1024x576-4fZXsJ.tmp_.jpg
GEO:42.365055;-83.07302
X-APPLE-STRUCTURED-LOCATION;VALUE=URI;X-ADDRESS=Tech Town Detroit 440 Burroughs St Detroit MI 48202 us;X-APPLE-RADIUS=500;X-TITLE=440 Burroughs St:geo:-83.07302,42.365055
END:VEVENT
BEGIN:VEVENT
DTSTART;TZID=America/Detroit:20250910T183000
DTEND;TZID=America/Detroit:20250910T203000
DTSTAMP:20260421T015554
CREATED:20250818T033132Z
LAST-MODIFIED:20250818T033132Z
UID:10014803-1757529000-1757536200@detroitartdao.com
SUMMARY:DNewTech- September 2025
DESCRIPTION:**Notice! Our event will now take place on the 2nd Wednesday of the month.**\n**Also\, our new host will be Tech Town Detroit!** \n**📟New Slack Channel created\, join us** [Here](https://join.slack.com/t/dnewtech/shared_invite/zt-37kwjt5c5-wrOXvdcUf_Mbx5L9PCCsZA)\n**📝 Complete our 2-min Innovation Pulse Survey:** [Click here!](http://clicks.meetup.com/ls/click?upn=u001.NY3oBFzZ5LJDG7YcnfSAKj4zWXZeKDZJdsr36-2FdgY4DLTwmUKIwIh0saCZCF7xUB5uWv_MeI91GuZiYRPQkwDTcrvsdJXGZArOxB0tTC-2BP9WEklVdwvbpiphQa5ziYMCfm8ztpz615W-2F9mM28BuGTWj747pEfaaiHAIlM9fAzMIF2ZG1c2q673eCTxBqCbqCpypOh72bLSj-2F-2FHQE7d2gkgL9HZIxW-2FVlBUqa8jDKXy4ccFACwzqI2TQKg0w6mYFTL1FA2CPVqCMlsEd4GwiIarjsWRy3ZVXKtd-2FFecE6hho35xupYwqwfe5KcPgMc5YOzXe4EctS6IS8nPNoUhV-2FSqTijWkS0OzuTosZhWBizbNFkQdT3B0NT6rn5q23E7UlDosopJ-2FLxpMSWh4b1UqqooZyuXr-2Bsv55UVoy6QCJaZLmCZb8-2Fl2Mv444Ayr9-2BQkTej3sVNg4tGaVs5COYkqOOAYoXqF3XyyoexeY-2FXDZUe5i6jQ9rrza2RbX7AghGN0dKvZ64CcGdh3mBIQH70NJVazT2HhGVOteK9S8-2FHWWUC-2FSPQeKbUNKAabeion32Y0KQQfPnvJa-2FwV-2BjmZQIchnvvHbeY7F8ETY894JSvRoh1bmrZ-2FLn2q4j8cCx07LhiH2-2BV8UiP4jHdPWUlgAOEAP9nYuimERZoLOVX1ibTN19NgaiTwTjgFL-2BsPPkgrDdKO1pHcxOm4UzJGJTei77GHJ40UL-2FPg-3D-3D) \n**Hello DNT community!**\nJoin us for our DNT ONSITE meetup!! (Wednesdays; 6:30-8:00p EST)\nHope to see you soon! **Please RSVP** – Let’s *get inspired and get going!* \n**Our monthly meeting format:**\nThe format of the event is as follows: \n* 6:30 – 7 pm: Networking and drinks\n* 7 PM; **Presentations**. Up to 7 Minutes Presentation followed by some time for questions after each presentation\n* Event will end with some time for community announcements \n**Community announcement:** Welcome Back! We hope to see you all at our new meeting location in Tech Town Detroit! \n***We welcome our featured entrepreneurs for an evening of pitch presentations\, community conversation\, and networking.*** \n**Presenters: TBA** \n**If you wish to present in the future contact us at:**\ndetroitnewtech@gmail.com
URL:https://detroitartdao.com/event/dnewtech-september-2025
LOCATION:Tech Town Detroit\, 440 Burroughs St\, Detroit\, MI\, 48202\, us
CATEGORIES:Tech
ATTACH;FMTTYPE=image/jpeg:https://dpop.nyc3.digitaloceanspaces.com/wp-content/uploads/2025/08/17233133/1024x576-4fZXsJ.tmp_.jpg
GEO:42.365055;-83.07302
X-APPLE-STRUCTURED-LOCATION;VALUE=URI;X-ADDRESS=Tech Town Detroit 440 Burroughs St Detroit MI 48202 us;X-APPLE-RADIUS=500;X-TITLE=440 Burroughs St:geo:-83.07302,42.365055
END:VEVENT
BEGIN:VEVENT
DTSTART;TZID=America/Detroit:20250918T170000
DTEND;TZID=America/Detroit:20250918T200000
DTSTAMP:20260421T015554
CREATED:20250418T194635Z
LAST-MODIFIED:20250918T114631Z
UID:10012759-1758214800-1758225600@detroitartdao.com
SUMMARY:IT Networking @ Bar Louie Royal Oak
DESCRIPTION:No agenda. No speakers. No cover charge. Ever. Just networking with IT professionals. Plain and simple. \nIT in The D was started by IT professionals for IT professionals. We didn’t like any other group out there\, so we started our own! At our events\, you might meet tech recruiters\, developers\, salespeople\, network admins\, web designers\, or senior-level management. \nCome on out\, bring some business cards (or don’t—it’s OK) and meet some like-minded people in the Metro Detroit area. You could meet a life-long friend\, a new business partner\, or no one at all… it’s what you make of them that makes these events great. \n*We are networking Detroit one beer at a time.*
URL:https://detroitartdao.com/event/it-networking-bar-louie-royal-oak-2
LOCATION:Bar Louie Royal Oak\, 510 South Main St\, Royal Oak\, MI\, 48067\, us
CATEGORIES:Tech
ATTACH;FMTTYPE=image/jpeg:https://dpop.nyc3.digitaloceanspaces.com/wp-content/uploads/2025/02/20113652/1024x576-mvwFEA.tmp_.jpg
GEO:42.486076;-83.14431
X-APPLE-STRUCTURED-LOCATION;VALUE=URI;X-ADDRESS=Bar Louie Royal Oak 510 South Main St Royal Oak MI 48067 us;X-APPLE-RADIUS=500;X-TITLE=510 South Main St:geo:-83.14431,42.486076
END:VEVENT
BEGIN:VEVENT
DTSTART;TZID=America/Detroit:20250924T183000
DTEND;TZID=America/Detroit:20250924T210000
DTSTAMP:20260421T015554
CREATED:20250919T110130Z
LAST-MODIFIED:20250923T110131Z
UID:10015278-1758738600-1758747600@detroitartdao.com
SUMMARY:Web3 Community Social
DESCRIPTION:**Important Note:** You must [RSVP on Luma](https://luma.com/7j9xot5s).\nEvent is free but space is limited and a Luma ticket is required! \nWe’re bringing Detroit’s Web3 community to Atwater Brewery—the award-winning Brewery and Taphouse on the Detroit River—for a night of community\, conversation\, and connection! \n​This event is hosted by a partner organization\, the Detroit Blockchain Collective! Join us for this community social—your chance to meet and mingle with fellow builders\, entrepreneurs\, investors\, and enthusiasts who make up Michigan’s growing blockchain ecosystem. Whether you’re already deep in the space or just curious\, you’ll find an open\, welcoming environment to spark new conversations and strengthen connections. And you already know—beer\, mixed drinks\, and cider are on us! \nAtwater Brewery and Taphouse is located in Detroit’s historic Rivertown district and housed in a 1919 factory warehouse. Voted Best Brewery by Hour Detroit six years in a row\, it’s the perfect backdrop to relax\, grab a drink\, and connect with community. \n**About the host…**\n​​[Elizabeth Hansson ](https://www.linkedin.com/in/elizabethhansson/)is the Founder & Executive Director of the [Detroit Blockchain Collective](https://www.linkedin.com/company/detroitblockchain/) and the Michigan President of Stand With Crypto. A digital asset advocate\, ecosystem builder\, and technology strategist with a background in decentralized systems and software engineering. Since 2017\, she has led teams of blockchain developers and worked to bridge emerging technologies with real-world use. \n**About the sponsor…**\n​​Special thanks to [Stand With Crypto](https://www.standwithcrypto.org/)! Stand With Crypto is a non-profit organization dedicated to uniting global crypto advocates. They are empowering the blockchain community through advocacy\, education\, and grassroots engagement! \n**Important Note**: You must [RSVP on Luma](https://luma.com/7j9xot5s).\nEvent is free but space is limited and a Luma ticket is required!
URL:https://detroitartdao.com/event/web3-community-social
LOCATION:MI
CATEGORIES:Tech
ATTACH;FMTTYPE=image/jpeg:https://dpop.nyc3.digitaloceanspaces.com/wp-content/uploads/2025/09/19070133/1024x576-HIX3cH.tmp_.jpg
END:VEVENT
END:VCALENDAR