BEGIN:VCALENDAR
VERSION:2.0
PRODID:-//Discover Detroit Art - ECPv6.0.1//NONSGML v1.0//EN
CALSCALE:GREGORIAN
METHOD:PUBLISH
X-ORIGINAL-URL:https://detroitartdao.com
X-WR-CALDESC:Events for Discover Detroit Art
REFRESH-INTERVAL;VALUE=DURATION:PT1H
X-Robots-Tag:noindex
X-PUBLISHED-TTL:PT1H
BEGIN:VTIMEZONE
TZID:America/Detroit
BEGIN:DAYLIGHT
TZOFFSETFROM:-0500
TZOFFSETTO:-0400
TZNAME:EDT
DTSTART:20230312T070000
END:DAYLIGHT
BEGIN:STANDARD
TZOFFSETFROM:-0400
TZOFFSETTO:-0500
TZNAME:EST
DTSTART:20231105T060000
END:STANDARD
END:VTIMEZONE
BEGIN:VEVENT
DTSTART;TZID=America/Detroit:20230531T080000
DTEND;TZID=America/Detroit:20230531T170000
DTSTAMP:20260423T055943
CREATED:20230309T174711Z
LAST-MODIFIED:20230401T041918Z
UID:10000944-1685520000-1685552400@detroitartdao.com
SUMMARY:TECHTOWN CO-WORKING DROP-IN DAY
DESCRIPTION:Join our coworking community for a free Drop-in Day! This is an opportunity for you to familiarize yourself with TechTown’s coworking space — without any commitment. \nDrop-in Day guests will be offered a tour of our facilities and will have access to a full suite of amenities\, including: \n\nFree Ashe Supply coffee\, assorted teas and cocoa\nFree parking/bike racks\nFree Wi-Fi / printing / copying\nPrivate phone booths for business calls\nKitchenette to store your lunch\, or get restaurant recommendations from our Community Ambassadors
URL:https://detroitartdao.com/event/techtown-co-working-drop-in-day/2023-05-31
LOCATION:TechTown Detroit\, 440 Burroughs Street\, Detroit\, MI\, 48202\, United States
CATEGORIES:Business,Networking,Tech
ORGANIZER;CN="TechTown%20Detroit":MAILTO:marketing@techtowndetroit.org
GEO:42.3650544;-83.0730212
X-APPLE-STRUCTURED-LOCATION;VALUE=URI;X-ADDRESS=TechTown Detroit 440 Burroughs Street Detroit MI 48202 United States;X-APPLE-RADIUS=500;X-TITLE=440 Burroughs Street:geo:-83.0730212,42.3650544
END:VEVENT
BEGIN:VEVENT
DTSTART;TZID=America/Detroit:20230531T180000
DTEND;TZID=America/Detroit:20230531T200000
DTSTAMP:20260423T055943
CREATED:20230404T014745Z
LAST-MODIFIED:20230404T014746Z
UID:10000969-1685556000-1685563200@detroitartdao.com
SUMMARY:Intro to Coding Workshop
DESCRIPTION:Virtual Event – Intro to Coding Workshop \nAt Grand Circus\, we believe anyone can be a developer; you too can learn to code and launch a career in technology.\nThis FREE Intro to Coding Workshop is open to everyone and is designed for those who are curious about coding\, but who have very little or no coding experience. Never seen a line of code before? No problem! Basic computer knowledge is required–that’s it.\nDuring this remote intro to coding workshop\, students will be coding right along with their instructors; it is very hands-on. You will be working within a code editing website (repl.it) while you’re video chatting and learning with the instructor in Zoom. \nWhat do you need for this class? \n\nA computer with Google Chrome downloaded on it\nA free  repl.it account (set this up before class\, it takes a little time)\nA free zoom.us account\nA willingness to learn something new\n\nWho should take this class? \n\nAnyone interested in attending a Grand Circus Bootcamp\nAnyone interested in writing their first line of code\nAnyone brand new to coding or people who want to brush up on their skills\n\nWhen is Intro to Coding offered? \n\nTuesdays from 6 – 8 pm\nThe first Saturday of each month from 9 – 11 am\n\nOur workshops are taught by Grand Circus alumni who made the jump into a tech career. They are a wealth of knowledge about all things Grand Circus and the tech community – and they love to talk about both! Once you complete this workshop\, you will have a solid understanding of next steps to become a developer through attending a Grand Circus Bootcamp. \nLooking to register for our other workshops? You can do so here.
URL:https://detroitartdao.com/event/intro-to-coding-workshop/2023-05-31
LOCATION:Grand Circus\, 1570 Woodward Ave Level 3\, Detroit\, MI\, 48226
CATEGORIES:Business,Design,Networking,Tech
GEO:42.3360407;-83.049824
X-APPLE-STRUCTURED-LOCATION;VALUE=URI;X-ADDRESS=Grand Circus 1570 Woodward Ave Level 3 Detroit MI 48226;X-APPLE-RADIUS=500;X-TITLE=1570 Woodward Ave Level 3:geo:-83.049824,42.3360407
END:VEVENT
BEGIN:VEVENT
DTSTART;TZID=America/Detroit:20230531T200000
DTEND;TZID=America/Detroit:20230531T230000
DTSTAMP:20260423T055943
CREATED:20230206T131342Z
LAST-MODIFIED:20230206T132153Z
UID:10000861-1685563200-1685574000@detroitartdao.com
SUMMARY:Bitcoin & Beer
DESCRIPTION:Networking at Detroit Beer Company every Wednesday. \nCurious or want to learn more about the web3\, blockchain and crypto space? Come have a beer and meet like minded entrepreneurs and tech processionals that’s in the space from Detroit! \n 
URL:https://detroitartdao.com/event/bitcoin-beer-5/2023-05-31
LOCATION:Detroit Beer Company\, 1529 Broadway St\, Detroit\, MI\, 48226\, United States
CATEGORIES:Networking,Tech
GEO:42.3358047;-83.048912
X-APPLE-STRUCTURED-LOCATION;VALUE=URI;X-ADDRESS=Detroit Beer Company 1529 Broadway St Detroit MI 48226 United States;X-APPLE-RADIUS=500;X-TITLE=1529 Broadway St:geo:-83.048912,42.3358047
END:VEVENT
END:VCALENDAR