BEGIN:VCALENDAR
VERSION:2.0
PRODID:-//Discover Detroit Art - ECPv6.0.1//NONSGML v1.0//EN
CALSCALE:GREGORIAN
METHOD:PUBLISH
X-ORIGINAL-URL:https://detroitartdao.com
X-WR-CALDESC:Events for Discover Detroit Art
REFRESH-INTERVAL;VALUE=DURATION:PT1H
X-Robots-Tag:noindex
X-PUBLISHED-TTL:PT1H
BEGIN:VTIMEZONE
TZID:America/Detroit
BEGIN:DAYLIGHT
TZOFFSETFROM:-0500
TZOFFSETTO:-0400
TZNAME:EDT
DTSTART:20230312T070000
END:DAYLIGHT
BEGIN:STANDARD
TZOFFSETFROM:-0400
TZOFFSETTO:-0500
TZNAME:EST
DTSTART:20231105T060000
END:STANDARD
END:VTIMEZONE
BEGIN:VEVENT
DTSTART;TZID=America/Detroit:20230627T100000
DTEND;TZID=America/Detroit:20230627T170000
DTSTAMP:20260424T084053
CREATED:20230531T133206Z
LAST-MODIFIED:20230627T151631Z
UID:10001227-1687860000-1687885200@detroitartdao.com
SUMMARY:Tech Tuesday & Office Hours with 313 Ventures
DESCRIPTION:Join us every Tuesday from 10am -5pm for open space coworking at Bamboo Detroit. \nOffice Hours will take place 12pm – 1pm. Office Hours Special Guest this week Caleb Conley Growth Capital at 313 Ventures. \nAfter you register\, download the Plain Sight mobile app to connect with the other techies in the space! \nStay for a meetup 5-7pm – TBD! \nR﻿egister via Plain Sight App: [with this link.](https://events.plainsight.app/events/tech20tuesdays20coffee202620coworking20meetup-MTg1Ni5UZWNoJTIwVHVlc2RheXMlMjBDb2ZmZWUlMjAlMjYlMjBDb3dvcmtpbmclMjBNZWV0dXA=/about) \n**What Is Tech Tuesday?**\n[Tech Tuesdays ](https://www.plainsight.app/techtuesdaysdetroit)provides founders\, funders\, coders\, creatives\, and community builders in tech with free space to work and host events every Tuesday! \nDuring the day\, the space is available for hot desk coworking\, private meetings\, bootcamps\, and mentor programming. \nIn the evening\, space is available to host dinners\, happy hours\, and pitch events that bring the tech community together. \nTech Tuesdays Detroit is made possible by a partnership between Bamboo Detroit\, a local coworking space\, and Plain Sight\, an event ticketing platform that helps event hosts sell tickets\, attract sponsors and connect attendees.
URL:https://detroitartdao.com/event/tech-tuesday-office-hours-with-endeavor-and-plymouth-growth-2
LOCATION:Bamboo\, 1420 Washington Blvd #301\, Detroit\, MI 48226\, Detroit\, MI\, us
CATEGORIES:Tech
ATTACH;FMTTYPE=image/jpeg:https://detroitartdao.com/wp-content/uploads/2023/05/1024x576-Q8igbu.tmp_.jpg
GEO:42.334057;-83.050438
X-APPLE-STRUCTURED-LOCATION;VALUE=URI;X-ADDRESS=Bamboo 1420 Washington Blvd #301 Detroit MI 48226 Detroit MI us;X-APPLE-RADIUS=500;X-TITLE=1420 Washington Blvd #301\, Detroit\, MI 48226:geo:-83.050438,42.334057
END:VEVENT
BEGIN:VEVENT
DTSTART;TZID=America/Detroit:20230627T180000
DTEND;TZID=America/Detroit:20230627T200000
DTSTAMP:20260424T084053
CREATED:20230404T014745Z
LAST-MODIFIED:20230404T014746Z
UID:10000973-1687888800-1687896000@detroitartdao.com
SUMMARY:Intro to Coding Workshop
DESCRIPTION:Virtual Event – Intro to Coding Workshop \nAt Grand Circus\, we believe anyone can be a developer; you too can learn to code and launch a career in technology.\nThis FREE Intro to Coding Workshop is open to everyone and is designed for those who are curious about coding\, but who have very little or no coding experience. Never seen a line of code before? No problem! Basic computer knowledge is required–that’s it.\nDuring this remote intro to coding workshop\, students will be coding right along with their instructors; it is very hands-on. You will be working within a code editing website (repl.it) while you’re video chatting and learning with the instructor in Zoom. \nWhat do you need for this class? \n\nA computer with Google Chrome downloaded on it\nA free  repl.it account (set this up before class\, it takes a little time)\nA free zoom.us account\nA willingness to learn something new\n\nWho should take this class? \n\nAnyone interested in attending a Grand Circus Bootcamp\nAnyone interested in writing their first line of code\nAnyone brand new to coding or people who want to brush up on their skills\n\nWhen is Intro to Coding offered? \n\nTuesdays from 6 – 8 pm\nThe first Saturday of each month from 9 – 11 am\n\nOur workshops are taught by Grand Circus alumni who made the jump into a tech career. They are a wealth of knowledge about all things Grand Circus and the tech community – and they love to talk about both! Once you complete this workshop\, you will have a solid understanding of next steps to become a developer through attending a Grand Circus Bootcamp. \nLooking to register for our other workshops? You can do so here.
URL:https://detroitartdao.com/event/intro-to-coding-workshop/2023-06-27
LOCATION:Grand Circus\, 1570 Woodward Ave Level 3\, Detroit\, MI\, 48226
CATEGORIES:Business,Design,Networking,Tech
GEO:42.3360407;-83.049824
X-APPLE-STRUCTURED-LOCATION;VALUE=URI;X-ADDRESS=Grand Circus 1570 Woodward Ave Level 3 Detroit MI 48226;X-APPLE-RADIUS=500;X-TITLE=1570 Woodward Ave Level 3:geo:-83.049824,42.3360407
END:VEVENT
BEGIN:VEVENT
DTSTART;TZID=America/Detroit:20230627T180000
DTEND;TZID=America/Detroit:20230627T200000
DTSTAMP:20260424T084053
CREATED:20230531T133206Z
LAST-MODIFIED:20230531T133206Z
UID:10001223-1687888800-1687896000@detroitartdao.com
SUMMARY:Tech Tuesdays Detroit Happy Hour
DESCRIPTION:Join us for the Tech Tuesdays Detroit Happy Hour! Experience first hand the free workspace and event series designed to connect and empower founders\, funders\, coders\, creatives\, and community builders in the tech. \nLight food and signature cocktails will be provided. \nAt the kickoff\, you’ll have the chance to tour the space\, meet office hours mentors\, as well sign up to host and attend events happening at the space. \nSpecial Fireside Chat Guest Announced Soon. \n[Register today via Plain Sight.](https://events.plainsight.app/events/tech20tuesdays20detroit20happy20hour-MTg0Ny5UZWNoJTIwVHVlc2RheXMlMjBEZXRyb2l0JTIwSGFwcHklMjBIb3Vy/about) \n**What Is Tech Tuesday?**\n[Tech Tuesdays ](https://www.plainsight.app/techtuesdaysdetroit)provides founders\, funders\, coders\, creatives\, and community builders in tech with free space to work and host events every Tuesday! \nDuring the day\, the space is available for hot desk coworking\, private meetings\, bootcamps\, and mentor programming. \nIn the evening\, space is available to host dinners\, happy hours\, and pitch events that bring the tech community together. \nTech Tuesdays Detroit is made possible by a partnership between Bamboo Detroit\, a local coworking space\, and Plain Sight\, an event ticketing platform that helps event hosts sell tickets\, attract sponsors and connect attendees.
URL:https://detroitartdao.com/event/tech-tuesdays-detroit-happy-hour-2
LOCATION:Bamboo\, 1420 Washington Blvd #301\, Detroit\, MI 48226\, Detroit\, MI\, us
CATEGORIES:Tech
ATTACH;FMTTYPE=image/jpeg:https://detroitartdao.com/wp-content/uploads/2023/05/1024x576-6rwsU3.tmp_.jpg
GEO:42.334057;-83.050438
X-APPLE-STRUCTURED-LOCATION;VALUE=URI;X-ADDRESS=Bamboo 1420 Washington Blvd #301 Detroit MI 48226 Detroit MI us;X-APPLE-RADIUS=500;X-TITLE=1420 Washington Blvd #301\, Detroit\, MI 48226:geo:-83.050438,42.334057
END:VEVENT
BEGIN:VEVENT
DTSTART;TZID=America/Detroit:20230627T180000
DTEND;TZID=America/Detroit:20230627T200000
DTSTAMP:20260424T084053
CREATED:20230531T133206Z
LAST-MODIFIED:20230627T151632Z
UID:10001228-1687888800-1687896000@detroitartdao.com
SUMMARY:Tech Tuesdays Detroit Happy Hour
DESCRIPTION:Join us for the Tech Tuesdays Detroit Happy Hour! Experience first hand the free workspace and event series designed to connect and empower founders\, funders\, coders\, creatives\, and community builders in the tech. \nLight food and signature cocktails will be provided. \nAt the kickoff\, you’ll have the chance to tour the space\, meet office hours mentors\, as well sign up to host and attend events happening at the space. \nSpecial Fireside Chat Guest Announced Soon. \n[Register today via Plain Sight.](https://events.plainsight.app/events/tech20tuesdays20detroit20happy20hour-MTg0Ny5UZWNoJTIwVHVlc2RheXMlMjBEZXRyb2l0JTIwSGFwcHklMjBIb3Vy/about) \n**What Is Tech Tuesday?**\n[Tech Tuesdays ](https://www.plainsight.app/techtuesdaysdetroit)provides founders\, funders\, coders\, creatives\, and community builders in tech with free space to work and host events every Tuesday! \nDuring the day\, the space is available for hot desk coworking\, private meetings\, bootcamps\, and mentor programming. \nIn the evening\, space is available to host dinners\, happy hours\, and pitch events that bring the tech community together. \nTech Tuesdays Detroit is made possible by a partnership between Bamboo Detroit\, a local coworking space\, and Plain Sight\, an event ticketing platform that helps event hosts sell tickets\, attract sponsors and connect attendees.
URL:https://detroitartdao.com/event/tech-tuesdays-detroit-happy-hour
LOCATION:Bamboo\, 1420 Washington Blvd #301\, Detroit\, MI 48226\, Detroit\, MI\, us
CATEGORIES:Tech
ATTACH;FMTTYPE=image/jpeg:https://detroitartdao.com/wp-content/uploads/2023/05/1024x576-6rwsU3.tmp_.jpg
GEO:42.334057;-83.050438
X-APPLE-STRUCTURED-LOCATION;VALUE=URI;X-ADDRESS=Bamboo 1420 Washington Blvd #301 Detroit MI 48226 Detroit MI us;X-APPLE-RADIUS=500;X-TITLE=1420 Washington Blvd #301\, Detroit\, MI 48226:geo:-83.050438,42.334057
END:VEVENT
END:VCALENDAR