BEGIN:VCALENDAR
VERSION:2.0
PRODID:-//Discover Detroit Art - ECPv6.0.1//NONSGML v1.0//EN
CALSCALE:GREGORIAN
METHOD:PUBLISH
X-ORIGINAL-URL:https://detroitartdao.com
X-WR-CALDESC:Events for Discover Detroit Art
REFRESH-INTERVAL;VALUE=DURATION:PT1H
X-Robots-Tag:noindex
X-PUBLISHED-TTL:PT1H
BEGIN:VTIMEZONE
TZID:America/Detroit
BEGIN:DAYLIGHT
TZOFFSETFROM:-0500
TZOFFSETTO:-0400
TZNAME:EDT
DTSTART:20230312T070000
END:DAYLIGHT
BEGIN:STANDARD
TZOFFSETFROM:-0400
TZOFFSETTO:-0500
TZNAME:EST
DTSTART:20231105T060000
END:STANDARD
END:VTIMEZONE
BEGIN:VEVENT
DTSTART;TZID=America/Detroit:20230705T190000
DTEND;TZID=America/Detroit:20230705T203000
DTSTAMP:20260424T153624
CREATED:20230624T150129Z
LAST-MODIFIED:20230704T150157Z
UID:10001240-1688583600-1688589000@detroitartdao.com
SUMMARY:DNewTech-July 2023-NO meetup
DESCRIPTION:**Hello DNT community!** \nEnjoy your Summer and if you have any entrepreneurs who wants to present\, please send them our way! 🙂\nHope to see you soon! – keep being *inspired and keep going!* \n**Special shout out to our sponsors** **[VELN](https://www.velnlegal.com/)** | **[Collider](https://collider.altimetrik.com/)** and our **community supporter** **[1Million Cups Metro Detroit](1millioncups.com/metrodetroit)**! \n**Community announcement:** n/a
URL:https://detroitartdao.com/event/dnewtech-july-2023-no-meetup
LOCATION:Altimetrik Collider\, 1500 Woodward Ave floor 4\, Detroit\, MI\, 48226\, us
CATEGORIES:Tech
ATTACH;FMTTYPE=image/jpeg:https://detroitartdao.com/wp-content/uploads/2023/05/1024x576-Mu1OPa.tmp_.jpg
GEO:42.335205;-83.04912
X-APPLE-STRUCTURED-LOCATION;VALUE=URI;X-ADDRESS=Altimetrik Collider 1500 Woodward Ave floor 4 Detroit MI 48226 us;X-APPLE-RADIUS=500;X-TITLE=1500 Woodward Ave floor 4:geo:-83.04912,42.335205
END:VEVENT
BEGIN:VEVENT
DTSTART;TZID=America/Detroit:20230705T200000
DTEND;TZID=America/Detroit:20230705T230000
DTSTAMP:20260424T153624
CREATED:20230206T131342Z
LAST-MODIFIED:20230206T132153Z
UID:10000866-1688587200-1688598000@detroitartdao.com
SUMMARY:Bitcoin & Beer
DESCRIPTION:Networking at Detroit Beer Company every Wednesday. \nCurious or want to learn more about the web3\, blockchain and crypto space? Come have a beer and meet like minded entrepreneurs and tech processionals that’s in the space from Detroit! \n 
URL:https://detroitartdao.com/event/bitcoin-beer-5/2023-07-05
LOCATION:Detroit Beer Company\, 1529 Broadway St\, Detroit\, MI\, 48226\, United States
CATEGORIES:Networking,Tech
GEO:42.3358047;-83.048912
X-APPLE-STRUCTURED-LOCATION;VALUE=URI;X-ADDRESS=Detroit Beer Company 1529 Broadway St Detroit MI 48226 United States;X-APPLE-RADIUS=500;X-TITLE=1529 Broadway St:geo:-83.048912,42.3358047
END:VEVENT
END:VCALENDAR